BEGIN:VCALENDAR
VERSION:2.0
PRODID:-//OLD Atlanta Parent - ECPv6.15.11//NONSGML v1.0//EN
CALSCALE:GREGORIAN
METHOD:PUBLISH
X-ORIGINAL-URL:https://atlantaparent.guidoclients.com
X-WR-CALDESC:Events for OLD Atlanta Parent
REFRESH-INTERVAL;VALUE=DURATION:PT1H
X-Robots-Tag:noindex
X-PUBLISHED-TTL:PT1H
BEGIN:VTIMEZONE
TZID:America/New_York
BEGIN:DAYLIGHT
TZOFFSETFROM:-0500
TZOFFSETTO:-0400
TZNAME:EDT
DTSTART:20240310T070000
END:DAYLIGHT
BEGIN:STANDARD
TZOFFSETFROM:-0400
TZOFFSETTO:-0500
TZNAME:EST
DTSTART:20241103T060000
END:STANDARD
BEGIN:DAYLIGHT
TZOFFSETFROM:-0500
TZOFFSETTO:-0400
TZNAME:EDT
DTSTART:20250309T070000
END:DAYLIGHT
BEGIN:STANDARD
TZOFFSETFROM:-0400
TZOFFSETTO:-0500
TZNAME:EST
DTSTART:20251102T060000
END:STANDARD
BEGIN:DAYLIGHT
TZOFFSETFROM:-0500
TZOFFSETTO:-0400
TZNAME:EDT
DTSTART:20260308T070000
END:DAYLIGHT
BEGIN:STANDARD
TZOFFSETFROM:-0400
TZOFFSETTO:-0500
TZNAME:EST
DTSTART:20261101T060000
END:STANDARD
END:VTIMEZONE
BEGIN:VEVENT
DTSTART;TZID=America/New_York:20250524T100000
DTEND;TZID=America/New_York:20250524T170000
DTSTAMP:20260422T062528
CREATED:20250129T183102Z
LAST-MODIFIED:20250217T182029Z
UID:10009031-1748080800-1748106000@atlantaparent.guidoclients.com
SUMMARY:Super Spring Saturdays
DESCRIPTION:Enjoy tons of farm fun\, including a cow train\, zip lines\, the petting zoo\, paintball and more. April 12-May 24. Sat. 10 a.m.-5 p.m. $14.95; ages 1 and younger\, free; strawberries\, extra.
URL:https://atlantaparent.guidoclients.com/event/super-spring-saturdays/2025-05-24/
LOCATION:Washington Farms\, 5691 Hog Mountain Rd.\, Bogart
ATTACH;FMTTYPE=image/jpeg:https://atlantaparent.guidoclients.com/wp-content/uploads/2022/03/Picking-38-scaled-e1675352074311.jpg
GEO:33.8790019;-83.5510718
X-APPLE-STRUCTURED-LOCATION;VALUE=URI;X-ADDRESS=Washington Farms 5691 Hog Mountain Rd. Bogart;X-APPLE-RADIUS=500;X-TITLE=5691 Hog Mountain Rd.:geo:-83.5510718,33.8790019
END:VEVENT
END:VCALENDAR