BEGIN:VCALENDAR
VERSION:2.0
PRODID:-//OLD Atlanta Parent - ECPv6.15.11//NONSGML v1.0//EN
CALSCALE:GREGORIAN
METHOD:PUBLISH
X-ORIGINAL-URL:https://atlantaparent.guidoclients.com
X-WR-CALDESC:Events for OLD Atlanta Parent
REFRESH-INTERVAL;VALUE=DURATION:PT1H
X-Robots-Tag:noindex
X-PUBLISHED-TTL:PT1H
BEGIN:VTIMEZONE
TZID:America/New_York
BEGIN:DAYLIGHT
TZOFFSETFROM:-0500
TZOFFSETTO:-0400
TZNAME:EDT
DTSTART:20160313T070000
END:DAYLIGHT
BEGIN:STANDARD
TZOFFSETFROM:-0400
TZOFFSETTO:-0500
TZNAME:EST
DTSTART:20161106T060000
END:STANDARD
BEGIN:DAYLIGHT
TZOFFSETFROM:-0500
TZOFFSETTO:-0400
TZNAME:EDT
DTSTART:20170312T070000
END:DAYLIGHT
BEGIN:STANDARD
TZOFFSETFROM:-0400
TZOFFSETTO:-0500
TZNAME:EST
DTSTART:20171105T060000
END:STANDARD
BEGIN:DAYLIGHT
TZOFFSETFROM:-0500
TZOFFSETTO:-0400
TZNAME:EDT
DTSTART:20180311T070000
END:DAYLIGHT
BEGIN:STANDARD
TZOFFSETFROM:-0400
TZOFFSETTO:-0500
TZNAME:EST
DTSTART:20181104T060000
END:STANDARD
BEGIN:DAYLIGHT
TZOFFSETFROM:-0500
TZOFFSETTO:-0400
TZNAME:EDT
DTSTART:20190310T070000
END:DAYLIGHT
BEGIN:STANDARD
TZOFFSETFROM:-0400
TZOFFSETTO:-0500
TZNAME:EST
DTSTART:20191103T060000
END:STANDARD
BEGIN:DAYLIGHT
TZOFFSETFROM:-0500
TZOFFSETTO:-0400
TZNAME:EDT
DTSTART:20200308T070000
END:DAYLIGHT
BEGIN:STANDARD
TZOFFSETFROM:-0400
TZOFFSETTO:-0500
TZNAME:EST
DTSTART:20201101T060000
END:STANDARD
BEGIN:DAYLIGHT
TZOFFSETFROM:-0500
TZOFFSETTO:-0400
TZNAME:EDT
DTSTART:20210314T070000
END:DAYLIGHT
BEGIN:STANDARD
TZOFFSETFROM:-0400
TZOFFSETTO:-0500
TZNAME:EST
DTSTART:20211107T060000
END:STANDARD
END:VTIMEZONE
BEGIN:VTIMEZONE
TZID:UTC
BEGIN:STANDARD
TZOFFSETFROM:+0000
TZOFFSETTO:+0000
TZNAME:UTC
DTSTART:20160101T000000
END:STANDARD
END:VTIMEZONE
BEGIN:VEVENT
DTSTART;TZID=America/New_York:20200301T180000
DTEND;TZID=America/New_York:20200301T180000
DTSTAMP:20260422T110616
CREATED:20200218T014424Z
LAST-MODIFIED:20200218T014424Z
UID:10004908-1583085600-1583085600@atlantaparent.guidoclients.com
SUMMARY:Sounds of Life: A Celebration of Women’s History Month
DESCRIPTION:A show of women featuring blues\, R&B\, jazz\, indie-pop and spoken word.
URL:https://atlantaparent.guidoclients.com/event/sounds-of-life-a-celebration-of-womens-history-month/
LOCATION:Venkman’s\, 740 Ralph McGill Blvd. NE\, Atlanta
GEO:33.7667816;-84.3632379
X-APPLE-STRUCTURED-LOCATION;VALUE=URI;X-ADDRESS=Venkman’s 740 Ralph McGill Blvd. NE Atlanta;X-APPLE-RADIUS=500;X-TITLE=740 Ralph McGill Blvd. NE:geo:-84.3632379,33.7667816
END:VEVENT
BEGIN:VEVENT
DTSTART;TZID=UTC:20170826T103000
DTEND;TZID=UTC:20170826T120000
DTSTAMP:20260422T110616
CREATED:20170123T223221Z
LAST-MODIFIED:20170718T141513Z
UID:10000944-1503743400-1503748800@atlantaparent.guidoclients.com
SUMMARY:Princess Brunch: Moana
DESCRIPTION:Showings of Disney’s “Moana” and a special brunch menu which includes princess flapjacks and other themed specials. Aug. 5\, 12 and 26. 10:30 a.m. Advance reservations encouraged. Free show; food for purchase.
URL:https://atlantaparent.guidoclients.com/event/princess-brunch-2/2017-08-26/
LOCATION:Venkman’s\, 740 Ralph McGill Blvd. NE\, Atlanta
GEO:33.7667816;-84.3632379
X-APPLE-STRUCTURED-LOCATION;VALUE=URI;X-ADDRESS=Venkman’s 740 Ralph McGill Blvd. NE Atlanta;X-APPLE-RADIUS=500;X-TITLE=740 Ralph McGill Blvd. NE:geo:-84.3632379,33.7667816
END:VEVENT
BEGIN:VEVENT
DTSTART;TZID=America/New_York:20170729T103000
DTEND;TZID=America/New_York:20170729T120000
DTSTAMP:20260422T110616
CREATED:20170621T205019Z
LAST-MODIFIED:20170626T154519Z
UID:10002016-1501324200-1501329600@atlantaparent.guidoclients.com
SUMMARY:Princess Brunch: Frozen Sing-a-Long
DESCRIPTION:Showings of Disney’s “Frozen” and a special brunch menu which includes pink princess flapjacks and other themed specials. July 1\, 15\, 22 and 29. 10:30 a.m. Advance reservations encouraged. Free show\, food for purchase.
URL:https://atlantaparent.guidoclients.com/event/princess-brunch-frozen-sing-long/2017-07-29/
LOCATION:Venkman’s\, 740 Ralph McGill Blvd. NE\, Atlanta
ATTACH;FMTTYPE=image/jpeg:https://atlantaparent.guidoclients.com/wp-content/uploads/2017/06/rehost-2016-9-13-71f56b44-383f-46b6-ae02-60501c42c4c3.jpg
GEO:33.7667816;-84.3632379
X-APPLE-STRUCTURED-LOCATION;VALUE=URI;X-ADDRESS=Venkman’s 740 Ralph McGill Blvd. NE Atlanta;X-APPLE-RADIUS=500;X-TITLE=740 Ralph McGill Blvd. NE:geo:-84.3632379,33.7667816
END:VEVENT
BEGIN:VEVENT
DTSTART;TZID=UTC:20170527T103000
DTEND;TZID=UTC:20170527T120000
DTSTAMP:20260422T110616
CREATED:20170419T011407Z
LAST-MODIFIED:20170424T204015Z
UID:10002475-1495881000-1495886400@atlantaparent.guidoclients.com
SUMMARY:Princess Brunch: Tangled
DESCRIPTION:Showings of Disney’s “Tangled\,” a special brunch menu which includes pink princess flapjacks and other themed specials. May 6\, 20 and 27. 10:30 a.m. Advance reservations encouraged. Free show\, food for purchase.
URL:https://atlantaparent.guidoclients.com/event/princess-brunch-tangled/2017-05-27/
LOCATION:Venkman’s\, 740 Ralph McGill Blvd. NE\, Atlanta
ATTACH;FMTTYPE=image/jpeg:https://atlantaparent.guidoclients.com/wp-content/uploads/2017/04/TANGLED.jpg
GEO:33.7667816;-84.3632379
X-APPLE-STRUCTURED-LOCATION;VALUE=URI;X-ADDRESS=Venkman’s 740 Ralph McGill Blvd. NE Atlanta;X-APPLE-RADIUS=500;X-TITLE=740 Ralph McGill Blvd. NE:geo:-84.3632379,33.7667816
END:VEVENT
BEGIN:VEVENT
DTSTART;TZID=UTC:20170325T103000
DTEND;TZID=UTC:20170325T123000
DTSTAMP:20260422T110616
CREATED:20170224T000746Z
LAST-MODIFIED:20170224T000746Z
UID:10002294-1490437800-1490445000@atlantaparent.guidoclients.com
SUMMARY:Princess Brunch: The Little Mermaid
DESCRIPTION:Showings of Disney’s “The Little Mermaid\,” a special brunch menu which includes pink princess flapjacks and other themed specials. March 4\, 18 and 25. 10:30 a.m. Advance reservations encouraged. Free show\, food for purchase.
URL:https://atlantaparent.guidoclients.com/event/princess-brunch-little-mermaid/2017-03-25/
LOCATION:Venkman’s\, 740 Ralph McGill Blvd. NE\, Atlanta
GEO:33.7667816;-84.3632379
X-APPLE-STRUCTURED-LOCATION;VALUE=URI;X-ADDRESS=Venkman’s 740 Ralph McGill Blvd. NE Atlanta;X-APPLE-RADIUS=500;X-TITLE=740 Ralph McGill Blvd. NE:geo:-84.3632379,33.7667816
END:VEVENT
END:VCALENDAR