BEGIN:VCALENDAR
VERSION:2.0
PRODID:-//OLD Atlanta Parent - ECPv6.15.11//NONSGML v1.0//EN
CALSCALE:GREGORIAN
METHOD:PUBLISH
X-WR-CALNAME:OLD Atlanta Parent
X-ORIGINAL-URL:https://atlantaparent.guidoclients.com
X-WR-CALDESC:Events for OLD Atlanta Parent
REFRESH-INTERVAL;VALUE=DURATION:PT1H
X-Robots-Tag:noindex
X-PUBLISHED-TTL:PT1H
BEGIN:VTIMEZONE
TZID:America/New_York
BEGIN:DAYLIGHT
TZOFFSETFROM:-0500
TZOFFSETTO:-0400
TZNAME:EDT
DTSTART:20170312T070000
END:DAYLIGHT
BEGIN:STANDARD
TZOFFSETFROM:-0400
TZOFFSETTO:-0500
TZNAME:EST
DTSTART:20171105T060000
END:STANDARD
BEGIN:DAYLIGHT
TZOFFSETFROM:-0500
TZOFFSETTO:-0400
TZNAME:EDT
DTSTART:20180311T070000
END:DAYLIGHT
BEGIN:STANDARD
TZOFFSETFROM:-0400
TZOFFSETTO:-0500
TZNAME:EST
DTSTART:20181104T060000
END:STANDARD
BEGIN:DAYLIGHT
TZOFFSETFROM:-0500
TZOFFSETTO:-0400
TZNAME:EDT
DTSTART:20190310T070000
END:DAYLIGHT
BEGIN:STANDARD
TZOFFSETFROM:-0400
TZOFFSETTO:-0500
TZNAME:EST
DTSTART:20191103T060000
END:STANDARD
END:VTIMEZONE
BEGIN:VEVENT
DTSTART;TZID=America/New_York:20181013T120000
DTEND;TZID=America/New_York:20181013T170000
DTSTAMP:20260423T025518
CREATED:20180913T173254Z
LAST-MODIFIED:20180913T191805Z
UID:10003228-1539432000-1539450000@atlantaparent.guidoclients.com
SUMMARY:Taste of Suwanee
DESCRIPTION:Local performers and restaurants\, kid zone including inflatable activities\, rides and games. Buford Hwy. and Lawrenceville-Suwanee Dam Rd.\, Suwanee. Free admission and parking\, tasting tickets and kid zone activities are extra.
URL:https://atlantaparent.guidoclients.com/event/taste-of-suwanee/
LOCATION:Town Center Park\, Buford Hwy. and Lawrenceville-Suwanee Dam Road\, Suwanee
END:VEVENT
END:VCALENDAR