BEGIN:VCALENDAR
VERSION:2.0
PRODID:-//OLD Atlanta Parent - ECPv6.15.11//NONSGML v1.0//EN
CALSCALE:GREGORIAN
METHOD:PUBLISH
X-WR-CALNAME:OLD Atlanta Parent
X-ORIGINAL-URL:https://atlantaparent.guidoclients.com
X-WR-CALDESC:Events for OLD Atlanta Parent
REFRESH-INTERVAL;VALUE=DURATION:PT1H
X-Robots-Tag:noindex
X-PUBLISHED-TTL:PT1H
BEGIN:VTIMEZONE
TZID:America/New_York
BEGIN:DAYLIGHT
TZOFFSETFROM:-0500
TZOFFSETTO:-0400
TZNAME:EDT
DTSTART:20200308T070000
END:DAYLIGHT
BEGIN:STANDARD
TZOFFSETFROM:-0400
TZOFFSETTO:-0500
TZNAME:EST
DTSTART:20201101T060000
END:STANDARD
BEGIN:DAYLIGHT
TZOFFSETFROM:-0500
TZOFFSETTO:-0400
TZNAME:EDT
DTSTART:20210314T070000
END:DAYLIGHT
BEGIN:STANDARD
TZOFFSETFROM:-0400
TZOFFSETTO:-0500
TZNAME:EST
DTSTART:20211107T060000
END:STANDARD
BEGIN:DAYLIGHT
TZOFFSETFROM:-0500
TZOFFSETTO:-0400
TZNAME:EDT
DTSTART:20220313T070000
END:DAYLIGHT
BEGIN:STANDARD
TZOFFSETFROM:-0400
TZOFFSETTO:-0500
TZNAME:EST
DTSTART:20221106T060000
END:STANDARD
END:VTIMEZONE
BEGIN:VEVENT
DTSTART;TZID=America/New_York:20210328T130000
DTEND;TZID=America/New_York:20210328T160000
DTSTAMP:20260423T005853
CREATED:20200212T050049Z
LAST-MODIFIED:20210315T164707Z
UID:10003992-1616936400-1616947200@atlantaparent.guidoclients.com
SUMMARY:Easter Egg Hunt
DESCRIPTION:Four Easter egg hunts for different age groups. Registration required. $5.
URL:https://atlantaparent.guidoclients.com/event/evening-with-the-easter-bunny/
LOCATION:Tolleson Park\, 3515 McCauley Rd.\, Smyrna
GEO:33.8680893;-84.5202528
X-APPLE-STRUCTURED-LOCATION;VALUE=URI;X-ADDRESS=Tolleson Park 3515 McCauley Rd. Smyrna;X-APPLE-RADIUS=500;X-TITLE=3515 McCauley Rd.:geo:-84.5202528,33.8680893
END:VEVENT
END:VCALENDAR