BEGIN:VCALENDAR
VERSION:2.0
PRODID:-//OLD Atlanta Parent - ECPv6.15.11//NONSGML v1.0//EN
CALSCALE:GREGORIAN
METHOD:PUBLISH
X-ORIGINAL-URL:https://atlantaparent.guidoclients.com
X-WR-CALDESC:Events for OLD Atlanta Parent
REFRESH-INTERVAL;VALUE=DURATION:PT1H
X-Robots-Tag:noindex
X-PUBLISHED-TTL:PT1H
BEGIN:VTIMEZONE
TZID:America/New_York
BEGIN:DAYLIGHT
TZOFFSETFROM:-0500
TZOFFSETTO:-0400
TZNAME:EDT
DTSTART:20180311T070000
END:DAYLIGHT
BEGIN:STANDARD
TZOFFSETFROM:-0400
TZOFFSETTO:-0500
TZNAME:EST
DTSTART:20181104T060000
END:STANDARD
BEGIN:DAYLIGHT
TZOFFSETFROM:-0500
TZOFFSETTO:-0400
TZNAME:EDT
DTSTART:20190310T070000
END:DAYLIGHT
BEGIN:STANDARD
TZOFFSETFROM:-0400
TZOFFSETTO:-0500
TZNAME:EST
DTSTART:20191103T060000
END:STANDARD
BEGIN:DAYLIGHT
TZOFFSETFROM:-0500
TZOFFSETTO:-0400
TZNAME:EDT
DTSTART:20200308T070000
END:DAYLIGHT
BEGIN:STANDARD
TZOFFSETFROM:-0400
TZOFFSETTO:-0500
TZNAME:EST
DTSTART:20201101T060000
END:STANDARD
BEGIN:DAYLIGHT
TZOFFSETFROM:-0500
TZOFFSETTO:-0400
TZNAME:EDT
DTSTART:20210314T070000
END:DAYLIGHT
BEGIN:STANDARD
TZOFFSETFROM:-0400
TZOFFSETTO:-0500
TZNAME:EST
DTSTART:20211107T060000
END:STANDARD
BEGIN:DAYLIGHT
TZOFFSETFROM:-0500
TZOFFSETTO:-0400
TZNAME:EDT
DTSTART:20220313T070000
END:DAYLIGHT
BEGIN:STANDARD
TZOFFSETFROM:-0400
TZOFFSETTO:-0500
TZNAME:EST
DTSTART:20221106T060000
END:STANDARD
BEGIN:DAYLIGHT
TZOFFSETFROM:-0500
TZOFFSETTO:-0400
TZNAME:EDT
DTSTART:20230312T070000
END:DAYLIGHT
BEGIN:STANDARD
TZOFFSETFROM:-0400
TZOFFSETTO:-0500
TZNAME:EST
DTSTART:20231105T060000
END:STANDARD
BEGIN:DAYLIGHT
TZOFFSETFROM:-0500
TZOFFSETTO:-0400
TZNAME:EDT
DTSTART:20240310T070000
END:DAYLIGHT
BEGIN:STANDARD
TZOFFSETFROM:-0400
TZOFFSETTO:-0500
TZNAME:EST
DTSTART:20241103T060000
END:STANDARD
BEGIN:DAYLIGHT
TZOFFSETFROM:-0500
TZOFFSETTO:-0400
TZNAME:EDT
DTSTART:20250309T070000
END:DAYLIGHT
BEGIN:STANDARD
TZOFFSETFROM:-0400
TZOFFSETTO:-0500
TZNAME:EST
DTSTART:20251102T060000
END:STANDARD
BEGIN:DAYLIGHT
TZOFFSETFROM:-0500
TZOFFSETTO:-0400
TZNAME:EDT
DTSTART:20260308T070000
END:DAYLIGHT
BEGIN:STANDARD
TZOFFSETFROM:-0400
TZOFFSETTO:-0500
TZNAME:EST
DTSTART:20261101T060000
END:STANDARD
END:VTIMEZONE
BEGIN:VTIMEZONE
TZID:UTC
BEGIN:STANDARD
TZOFFSETFROM:+0000
TZOFFSETTO:+0000
TZNAME:UTC
DTSTART:20230101T000000
END:STANDARD
END:VTIMEZONE
BEGIN:VEVENT
DTSTART;TZID=America/New_York:20251212T190000
DTEND;TZID=America/New_York:20251212T190000
DTSTAMP:20260423T112300
CREATED:20251010T185313Z
LAST-MODIFIED:20251103T161734Z
UID:10008752-1765566000-1765566000@atlantaparent.guidoclients.com
SUMMARY:What A Wonderful World: Louis And Ella At Christmas
DESCRIPTION:Honor the legendary music of these stars with holiday classics and an exceptional band. $17-$22.
URL:https://atlantaparent.guidoclients.com/event/the-edge-effect-under-the-mistletoe/
LOCATION:The Nixon Centre for the Arts\, 1523 Lower Fayetteville Rd.\, Newnan
END:VEVENT
BEGIN:VEVENT
DTSTART;TZID=UTC:20240425T190000
DTEND;TZID=UTC:20240427T190000
DTSTAMP:20260423T112300
CREATED:20240311T221706Z
LAST-MODIFIED:20240321T184948Z
UID:10001264-1714071600-1714244400@atlantaparent.guidoclients.com
SUMMARY:Roald Dahl’s Matilda the Musical
DESCRIPTION:East Coweta High School On Stage presents this favorite children’s tale as a musical. April 25-27\, 7 p.m. $15. \n 
URL:https://atlantaparent.guidoclients.com/event/matilda-the-musical/
LOCATION:The Nixon Centre for the Arts\, 1523 Lower Fayetteville Rd.\, Newnan
END:VEVENT
BEGIN:VEVENT
DTSTART;TZID=America/New_York:20221204T150000
DTEND;TZID=America/New_York:20221204T150000
DTSTAMP:20260423T112300
CREATED:20221027T135253Z
LAST-MODIFIED:20221027T135253Z
UID:10006651-1670166000-1670166000@atlantaparent.guidoclients.com
SUMMARY:One Christmas Night in Memphis
DESCRIPTION:This tribute to Carl Perkins\, Johnny Cash\, Jerry Lee Lewis and Elvis Presley includes rockabilly\, country\, gospel and rock and roll music. $15-$20.
URL:https://atlantaparent.guidoclients.com/event/one-christmas-night-in-memphis-2/
LOCATION:The Nixon Centre for the Arts\, 1523 Lower Fayetteville Rd.\, Newnan
END:VEVENT
BEGIN:VEVENT
DTSTART;TZID=America/New_York:20211205T143000
DTEND;TZID=America/New_York:20211205T143000
DTSTAMP:20260423T112300
CREATED:20211115T150435Z
LAST-MODIFIED:20211115T150435Z
UID:10006127-1638714600-1638714600@atlantaparent.guidoclients.com
SUMMARY:Christmas at the Centre
DESCRIPTION:Listen to the sounds of the season with the Masterworks Chorale and The Gate City Brass Ensemble. $12; ages 6 and younger\, free.
URL:https://atlantaparent.guidoclients.com/event/christmas-at-the-centre/
LOCATION:The Nixon Centre for the Arts\, 1523 Lower Fayetteville Rd.\, Newnan
END:VEVENT
BEGIN:VEVENT
DTSTART;TZID=America/New_York:20191209T190000
DTEND;TZID=America/New_York:20191209T210000
DTSTAMP:20260423T112300
CREATED:20191029T183619Z
LAST-MODIFIED:20191029T183619Z
UID:10004698-1575918000-1575925200@atlantaparent.guidoclients.com
SUMMARY:Live from Nashville: Merry Country Christmas
DESCRIPTION:Your favorite Christmas songs are presented in authentic Nashville country style with exciting sets\, colorful costuming\, boot-scootin’ dancers and more.
URL:https://atlantaparent.guidoclients.com/event/live-from-nashville-merry-country-christmas/
LOCATION:The Nixon Centre for the Arts\, 1523 Lower Fayetteville Rd.\, Newnan
END:VEVENT
END:VCALENDAR