BEGIN:VCALENDAR
VERSION:2.0
PRODID:-//OLD Atlanta Parent - ECPv6.15.11//NONSGML v1.0//EN
CALSCALE:GREGORIAN
METHOD:PUBLISH
X-ORIGINAL-URL:https://atlantaparent.guidoclients.com
X-WR-CALDESC:Events for OLD Atlanta Parent
REFRESH-INTERVAL;VALUE=DURATION:PT1H
X-Robots-Tag:noindex
X-PUBLISHED-TTL:PT1H
BEGIN:VTIMEZONE
TZID:America/New_York
BEGIN:DAYLIGHT
TZOFFSETFROM:-0500
TZOFFSETTO:-0400
TZNAME:EDT
DTSTART:20230312T070000
END:DAYLIGHT
BEGIN:STANDARD
TZOFFSETFROM:-0400
TZOFFSETTO:-0500
TZNAME:EST
DTSTART:20231105T060000
END:STANDARD
BEGIN:DAYLIGHT
TZOFFSETFROM:-0500
TZOFFSETTO:-0400
TZNAME:EDT
DTSTART:20240310T070000
END:DAYLIGHT
BEGIN:STANDARD
TZOFFSETFROM:-0400
TZOFFSETTO:-0500
TZNAME:EST
DTSTART:20241103T060000
END:STANDARD
BEGIN:DAYLIGHT
TZOFFSETFROM:-0500
TZOFFSETTO:-0400
TZNAME:EDT
DTSTART:20250309T070000
END:DAYLIGHT
BEGIN:STANDARD
TZOFFSETFROM:-0400
TZOFFSETTO:-0500
TZNAME:EST
DTSTART:20251102T060000
END:STANDARD
BEGIN:DAYLIGHT
TZOFFSETFROM:-0500
TZOFFSETTO:-0400
TZNAME:EDT
DTSTART:20260308T070000
END:DAYLIGHT
BEGIN:STANDARD
TZOFFSETFROM:-0400
TZOFFSETTO:-0500
TZNAME:EST
DTSTART:20261101T060000
END:STANDARD
BEGIN:DAYLIGHT
TZOFFSETFROM:-0500
TZOFFSETTO:-0400
TZNAME:EDT
DTSTART:20270314T070000
END:DAYLIGHT
BEGIN:STANDARD
TZOFFSETFROM:-0400
TZOFFSETTO:-0500
TZNAME:EST
DTSTART:20271107T060000
END:STANDARD
END:VTIMEZONE
BEGIN:VEVENT
DTSTART;VALUE=DATE:20251122
DTEND;VALUE=DATE:20260120
DTSTAMP:20260424T152203
CREATED:20251001T131946Z
LAST-MODIFIED:20251020T164702Z
UID:10007655-1763769600-1768867199@atlantaparent.guidoclients.com
SUMMARY:Rink On The River Ice Skating Rink
DESCRIPTION:Enjoy this winter wonderland with a special ice skating rink. Nov. 22-Jan. 19. See website for schedule. $12-$15.
URL:https://atlantaparent.guidoclients.com/event/rink-on-the-river-ice-skating-rink/
LOCATION:The Mill on Etowah\, 225 Reformation Pkwy.\, Canton
ATTACH;FMTTYPE=image/jpeg:https://atlantaparent.guidoclients.com/wp-content/uploads/2024/10/11.25.23_ChristmasAtTheMill-218-e1729694262375.jpg
GEO:34.2358794;-84.4956944
X-APPLE-STRUCTURED-LOCATION;VALUE=URI;X-ADDRESS=The Mill on Etowah 225 Reformation Pkwy. Canton;X-APPLE-RADIUS=500;X-TITLE=225 Reformation Pkwy.:geo:-84.4956944,34.2358794
END:VEVENT
BEGIN:VEVENT
DTSTART;TZID=America/New_York:20240323T100000
DTEND;TZID=America/New_York:20240323T150000
DTSTAMP:20260424T152203
CREATED:20240301T162051Z
LAST-MODIFIED:20240314T172100Z
UID:10006401-1711188000-1711206000@atlantaparent.guidoclients.com
SUMMARY:Kid Biz Expo
DESCRIPTION:Shop kid-owned businesses from around metro Atlanta at this event supporting young entrepreneurship.
URL:https://atlantaparent.guidoclients.com/event/kid-biz-expo/
LOCATION:The Mill on Etowah\, 225 Reformation Pkwy.\, Canton
GEO:34.2358794;-84.4956944
X-APPLE-STRUCTURED-LOCATION;VALUE=URI;X-ADDRESS=The Mill on Etowah 225 Reformation Pkwy. Canton;X-APPLE-RADIUS=500;X-TITLE=225 Reformation Pkwy.:geo:-84.4956944,34.2358794
END:VEVENT
END:VCALENDAR