BEGIN:VCALENDAR
VERSION:2.0
PRODID:-//OLD Atlanta Parent - ECPv6.15.11//NONSGML v1.0//EN
CALSCALE:GREGORIAN
METHOD:PUBLISH
X-WR-CALNAME:OLD Atlanta Parent
X-ORIGINAL-URL:https://atlantaparent.guidoclients.com
X-WR-CALDESC:Events for OLD Atlanta Parent
REFRESH-INTERVAL;VALUE=DURATION:PT1H
X-Robots-Tag:noindex
X-PUBLISHED-TTL:PT1H
BEGIN:VTIMEZONE
TZID:America/New_York
BEGIN:DAYLIGHT
TZOFFSETFROM:-0500
TZOFFSETTO:-0400
TZNAME:EDT
DTSTART:20210314T070000
END:DAYLIGHT
BEGIN:STANDARD
TZOFFSETFROM:-0400
TZOFFSETTO:-0500
TZNAME:EST
DTSTART:20211107T060000
END:STANDARD
BEGIN:DAYLIGHT
TZOFFSETFROM:-0500
TZOFFSETTO:-0400
TZNAME:EDT
DTSTART:20220313T070000
END:DAYLIGHT
BEGIN:STANDARD
TZOFFSETFROM:-0400
TZOFFSETTO:-0500
TZNAME:EST
DTSTART:20221106T060000
END:STANDARD
BEGIN:DAYLIGHT
TZOFFSETFROM:-0500
TZOFFSETTO:-0400
TZNAME:EDT
DTSTART:20230312T070000
END:DAYLIGHT
BEGIN:STANDARD
TZOFFSETFROM:-0400
TZOFFSETTO:-0500
TZNAME:EST
DTSTART:20231105T060000
END:STANDARD
BEGIN:DAYLIGHT
TZOFFSETFROM:-0500
TZOFFSETTO:-0400
TZNAME:EDT
DTSTART:20240310T070000
END:DAYLIGHT
BEGIN:STANDARD
TZOFFSETFROM:-0400
TZOFFSETTO:-0500
TZNAME:EST
DTSTART:20241103T060000
END:STANDARD
BEGIN:DAYLIGHT
TZOFFSETFROM:-0500
TZOFFSETTO:-0400
TZNAME:EDT
DTSTART:20250309T070000
END:DAYLIGHT
BEGIN:STANDARD
TZOFFSETFROM:-0400
TZOFFSETTO:-0500
TZNAME:EST
DTSTART:20251102T060000
END:STANDARD
BEGIN:DAYLIGHT
TZOFFSETFROM:-0500
TZOFFSETTO:-0400
TZNAME:EDT
DTSTART:20260308T070000
END:DAYLIGHT
BEGIN:STANDARD
TZOFFSETFROM:-0400
TZOFFSETTO:-0500
TZNAME:EST
DTSTART:20261101T060000
END:STANDARD
END:VTIMEZONE
BEGIN:VEVENT
DTSTART;TZID=America/New_York:20250309T193000
DTEND;TZID=America/New_York:20250309T193000
DTSTAMP:20260424T042602
CREATED:20250219T195319Z
LAST-MODIFIED:20250219T195319Z
UID:10009106-1741548600-1741548600@atlantaparent.guidoclients.com
SUMMARY:A Taste of Ireland
DESCRIPTION:Travel back in time through the story of Ireland’s history with melodic folk-mash-ups\, acapella tap battles and heartwarming storytelling. $42-$82.
URL:https://atlantaparent.guidoclients.com/event/a-taste-of-ireland/
LOCATION:The Classic Center\, 300 N. Thomas St.\, Athens
GEO:33.9600749;-83.3726366
X-APPLE-STRUCTURED-LOCATION;VALUE=URI;X-ADDRESS=The Classic Center 300 N. Thomas St. Athens;X-APPLE-RADIUS=500;X-TITLE=300 N. Thomas St.:geo:-83.3726366,33.9600749
END:VEVENT
BEGIN:VEVENT
DTSTART;VALUE=DATE:20241220
DTEND;VALUE=DATE:20241222
DTSTAMP:20260424T042602
CREATED:20251001T170617Z
LAST-MODIFIED:20251027T153123Z
UID:10006708-1734652800-1734825599@atlantaparent.guidoclients.com
SUMMARY:The Nutcracker
DESCRIPTION:This beloved holiday fairytale follows a young girl’s journey through a fantasy world. Dec. 21\, 1 and 5:30 p.m. $33.75+.
URL:https://atlantaparent.guidoclients.com/event/the-nutcracker-7/
LOCATION:The Classic Center\, 300 N. Thomas St.\, Athens
GEO:33.9600749;-83.3726366
X-APPLE-STRUCTURED-LOCATION;VALUE=URI;X-ADDRESS=The Classic Center 300 N. Thomas St. Athens;X-APPLE-RADIUS=500;X-TITLE=300 N. Thomas St.:geo:-83.3726366,33.9600749
END:VEVENT
BEGIN:VEVENT
DTSTART;VALUE=DATE:20221125
DTEND;VALUE=DATE:20230227
DTSTAMP:20260424T042602
CREATED:20231001T173446Z
LAST-MODIFIED:20231020T161920Z
UID:10006156-1669334400-1677455999@atlantaparent.guidoclients.com
SUMMARY:Athens on Ice
DESCRIPTION:Go ice skating at this indoor rink that’s National Hockey League regulation sized. Reservation required. $15.
URL:https://atlantaparent.guidoclients.com/event/athens-on-ice/
LOCATION:The Classic Center\, 300 N. Thomas St.\, Athens
GEO:33.9600749;-83.3726366
X-APPLE-STRUCTURED-LOCATION;VALUE=URI;X-ADDRESS=The Classic Center 300 N. Thomas St. Athens;X-APPLE-RADIUS=500;X-TITLE=300 N. Thomas St.:geo:-83.3726366,33.9600749
END:VEVENT
BEGIN:VEVENT
DTSTART;TZID=America/New_York:20220814T140000
DTEND;TZID=America/New_York:20220814T170000
DTSTAMP:20260424T042602
CREATED:20220707T174349Z
LAST-MODIFIED:20220815T123230Z
UID:10006481-1660485600-1660496400@atlantaparent.guidoclients.com
SUMMARY:Ballooniversity
DESCRIPTION:Created by burton + BURTON\, see an incredible exhibit with more than 100\,000 balloons focused on “The Future is Ours” and celebrating space and exploration\, along with live entertainers. Reservation required. Free admissions; donations accepted for the Boys & Girls Clubs of Athens and Extra Special People.
URL:https://atlantaparent.guidoclients.com/event/ballooniversity/
LOCATION:The Classic Center\, 300 N. Thomas St.\, Athens
ATTACH;FMTTYPE=image/jpeg:https://atlantaparent.guidoclients.com/wp-content/uploads/2022/07/BV22_7-e1657215623673.jpg
GEO:33.9600749;-83.3726366
X-APPLE-STRUCTURED-LOCATION;VALUE=URI;X-ADDRESS=The Classic Center 300 N. Thomas St. Athens;X-APPLE-RADIUS=500;X-TITLE=300 N. Thomas St.:geo:-83.3726366,33.9600749
END:VEVENT
END:VCALENDAR