BEGIN:VCALENDAR
VERSION:2.0
PRODID:-//OLD Atlanta Parent - ECPv6.15.11//NONSGML v1.0//EN
CALSCALE:GREGORIAN
METHOD:PUBLISH
X-WR-CALNAME:OLD Atlanta Parent
X-ORIGINAL-URL:https://atlantaparent.guidoclients.com
X-WR-CALDESC:Events for OLD Atlanta Parent
REFRESH-INTERVAL;VALUE=DURATION:PT1H
X-Robots-Tag:noindex
X-PUBLISHED-TTL:PT1H
BEGIN:VTIMEZONE
TZID:UTC
BEGIN:STANDARD
TZOFFSETFROM:+0000
TZOFFSETTO:+0000
TZNAME:UTC
DTSTART:20160101T000000
END:STANDARD
END:VTIMEZONE
BEGIN:VEVENT
DTSTART;TZID=UTC:20170513T120000
DTEND;TZID=UTC:20170513T150000
DTSTAMP:20260424T104208
CREATED:20170419T012423Z
LAST-MODIFIED:20170424T235022Z
UID:10001400-1494676800-1494687600@atlantaparent.guidoclients.com
SUMMARY:Spark Saturday: Family Ties
DESCRIPTION:Celebrate diversity in family structures. Kids can create their own family tree\, design a family collage or build a house. Adults\, $16; 17 and younger\, free admission for the day.
URL:https://atlantaparent.guidoclients.com/event/spark-saturday-family-ties/
LOCATION:The Center for Civil and Human Rights\, 100 Ivan Allen Jr. Boulevard\, Atlanta
ATTACH;FMTTYPE=image/jpeg:https://atlantaparent.guidoclients.com/wp-content/uploads/2017/04/Spark-Saturday.jpg
GEO:33.764055;-84.3930512
X-APPLE-STRUCTURED-LOCATION;VALUE=URI;X-ADDRESS=The Center for Civil and Human Rights 100 Ivan Allen Jr. Boulevard Atlanta;X-APPLE-RADIUS=500;X-TITLE=100 Ivan Allen Jr. Boulevard:geo:-84.3930512,33.764055
END:VEVENT
END:VCALENDAR