BEGIN:VCALENDAR
VERSION:2.0
PRODID:-//OLD Atlanta Parent - ECPv6.15.11//NONSGML v1.0//EN
CALSCALE:GREGORIAN
METHOD:PUBLISH
X-WR-CALNAME:OLD Atlanta Parent
X-ORIGINAL-URL:https://atlantaparent.guidoclients.com
X-WR-CALDESC:Events for OLD Atlanta Parent
REFRESH-INTERVAL;VALUE=DURATION:PT1H
X-Robots-Tag:noindex
X-PUBLISHED-TTL:PT1H
BEGIN:VTIMEZONE
TZID:America/New_York
BEGIN:DAYLIGHT
TZOFFSETFROM:-0500
TZOFFSETTO:-0400
TZNAME:EDT
DTSTART:20180311T070000
END:DAYLIGHT
BEGIN:STANDARD
TZOFFSETFROM:-0400
TZOFFSETTO:-0500
TZNAME:EST
DTSTART:20181104T060000
END:STANDARD
BEGIN:DAYLIGHT
TZOFFSETFROM:-0500
TZOFFSETTO:-0400
TZNAME:EDT
DTSTART:20190310T070000
END:DAYLIGHT
BEGIN:STANDARD
TZOFFSETFROM:-0400
TZOFFSETTO:-0500
TZNAME:EST
DTSTART:20191103T060000
END:STANDARD
BEGIN:DAYLIGHT
TZOFFSETFROM:-0500
TZOFFSETTO:-0400
TZNAME:EDT
DTSTART:20200308T070000
END:DAYLIGHT
BEGIN:STANDARD
TZOFFSETFROM:-0400
TZOFFSETTO:-0500
TZNAME:EST
DTSTART:20201101T060000
END:STANDARD
BEGIN:DAYLIGHT
TZOFFSETFROM:-0500
TZOFFSETTO:-0400
TZNAME:EDT
DTSTART:20210314T070000
END:DAYLIGHT
BEGIN:STANDARD
TZOFFSETFROM:-0400
TZOFFSETTO:-0500
TZNAME:EST
DTSTART:20211107T060000
END:STANDARD
BEGIN:DAYLIGHT
TZOFFSETFROM:-0500
TZOFFSETTO:-0400
TZNAME:EDT
DTSTART:20220313T070000
END:DAYLIGHT
BEGIN:STANDARD
TZOFFSETFROM:-0400
TZOFFSETTO:-0500
TZNAME:EST
DTSTART:20221106T060000
END:STANDARD
BEGIN:DAYLIGHT
TZOFFSETFROM:-0500
TZOFFSETTO:-0400
TZNAME:EDT
DTSTART:20230312T070000
END:DAYLIGHT
BEGIN:STANDARD
TZOFFSETFROM:-0400
TZOFFSETTO:-0500
TZNAME:EST
DTSTART:20231105T060000
END:STANDARD
BEGIN:DAYLIGHT
TZOFFSETFROM:-0500
TZOFFSETTO:-0400
TZNAME:EDT
DTSTART:20240310T070000
END:DAYLIGHT
BEGIN:STANDARD
TZOFFSETFROM:-0400
TZOFFSETTO:-0500
TZNAME:EST
DTSTART:20241103T060000
END:STANDARD
BEGIN:DAYLIGHT
TZOFFSETFROM:-0500
TZOFFSETTO:-0400
TZNAME:EDT
DTSTART:20250309T070000
END:DAYLIGHT
BEGIN:STANDARD
TZOFFSETFROM:-0400
TZOFFSETTO:-0500
TZNAME:EST
DTSTART:20251102T060000
END:STANDARD
BEGIN:DAYLIGHT
TZOFFSETFROM:-0500
TZOFFSETTO:-0400
TZNAME:EDT
DTSTART:20260308T070000
END:DAYLIGHT
BEGIN:STANDARD
TZOFFSETFROM:-0400
TZOFFSETTO:-0500
TZNAME:EST
DTSTART:20261101T060000
END:STANDARD
END:VTIMEZONE
BEGIN:VEVENT
DTSTART;VALUE=DATE:20251205
DTEND;VALUE=DATE:20251229
DTSTAMP:20260425T132907
CREATED:20251121T171321Z
LAST-MODIFIED:20251205T155654Z
UID:10010275-1764892800-1766966399@atlantaparent.guidoclients.com
SUMMARY:Frederick
DESCRIPTION:Casey Gardner Ford \nThis heartwarming musical celebrates the power of imagination and the beauty of being yourself.  Dec. 5-28. See website for showtimes. $10-$45; ages 2 and younger\, free.
URL:https://atlantaparent.guidoclients.com/event/frederick/
LOCATION:Synchronicity Theatre\, 1545 Peachtree Street\, Atlanta
ATTACH;FMTTYPE=image/jpeg:https://atlantaparent.guidoclients.com/wp-content/uploads/2025/11/1Q1A0860-scaled-e1764950196658.jpg
GEO:33.7972669;-84.3882065
X-APPLE-STRUCTURED-LOCATION;VALUE=URI;X-ADDRESS=Synchronicity Theatre 1545 Peachtree Street Atlanta;X-APPLE-RADIUS=500;X-TITLE=1545 Peachtree Street:geo:-84.3882065,33.7972669
END:VEVENT
BEGIN:VEVENT
DTSTART;VALUE=DATE:20250204
DTEND;VALUE=DATE:20250303
DTSTAMP:20260425T132907
CREATED:20250120T155512Z
LAST-MODIFIED:20250303T133258Z
UID:10008980-1738627200-1740959999@atlantaparent.guidoclients.com
SUMMARY:Petite Rouge
DESCRIPTION:This musical follows a Cajun Red Riding Hood with a big\, bad gator in the wolf role on a wild chase through the bayou. Feb. 4-March 2. See website for showtimes. $15-$45; ages 2 and younger\, free.
URL:https://atlantaparent.guidoclients.com/event/petite-rouge/
LOCATION:Synchronicity Theatre\, 1545 Peachtree Street\, Atlanta
ATTACH;FMTTYPE=image/jpeg:https://atlantaparent.guidoclients.com/wp-content/uploads/2025/01/PetiteRouge_Production-0207-scaled-e1738856066554.jpg
GEO:33.7972669;-84.3882065
X-APPLE-STRUCTURED-LOCATION;VALUE=URI;X-ADDRESS=Synchronicity Theatre 1545 Peachtree Street Atlanta;X-APPLE-RADIUS=500;X-TITLE=1545 Peachtree Street:geo:-84.3882065,33.7972669
END:VEVENT
BEGIN:VEVENT
DTSTART;VALUE=DATE:20241206
DTEND;VALUE=DATE:20241230
DTSTAMP:20260425T132907
CREATED:20241120T050016Z
LAST-MODIFIED:20241121T180915Z
UID:10003960-1733443200-1735516799@atlantaparent.guidoclients.com
SUMMARY:A Year With Frog and Toad
DESCRIPTION:Jerry Siegel \nFollow cheerful Frog and grumpy Toad through their fun-filled escapades with this story of  friendship that endures every season. Dec. 6-29. See website for showtimes. $15-$45; ages 2 and younger\, free.
URL:https://atlantaparent.guidoclients.com/event/a-year-with-frog-and-toad/
LOCATION:Synchronicity Theatre\, 1545 Peachtree Street\, Atlanta
ATTACH;FMTTYPE=image/jpeg:https://atlantaparent.guidoclients.com/wp-content/uploads/2018/11/frog-and-toad-Credit-Jerry-Siegel-1-scaled-e1605881141588.jpg
GEO:33.7972669;-84.3882065
X-APPLE-STRUCTURED-LOCATION;VALUE=URI;X-ADDRESS=Synchronicity Theatre 1545 Peachtree Street Atlanta;X-APPLE-RADIUS=500;X-TITLE=1545 Peachtree Street:geo:-84.3882065,33.7972669
END:VEVENT
BEGIN:VEVENT
DTSTART;VALUE=DATE:20240126
DTEND;VALUE=DATE:20240219
DTSTAMP:20260425T132907
CREATED:20231212T184535Z
LAST-MODIFIED:20240219T132020Z
UID:10007748-1706227200-1708300799@atlantaparent.guidoclients.com
SUMMARY:Where the Mountain Meets the Moon
DESCRIPTION:Inspired by the rich tales her father tells\, Minli determines she will find the Old Man of the Moon who knows the secret of good fortune in this fantasy crossed with Chinese folklore. Jan. 26-Feb. 18. See website for showtimes. $15-$45.
URL:https://atlantaparent.guidoclients.com/event/where-the-mountain-meets-the-moon/
LOCATION:Synchronicity Theatre\, 1545 Peachtree Street\, Atlanta
ATTACH;FMTTYPE=image/jpeg:https://atlantaparent.guidoclients.com/wp-content/uploads/2023/12/s1FhuB06-scaled-e1704986204346.jpeg
GEO:33.7972669;-84.3882065
X-APPLE-STRUCTURED-LOCATION;VALUE=URI;X-ADDRESS=Synchronicity Theatre 1545 Peachtree Street Atlanta;X-APPLE-RADIUS=500;X-TITLE=1545 Peachtree Street:geo:-84.3882065,33.7972669
END:VEVENT
BEGIN:VEVENT
DTSTART;VALUE=DATE:20231208
DTEND;VALUE=DATE:20231231
DTSTAMP:20260425T132907
CREATED:20231110T163512Z
LAST-MODIFIED:20231215T171138Z
UID:10007645-1701993600-1703980799@atlantaparent.guidoclients.com
SUMMARY:The Little Prince
DESCRIPTION:Casey Gardner Ford \nBased on the popular children’s book\, a WWII flyer crash-lands in the Sahara Desert and meets the Little Prince\, who claims to be a visitor from another planet. Dec. 8-30. See website for showtimes. $15-$45.
URL:https://atlantaparent.guidoclients.com/event/the-little-prince/
LOCATION:Synchronicity Theatre\, 1545 Peachtree Street\, Atlanta
ATTACH;FMTTYPE=image/jpeg:https://atlantaparent.guidoclients.com/wp-content/uploads/2023/11/TLP-3-scaled-e1700247288955.jpeg
GEO:33.7972669;-84.3882065
X-APPLE-STRUCTURED-LOCATION;VALUE=URI;X-ADDRESS=Synchronicity Theatre 1545 Peachtree Street Atlanta;X-APPLE-RADIUS=500;X-TITLE=1545 Peachtree Street:geo:-84.3882065,33.7972669
END:VEVENT
BEGIN:VEVENT
DTSTART;VALUE=DATE:20230127
DTEND;VALUE=DATE:20230227
DTSTAMP:20260425T132907
CREATED:20221207T192347Z
LAST-MODIFIED:20230215T175151Z
UID:10006711-1674777600-1677455999@atlantaparent.guidoclients.com
SUMMARY:Mufaro’s Beautiful Daughters: An African Tale
DESCRIPTION:Casey Gardner Ford \nWritten in the style of African folktales\, this musical is a retelling of the beloved book set in Zimbabwe. Jan. 27-Feb. 19. Fri. 7 p.m.; Sat. 1 and 4 p.m. and Sun. 2 and 5 p.m. $25+; ages 3-18\, $15; ages 2 and younger\, free.     \n            \n\n  \n\n                \n     \n 
URL:https://atlantaparent.guidoclients.com/event/mufaros-beautiful-daughters-an-african-tale/
LOCATION:Synchronicity Theatre\, 1545 Peachtree Street\, Atlanta
ATTACH;FMTTYPE=image/jpeg:https://atlantaparent.guidoclients.com/wp-content/uploads/2022/12/q2eVtKI-scaled-e1675090387849.jpeg
GEO:33.7972669;-84.3882065
X-APPLE-STRUCTURED-LOCATION;VALUE=URI;X-ADDRESS=Synchronicity Theatre 1545 Peachtree Street Atlanta;X-APPLE-RADIUS=500;X-TITLE=1545 Peachtree Street:geo:-84.3882065,33.7972669
END:VEVENT
BEGIN:VEVENT
DTSTART;VALUE=DATE:20221209
DTEND;VALUE=DATE:20221225
DTSTAMP:20260425T132907
CREATED:20230815T044424Z
LAST-MODIFIED:20230918T123154Z
UID:10003388-1670544000-1671926399@atlantaparent.guidoclients.com
SUMMARY:The Miraculous Journey of Edward Tulane
DESCRIPTION:Jerry Siegel \nChina rabbit Edward Tulane goes on an unexpected magical journey to discover the transformative powers of love. Sept. 13-17. See website for showtimes. $15-$45.
URL:https://atlantaparent.guidoclients.com/event/miraculous-journey-edward-tulane/
LOCATION:Synchronicity Theatre\, 1545 Peachtree Street\, Atlanta
ATTACH;FMTTYPE=image/jpeg:https://atlantaparent.guidoclients.com/wp-content/uploads/2018/01/8X8A5084-scaled-e1669052712209.jpg
GEO:33.7972669;-84.3882065
X-APPLE-STRUCTURED-LOCATION;VALUE=URI;X-ADDRESS=Synchronicity Theatre 1545 Peachtree Street Atlanta;X-APPLE-RADIUS=500;X-TITLE=1545 Peachtree Street:geo:-84.3882065,33.7972669
END:VEVENT
BEGIN:VEVENT
DTSTART;VALUE=DATE:20220930
DTEND;VALUE=DATE:20221024
DTSTAMP:20260425T132907
CREATED:20220909T164046Z
LAST-MODIFIED:20220909T164046Z
UID:10006533-1664496000-1666569599@atlantaparent.guidoclients.com
SUMMARY:Ms. Holmes & Ms. Watson - #2B
DESCRIPTION:Sir Arthur Conan Doyle’s classic duo is reimagined in this murder mystery comedy. Sept. 30-Oct. 23. Wed.-Sat. 8 p.m. and Sun. 5 p.m. $25-$45.
URL:https://atlantaparent.guidoclients.com/event/ms-holmes-ms-watson-2b/
LOCATION:Synchronicity Theatre\, 1545 Peachtree Street\, Atlanta
GEO:33.7972669;-84.3882065
X-APPLE-STRUCTURED-LOCATION;VALUE=URI;X-ADDRESS=Synchronicity Theatre 1545 Peachtree Street Atlanta;X-APPLE-RADIUS=500;X-TITLE=1545 Peachtree Street:geo:-84.3882065,33.7972669
END:VEVENT
BEGIN:VEVENT
DTSTART;VALUE=DATE:20220603
DTEND;VALUE=DATE:20220627
DTSTAMP:20260425T132907
CREATED:20200317T040029Z
LAST-MODIFIED:20220516T154451Z
UID:10003962-1654214400-1656287999@atlantaparent.guidoclients.com
SUMMARY:Bob Marley’s Three Little Birds 
DESCRIPTION:Ziggy’s fear of evil spirits\, tropical storms and bandits keep him from enjoying the beauty of his island\, but friends help him overcome his fears in this musical. June 3-26. See website for showtimes. $15-$25; ages 2 and younger\, free.
URL:https://atlantaparent.guidoclients.com/event/bob-marleys-three-little-birds/
LOCATION:Synchronicity Theatre\, 1545 Peachtree Street\, Atlanta
ATTACH;FMTTYPE=image/jpeg:https://atlantaparent.guidoclients.com/wp-content/uploads/2019/01/Three-Little-Birds-by-Jerry-Siegel-b.jpg
GEO:33.7972669;-84.3882065
X-APPLE-STRUCTURED-LOCATION;VALUE=URI;X-ADDRESS=Synchronicity Theatre 1545 Peachtree Street Atlanta;X-APPLE-RADIUS=500;X-TITLE=1545 Peachtree Street:geo:-84.3882065,33.7972669
END:VEVENT
BEGIN:VEVENT
DTSTART;VALUE=DATE:20211210
DTEND;VALUE=DATE:20220103
DTSTAMP:20260425T132907
CREATED:20211116T143602Z
LAST-MODIFIED:20211228T170338Z
UID:10006132-1639094400-1641167999@atlantaparent.guidoclients.com
SUMMARY:Wonderland: Alice’s Rock & Roll Adventure
DESCRIPTION:Michael Boatright \nThe show has closed due to COVID-19.      \n            \n\n  \n\n                \n     \nBased on Lewis Carroll’s classic story\, young Alice finds her true voice and her true self through the help of music. Dec. 10-Jan. 2. See website for showtimes. $25; ages 3-18\, $15; ages 2 and younger\, free.
URL:https://atlantaparent.guidoclients.com/event/wonderland-alices-rock-roll-adventure/
LOCATION:Synchronicity Theatre\, 1545 Peachtree Street\, Atlanta
ATTACH;FMTTYPE=image/jpeg:https://atlantaparent.guidoclients.com/wp-content/uploads/2021/11/Wonderland-Publicity-1-e1638886267546.jpg
GEO:33.7972669;-84.3882065
X-APPLE-STRUCTURED-LOCATION;VALUE=URI;X-ADDRESS=Synchronicity Theatre 1545 Peachtree Street Atlanta;X-APPLE-RADIUS=500;X-TITLE=1545 Peachtree Street:geo:-84.3882065,33.7972669
END:VEVENT
BEGIN:VEVENT
DTSTART;TZID=America/New_York:20211017T170000
DTEND;TZID=America/New_York:20211017T170000
DTSTAMP:20260425T132908
CREATED:20230625T014714Z
LAST-MODIFIED:20230625T014714Z
UID:10005998-1634490000-1634490000@atlantaparent.guidoclients.com
SUMMARY:The Bluest Eye
DESCRIPTION:Casey Gardner Ford \nInspired by Toni Morrison’s book\, this performance shows the story of Pecola Breedlove\, an African American girl who believes the obstacles in her life would be solved if she had blue eyes. Sept. 23-Oct. 17. Wed.-Sat. 8 p.m. and Sun. 5 p.m. $25-$40.
URL:https://atlantaparent.guidoclients.com/event/the-bluest-eye/2021-10-17/
LOCATION:Synchronicity Theatre\, 1545 Peachtree Street\, Atlanta
ATTACH;FMTTYPE=image/jpeg:https://atlantaparent.guidoclients.com/wp-content/uploads/2021/09/TBE-Publicity6-scaled-e1632143623499.jpg
GEO:33.7972669;-84.3882065
X-APPLE-STRUCTURED-LOCATION;VALUE=URI;X-ADDRESS=Synchronicity Theatre 1545 Peachtree Street Atlanta;X-APPLE-RADIUS=500;X-TITLE=1545 Peachtree Street:geo:-84.3882065,33.7972669
END:VEVENT
BEGIN:VEVENT
DTSTART;VALUE=DATE:20210312
DTEND;VALUE=DATE:20210405
DTSTAMP:20260425T132908
CREATED:20210208T185356Z
LAST-MODIFIED:20210405T125036Z
UID:10005571-1615507200-1617580799@atlantaparent.guidoclients.com
SUMMARY:Mirandy and Brother Wind
DESCRIPTION:Mirandy is determined to win first place in the cakewalk\, so she decides to capture the spirit of Brother Wind to serve as her dancing partner. Virtual performances from March 19-April 4. March 12-April 4. Fri. 7 p.m.; Sat. 4 p.m. and Sun. 2 p.m. $10-$40.
URL:https://atlantaparent.guidoclients.com/event/mirandy-and-brother-wind/
LOCATION:Synchronicity Theatre\, 1545 Peachtree Street\, Atlanta
ATTACH;FMTTYPE=image/jpeg:https://atlantaparent.guidoclients.com/wp-content/uploads/2021/02/IMG_0668-scaled-e1614182902591.jpg
GEO:33.7972669;-84.3882065
X-APPLE-STRUCTURED-LOCATION;VALUE=URI;X-ADDRESS=Synchronicity Theatre 1545 Peachtree Street Atlanta;X-APPLE-RADIUS=500;X-TITLE=1545 Peachtree Street:geo:-84.3882065,33.7972669
END:VEVENT
BEGIN:VEVENT
DTSTART;VALUE=DATE:20200306
DTEND;VALUE=DATE:20200330
DTSTAMP:20260425T132908
CREATED:20200218T021715Z
LAST-MODIFIED:20200318T123741Z
UID:10004948-1583452800-1585526399@atlantaparent.guidoclients.com
SUMMARY:CANCELED: Wayfinding
DESCRIPTION:Due to cancellations to prevent the spread of coronavirus\, please verify event before you go. \nJane must deal with the losses in her life\, while Harrison is unable to make a big commitment. Their paths intertwine in an unexpected\, magical experience. March 6-29. Wed.-Sat. 8 p.m. and Sun. 5 p.m. Recommended for ages 12 and older.
URL:https://atlantaparent.guidoclients.com/event/wayfinding/
LOCATION:Synchronicity Theatre\, 1545 Peachtree Street\, Atlanta
GEO:33.7972669;-84.3882065
X-APPLE-STRUCTURED-LOCATION;VALUE=URI;X-ADDRESS=Synchronicity Theatre 1545 Peachtree Street Atlanta;X-APPLE-RADIUS=500;X-TITLE=1545 Peachtree Street:geo:-84.3882065,33.7972669
END:VEVENT
BEGIN:VEVENT
DTSTART;VALUE=DATE:20200131
DTEND;VALUE=DATE:20200224
DTSTAMP:20260425T132908
CREATED:20191219T184626Z
LAST-MODIFIED:20200203T132959Z
UID:10004820-1580428800-1582502399@atlantaparent.guidoclients.com
SUMMARY:The Hobbit
DESCRIPTION:Credit: Jerry Siegel \nHobbit Bilbo Baggins\, wizard Gandalf and a dozen dwarves set out to take back their home from evil dragon Smaug. See website for showtimes and special events. $21; ages 3-12\, $16; ages 2 and younger\, free.
URL:https://atlantaparent.guidoclients.com/event/the-hobbit/
LOCATION:Synchronicity Theatre\, 1545 Peachtree Street\, Atlanta
ATTACH;FMTTYPE=image/jpeg:https://atlantaparent.guidoclients.com/wp-content/uploads/2019/12/the-hobbit-1-credit-jerry-siegel-scaled-e1578327424730.jpg
GEO:33.7972669;-84.3882065
X-APPLE-STRUCTURED-LOCATION;VALUE=URI;X-ADDRESS=Synchronicity Theatre 1545 Peachtree Street Atlanta;X-APPLE-RADIUS=500;X-TITLE=1545 Peachtree Street:geo:-84.3882065,33.7972669
END:VEVENT
BEGIN:VEVENT
DTSTART;VALUE=DATE:20191213
DTEND;VALUE=DATE:20200106
DTSTAMP:20260425T132908
CREATED:20191119T192809Z
LAST-MODIFIED:20191120T025650Z
UID:10004818-1576195200-1578268799@atlantaparent.guidoclients.com
SUMMARY:Ella Enchanted
DESCRIPTION:Based on the book\, this musical explores what it means to find your voice and decide your own fate. Dec. 13-Jan. 5. See website for full performance schedule. See website for special performances. $21 and up; ages 3-12\, $16 and up; ages 2 and younger\, free.
URL:https://atlantaparent.guidoclients.com/event/ella-enchanted/
LOCATION:Synchronicity Theatre\, 1545 Peachtree Street\, Atlanta
ATTACH;FMTTYPE=image/jpeg:https://atlantaparent.guidoclients.com/wp-content/uploads/2019/11/Ella-Enchanted-at-Synchronicity-Theatre-b_for-web.jpg
GEO:33.7972669;-84.3882065
X-APPLE-STRUCTURED-LOCATION;VALUE=URI;X-ADDRESS=Synchronicity Theatre 1545 Peachtree Street Atlanta;X-APPLE-RADIUS=500;X-TITLE=1545 Peachtree Street:geo:-84.3882065,33.7972669
END:VEVENT
BEGIN:VEVENT
DTSTART;VALUE=DATE:20191004
DTEND;VALUE=DATE:20191028
DTSTAMP:20260425T132908
CREATED:20190922T010317Z
LAST-MODIFIED:20190922T010317Z
UID:10004506-1570147200-1572220799@atlantaparent.guidoclients.com
SUMMARY:Mac | Beth
DESCRIPTION:Seven girls are thrown into the world of Shakespeare’s “Macbeth” as the line between real life and fantasy blurs. Oct. 4-27. Wed.-Sat. at 8 p.m.; Sun. at 5 p.m.; School matinees: 10:30 a.m. on Oct. 8 and 15. Check the website for special events\, such as Inside Scoop! on Oct. 20. Recommended for ages 12 and older. $28; ages 12 and younger\, $24.
URL:https://atlantaparent.guidoclients.com/event/mac-beth/
LOCATION:Synchronicity Theatre\, 1545 Peachtree Street\, Atlanta
GEO:33.7972669;-84.3882065
X-APPLE-STRUCTURED-LOCATION;VALUE=URI;X-ADDRESS=Synchronicity Theatre 1545 Peachtree Street Atlanta;X-APPLE-RADIUS=500;X-TITLE=1545 Peachtree Street:geo:-84.3882065,33.7972669
END:VEVENT
END:VCALENDAR