BEGIN:VCALENDAR
VERSION:2.0
PRODID:-//OLD Atlanta Parent - ECPv6.15.11//NONSGML v1.0//EN
CALSCALE:GREGORIAN
METHOD:PUBLISH
X-WR-CALNAME:OLD Atlanta Parent
X-ORIGINAL-URL:https://atlantaparent.guidoclients.com
X-WR-CALDESC:Events for OLD Atlanta Parent
REFRESH-INTERVAL;VALUE=DURATION:PT1H
X-Robots-Tag:noindex
X-PUBLISHED-TTL:PT1H
BEGIN:VTIMEZONE
TZID:America/New_York
BEGIN:DAYLIGHT
TZOFFSETFROM:-0500
TZOFFSETTO:-0400
TZNAME:EDT
DTSTART:20230312T070000
END:DAYLIGHT
BEGIN:STANDARD
TZOFFSETFROM:-0400
TZOFFSETTO:-0500
TZNAME:EST
DTSTART:20231105T060000
END:STANDARD
BEGIN:DAYLIGHT
TZOFFSETFROM:-0500
TZOFFSETTO:-0400
TZNAME:EDT
DTSTART:20240310T070000
END:DAYLIGHT
BEGIN:STANDARD
TZOFFSETFROM:-0400
TZOFFSETTO:-0500
TZNAME:EST
DTSTART:20241103T060000
END:STANDARD
BEGIN:DAYLIGHT
TZOFFSETFROM:-0500
TZOFFSETTO:-0400
TZNAME:EDT
DTSTART:20250309T070000
END:DAYLIGHT
BEGIN:STANDARD
TZOFFSETFROM:-0400
TZOFFSETTO:-0500
TZNAME:EST
DTSTART:20251102T060000
END:STANDARD
BEGIN:DAYLIGHT
TZOFFSETFROM:-0500
TZOFFSETTO:-0400
TZNAME:EDT
DTSTART:20260308T070000
END:DAYLIGHT
BEGIN:STANDARD
TZOFFSETFROM:-0400
TZOFFSETTO:-0500
TZNAME:EST
DTSTART:20261101T060000
END:STANDARD
END:VTIMEZONE
BEGIN:VEVENT
DTSTART;VALUE=DATE:20250830
DTEND;VALUE=DATE:20250902
DTSTAMP:20260424T224315
CREATED:20250718T045040Z
LAST-MODIFIED:20250902T123812Z
UID:10003729-1756512000-1756771199@atlantaparent.guidoclients.com
SUMMARY:Labor Day Weekend at Stone Mountain Park
DESCRIPTION:During the day\, enjoy adventures with family-friendly attractions\, including an aerial acrobatic show\, and at night\, experience the Classic Lasershow Spectacular for a limited four-night engagement. $39.99; ages 3-11\, $36.99; ages 2 and younger\, free; Lasershow only\, free admission; parking\, $20.
URL:https://atlantaparent.guidoclients.com/event/labor-day-weekend-celebration-at-stone-mountain-park/
LOCATION:Stone Mountain Park\, 1000 Robert E Lee Blvd\, Stone Mountain\, GA\, 30083\, United States
ATTACH;FMTTYPE=image/jpeg:https://atlantaparent.guidoclients.com/wp-content/uploads/2016/04/Minigolf-scaled.jpg
GEO:33.8126209;-84.1458788
X-APPLE-STRUCTURED-LOCATION;VALUE=URI;X-ADDRESS=Stone Mountain Park 1000 Robert E Lee Blvd Stone Mountain GA 30083 United States;X-APPLE-RADIUS=500;X-TITLE=1000 Robert E Lee Blvd:geo:-84.1458788,33.8126209
END:VEVENT
BEGIN:VEVENT
DTSTART;VALUE=DATE:20250308
DTEND;VALUE=DATE:20250421
DTSTAMP:20260424T224315
CREATED:20250120T143421Z
LAST-MODIFIED:20250421T124437Z
UID:10007891-1741392000-1745193599@atlantaparent.guidoclients.com
SUMMARY:Dino Fest
DESCRIPTION:Explore a festival all about dinosaurs with high-flying dinos\, a 4-D experience\, a new lighted parade and a special Drone & Light Show. The Dino Fest Drone & Light Show is only available on Saturdays\, plus daily April 5-12. March 8-April 20. See website for schedule. $34.99-$39.99.
URL:https://atlantaparent.guidoclients.com/event/dino-fest/
LOCATION:Stone Mountain Park\, 1000 Robert E Lee Blvd\, Stone Mountain\, GA\, 30083\, United States
ATTACH;FMTTYPE=image/jpeg:https://atlantaparent.guidoclients.com/wp-content/uploads/2024/02/SMP_41403-24-17.jpg
GEO:33.8126209;-84.1458788
X-APPLE-STRUCTURED-LOCATION;VALUE=URI;X-ADDRESS=Stone Mountain Park 1000 Robert E Lee Blvd Stone Mountain GA 30083 United States;X-APPLE-RADIUS=500;X-TITLE=1000 Robert E Lee Blvd:geo:-84.1458788,33.8126209
END:VEVENT
BEGIN:VEVENT
DTSTART;VALUE=DATE:20250208
DTEND;VALUE=DATE:20250210
DTSTAMP:20260424T224315
CREATED:20241209T164501Z
LAST-MODIFIED:20250120T134147Z
UID:10008938-1738972800-1739145599@atlantaparent.guidoclients.com
SUMMARY:Lunar New Year Festival
DESCRIPTION:This festival features a special Lunar New Year Drone and Light Show\, a lighted parade\, and more to celebrate the Year of the Snake. Jan. 25-26 and Feb. 1-2 and 8-9\, 4-9 p.m. $19.99.
URL:https://atlantaparent.guidoclients.com/event/lunar-new-year-festival/2025-02-08/
LOCATION:Stone Mountain Park\, 1000 Robert E Lee Blvd\, Stone Mountain\, GA\, 30083\, United States
ATTACH;FMTTYPE=image/jpeg:https://atlantaparent.guidoclients.com/wp-content/uploads/2024/01/PC-Bruce-Johnson2.jpg
GEO:33.8126209;-84.1458788
X-APPLE-STRUCTURED-LOCATION;VALUE=URI;X-ADDRESS=Stone Mountain Park 1000 Robert E Lee Blvd Stone Mountain GA 30083 United States;X-APPLE-RADIUS=500;X-TITLE=1000 Robert E Lee Blvd:geo:-84.1458788,33.8126209
END:VEVENT
BEGIN:VEVENT
DTSTART;VALUE=DATE:20240321
DTEND;VALUE=DATE:20240401
DTSTAMP:20260424T224315
CREATED:20240222T142838Z
LAST-MODIFIED:20240320T153504Z
UID:10007890-1710979200-1711929599@atlantaparent.guidoclients.com
SUMMARY:Germany’s Great Bavarian Circus
DESCRIPTION:See one of Europe’s oldest circus show families\, dating back nine generations. Appearing for the first time in the U.S.\, this circus includes unique ground\, aerial and animal acts\, hand-to-hand juggling\, acrobatics\, clowning and more. March 21-31. See website for showtimes. $24.99-$39.99; ages 3-12\, $19.99; ages 2 and younger\, free.
URL:https://atlantaparent.guidoclients.com/event/germanys-great-bavarian-circus/
LOCATION:Stone Mountain Park\, 1000 Robert E Lee Blvd\, Stone Mountain\, GA\, 30083\, United States
ATTACH;FMTTYPE=image/jpeg:https://atlantaparent.guidoclients.com/wp-content/uploads/2024/02/Young-Girl-on-the-Lyra-scaled-e1709227389204.jpg
GEO:33.8126209;-84.1458788
X-APPLE-STRUCTURED-LOCATION;VALUE=URI;X-ADDRESS=Stone Mountain Park 1000 Robert E Lee Blvd Stone Mountain GA 30083 United States;X-APPLE-RADIUS=500;X-TITLE=1000 Robert E Lee Blvd:geo:-84.1458788,33.8126209
END:VEVENT
END:VCALENDAR