BEGIN:VCALENDAR
VERSION:2.0
PRODID:-//OLD Atlanta Parent - ECPv6.15.11//NONSGML v1.0//EN
CALSCALE:GREGORIAN
METHOD:PUBLISH
X-ORIGINAL-URL:https://atlantaparent.guidoclients.com
X-WR-CALDESC:Events for OLD Atlanta Parent
REFRESH-INTERVAL;VALUE=DURATION:PT1H
X-Robots-Tag:noindex
X-PUBLISHED-TTL:PT1H
BEGIN:VTIMEZONE
TZID:America/New_York
BEGIN:DAYLIGHT
TZOFFSETFROM:-0500
TZOFFSETTO:-0400
TZNAME:EDT
DTSTART:20200308T070000
END:DAYLIGHT
BEGIN:STANDARD
TZOFFSETFROM:-0400
TZOFFSETTO:-0500
TZNAME:EST
DTSTART:20201101T060000
END:STANDARD
BEGIN:DAYLIGHT
TZOFFSETFROM:-0500
TZOFFSETTO:-0400
TZNAME:EDT
DTSTART:20210314T070000
END:DAYLIGHT
BEGIN:STANDARD
TZOFFSETFROM:-0400
TZOFFSETTO:-0500
TZNAME:EST
DTSTART:20211107T060000
END:STANDARD
BEGIN:DAYLIGHT
TZOFFSETFROM:-0500
TZOFFSETTO:-0400
TZNAME:EDT
DTSTART:20220313T070000
END:DAYLIGHT
BEGIN:STANDARD
TZOFFSETFROM:-0400
TZOFFSETTO:-0500
TZNAME:EST
DTSTART:20221106T060000
END:STANDARD
BEGIN:DAYLIGHT
TZOFFSETFROM:-0500
TZOFFSETTO:-0400
TZNAME:EDT
DTSTART:20230312T070000
END:DAYLIGHT
BEGIN:STANDARD
TZOFFSETFROM:-0400
TZOFFSETTO:-0500
TZNAME:EST
DTSTART:20231105T060000
END:STANDARD
BEGIN:DAYLIGHT
TZOFFSETFROM:-0500
TZOFFSETTO:-0400
TZNAME:EDT
DTSTART:20240310T070000
END:DAYLIGHT
BEGIN:STANDARD
TZOFFSETFROM:-0400
TZOFFSETTO:-0500
TZNAME:EST
DTSTART:20241103T060000
END:STANDARD
END:VTIMEZONE
BEGIN:VEVENT
DTSTART;TZID=America/New_York:20231202T100000
DTEND;TZID=America/New_York:20231203T160000
DTSTAMP:20260424T210002
CREATED:20231017T141327Z
LAST-MODIFIED:20231115T171954Z
UID:10006609-1701511200-1701619200@atlantaparent.guidoclients.com
SUMMARY:Winter at the Market
DESCRIPTION:Find unique holiday gifts\, take photos with Santa\, and enjoy yummy concessions. Dec. 2-3\, 10 a.m.-4 p.m. Free admission; parking\, $3; photos with Santa\, $15-$35.
URL:https://atlantaparent.guidoclients.com/event/winter-at-the-market/
LOCATION:Still Family Farm\, 5630 Macland Rd.\, Powder Springs\, GA\, United States
ATTACH;FMTTYPE=image/png:https://atlantaparent.guidoclients.com/wp-content/uploads/2023/10/AP906353-e1700068774554.png
GEO:33.905543;-84.71743
X-APPLE-STRUCTURED-LOCATION;VALUE=URI;X-ADDRESS=Still Family Farm 5630 Macland Rd. Powder Springs GA United States;X-APPLE-RADIUS=500;X-TITLE=5630 Macland Rd.:geo:-84.71743,33.905543
END:VEVENT
BEGIN:VEVENT
DTSTART;VALUE=DATE:20211031
DTEND;VALUE=DATE:20211101
DTSTAMP:20260424T210002
CREATED:20210720T130245Z
LAST-MODIFIED:20210728T173036Z
UID:10004431-1635638400-1635724799@atlantaparent.guidoclients.com
SUMMARY:Fall Family Fun
DESCRIPTION:Play in a five-acre zinnia maze\, visit the pumpkin patch\, compete in pump duck races\, take a hayride and more. Sept. 18-Oct. 31. Sat.-Sun. 10 a.m.-dusk. $16; ages 4 and younger\, free.
URL:https://atlantaparent.guidoclients.com/event/fall-family-fun/2021-10-31/
LOCATION:Still Family Farm\, 5630 Macland Rd.\, Powder Springs\, GA\, United States
GEO:33.905543;-84.71743
X-APPLE-STRUCTURED-LOCATION;VALUE=URI;X-ADDRESS=Still Family Farm 5630 Macland Rd. Powder Springs GA United States;X-APPLE-RADIUS=500;X-TITLE=5630 Macland Rd.:geo:-84.71743,33.905543
END:VEVENT
END:VCALENDAR