BEGIN:VCALENDAR
VERSION:2.0
PRODID:-//OLD Atlanta Parent - ECPv6.15.11//NONSGML v1.0//EN
CALSCALE:GREGORIAN
METHOD:PUBLISH
X-WR-CALNAME:OLD Atlanta Parent
X-ORIGINAL-URL:https://atlantaparent.guidoclients.com
X-WR-CALDESC:Events for OLD Atlanta Parent
REFRESH-INTERVAL;VALUE=DURATION:PT1H
X-Robots-Tag:noindex
X-PUBLISHED-TTL:PT1H
BEGIN:VTIMEZONE
TZID:America/New_York
BEGIN:DAYLIGHT
TZOFFSETFROM:-0500
TZOFFSETTO:-0400
TZNAME:EDT
DTSTART:20210314T070000
END:DAYLIGHT
BEGIN:STANDARD
TZOFFSETFROM:-0400
TZOFFSETTO:-0500
TZNAME:EST
DTSTART:20211107T060000
END:STANDARD
BEGIN:DAYLIGHT
TZOFFSETFROM:-0500
TZOFFSETTO:-0400
TZNAME:EDT
DTSTART:20220313T070000
END:DAYLIGHT
BEGIN:STANDARD
TZOFFSETFROM:-0400
TZOFFSETTO:-0500
TZNAME:EST
DTSTART:20221106T060000
END:STANDARD
BEGIN:DAYLIGHT
TZOFFSETFROM:-0500
TZOFFSETTO:-0400
TZNAME:EDT
DTSTART:20230312T070000
END:DAYLIGHT
BEGIN:STANDARD
TZOFFSETFROM:-0400
TZOFFSETTO:-0500
TZNAME:EST
DTSTART:20231105T060000
END:STANDARD
BEGIN:DAYLIGHT
TZOFFSETFROM:-0500
TZOFFSETTO:-0400
TZNAME:EDT
DTSTART:20240310T070000
END:DAYLIGHT
BEGIN:STANDARD
TZOFFSETFROM:-0400
TZOFFSETTO:-0500
TZNAME:EST
DTSTART:20241103T060000
END:STANDARD
BEGIN:DAYLIGHT
TZOFFSETFROM:-0500
TZOFFSETTO:-0400
TZNAME:EDT
DTSTART:20250309T070000
END:DAYLIGHT
BEGIN:STANDARD
TZOFFSETFROM:-0400
TZOFFSETTO:-0500
TZNAME:EST
DTSTART:20251102T060000
END:STANDARD
BEGIN:DAYLIGHT
TZOFFSETFROM:-0500
TZOFFSETTO:-0400
TZNAME:EDT
DTSTART:20260308T070000
END:DAYLIGHT
BEGIN:STANDARD
TZOFFSETFROM:-0400
TZOFFSETTO:-0500
TZNAME:EST
DTSTART:20261101T060000
END:STANDARD
BEGIN:DAYLIGHT
TZOFFSETFROM:-0500
TZOFFSETTO:-0400
TZNAME:EDT
DTSTART:20270314T070000
END:DAYLIGHT
BEGIN:STANDARD
TZOFFSETFROM:-0400
TZOFFSETTO:-0500
TZNAME:EST
DTSTART:20271107T060000
END:STANDARD
END:VTIMEZONE
BEGIN:VEVENT
DTSTART;VALUE=DATE:20260131
DTEND;VALUE=DATE:20260202
DTSTAMP:20260422T031749
CREATED:20260101T181356Z
LAST-MODIFIED:20260105T161914Z
UID:10007743-1769817600-1769990399@atlantaparent.guidoclients.com
SUMMARY:Hot Wheels Monster Trucks Live: Glow-N-Fire
DESCRIPTION:See your favorite Hot Wheels Monster Trucks come to life with new trucks and stunts. Jan. 31\, 12:30 and 7:30 p.m. and Feb. 1\, 2:30 p.m. $27-$121+; ages 1 and younger\, free.
URL:https://atlantaparent.guidoclients.com/event/hot-wheels-monster-trucks-live-glow-party/
LOCATION:State Farm Arena\, 1 State Farm Dr.\, Atlanta
ATTACH;FMTTYPE=image/jpeg:https://atlantaparent.guidoclients.com/wp-content/uploads/2023/12/HWMTL_Ont23-23249-rev-scaled-e1702404820561.jpg
END:VEVENT
BEGIN:VEVENT
DTSTART;TZID=America/New_York:20260119T130000
DTEND;TZID=America/New_York:20260119T130000
DTSTAMP:20260422T031749
CREATED:20251216T162354Z
LAST-MODIFIED:20251222T154207Z
UID:10010292-1768827600-1768827600@atlantaparent.guidoclients.com
SUMMARY:MLK Day Game
DESCRIPTION:Be a part of this annual tradition celebrating the legacy\, influence and life of Dr. King\, and watch the Atlanta Hawks take on the Milwaukee Bucks. $57+.
URL:https://atlantaparent.guidoclients.com/event/mlk-day-game/
LOCATION:State Farm Arena\, 1 State Farm Dr.\, Atlanta
ATTACH;FMTTYPE=image/jpeg:https://atlantaparent.guidoclients.com/wp-content/uploads/2025/12/MLK-Day-Game-presented-by-Chase-09_Terence-Rushin--scaled-e1766418114554.jpg
END:VEVENT
BEGIN:VEVENT
DTSTART;TZID=America/New_York:20250223T180000
DTEND;TZID=America/New_York:20250223T180000
DTSTAMP:20260422T031749
CREATED:20250118T142405Z
LAST-MODIFIED:20250120T161748Z
UID:10007847-1740333600-1740333600@atlantaparent.guidoclients.com
SUMMARY:Hawks vs. Pistons: HBCU Night
DESCRIPTION:Celebrate the educational excellence of more than 100 Historically Black Colleges and Universities with an exclusive t-shirt and $10 food credit. $27+.
URL:https://atlantaparent.guidoclients.com/event/hawks-vs-raptors-hbcu-night/
LOCATION:State Farm Arena\, 1 State Farm Dr.\, Atlanta
END:VEVENT
BEGIN:VEVENT
DTSTART;TZID=America/New_York:20241123T193000
DTEND;TZID=America/New_York:20241123T193000
DTSTAMP:20260422T031749
CREATED:20241010T144856Z
LAST-MODIFIED:20241010T144856Z
UID:10008732-1732390200-1732390200@atlantaparent.guidoclients.com
SUMMARY:Mariah Carey’s Christmas Time
DESCRIPTION:Celebrate Christmas hits and “All I Want for Christmas Is You” with Mariah Carey. $59-$299+.
URL:https://atlantaparent.guidoclients.com/event/mariah-careys-christmas-time/
LOCATION:State Farm Arena\, 1 State Farm Dr.\, Atlanta
END:VEVENT
BEGIN:VEVENT
DTSTART;TZID=America/New_York:20240128T180000
DTEND;TZID=America/New_York:20240128T180000
DTSTAMP:20260422T031749
CREATED:20231011T134404Z
LAST-MODIFIED:20240116T164723Z
UID:10006599-1706464800-1706464800@atlantaparent.guidoclients.com
SUMMARY:Atlanta Hawks Kids Night
DESCRIPTION:Join in a great night of basketball and family-friendly fun watching the Atlanta Hawks take on the Toronto Raptors. $24+.
URL:https://atlantaparent.guidoclients.com/event/atlanta-hawks-kids-night/
LOCATION:State Farm Arena\, 1 State Farm Dr.\, Atlanta
END:VEVENT
BEGIN:VEVENT
DTSTART;TZID=America/New_York:20240114T160000
DTEND;TZID=America/New_York:20240114T160000
DTSTAMP:20260422T031749
CREATED:20231207T193949Z
LAST-MODIFIED:20231218T142419Z
UID:10006709-1705248000-1705248000@atlantaparent.guidoclients.com
SUMMARY:HBCU Culture Battle Of The Bands 2024
DESCRIPTION:Celebrate the rich legacy of HBCUs and support education with college bands\, Alabama State\, Fort Valley State and more. $34.99-$89+.
URL:https://atlantaparent.guidoclients.com/event/the-hbcu-culture-homecoming-fest-and-battle-of-the-bands-mlk-weekend-edition/
LOCATION:State Farm Arena\, 1 State Farm Dr.\, Atlanta
END:VEVENT
BEGIN:VEVENT
DTSTART;TZID=America/New_York:20221219T193000
DTEND;TZID=America/New_York:20221219T193000
DTSTAMP:20260422T031749
CREATED:20211102T161420Z
LAST-MODIFIED:20221107T161458Z
UID:10006090-1671478200-1671478200@atlantaparent.guidoclients.com
SUMMARY:Chanukah Night with the Hawks
DESCRIPTION:This Chanukah celebration includes a pre-game menorah lighting\, kosher food options\, raffles and watching the Hawks vs. Magic game. $24-$57.
URL:https://atlantaparent.guidoclients.com/event/chanukah-night-with-the-hawks/
LOCATION:State Farm Arena\, 1 State Farm Dr.\, Atlanta
END:VEVENT
BEGIN:VEVENT
DTSTART;TZID=America/New_York:20221213T190000
DTEND;TZID=America/New_York:20221213T190000
DTSTAMP:20260422T031749
CREATED:20191006T021257Z
LAST-MODIFIED:20221122T155906Z
UID:10004565-1670958000-1670958000@atlantaparent.guidoclients.com
SUMMARY:Cirque Musica: Holiday Wonderland
DESCRIPTION:This all-new musical journey transports audiences to a magical land with acrobats\, aerialists\, hijinks and holiday cheer for a holiday-themed show experience. $29-$139+.
URL:https://atlantaparent.guidoclients.com/event/a-magical-cirque-christmas/
LOCATION:State Farm Arena\, 1 State Farm Dr.\, Atlanta
END:VEVENT
BEGIN:VEVENT
DTSTART;TZID=America/New_York:20220201T193000
DTEND;TZID=America/New_York:20220201T193000
DTSTAMP:20260422T031749
CREATED:20211216T154621Z
LAST-MODIFIED:20211216T154621Z
UID:10006166-1643743800-1643743800@atlantaparent.guidoclients.com
SUMMARY:Celebrating Lunar New Year at The Atlanta Hawks Game
DESCRIPTION:The Atlanta Hawks will recognize the Lunar New Year with a variety of events. $15-$259+.
URL:https://atlantaparent.guidoclients.com/event/celebrating-lunar-new-year-at-the-atlanta-hawks-game/
LOCATION:State Farm Arena\, 1 State Farm Dr.\, Atlanta
END:VEVENT
END:VCALENDAR