BEGIN:VCALENDAR
VERSION:2.0
PRODID:-//OLD Atlanta Parent - ECPv6.15.11//NONSGML v1.0//EN
CALSCALE:GREGORIAN
METHOD:PUBLISH
X-ORIGINAL-URL:https://atlantaparent.guidoclients.com
X-WR-CALDESC:Events for OLD Atlanta Parent
REFRESH-INTERVAL;VALUE=DURATION:PT1H
X-Robots-Tag:noindex
X-PUBLISHED-TTL:PT1H
BEGIN:VTIMEZONE
TZID:America/New_York
BEGIN:DAYLIGHT
TZOFFSETFROM:-0500
TZOFFSETTO:-0400
TZNAME:EDT
DTSTART:20220313T070000
END:DAYLIGHT
BEGIN:STANDARD
TZOFFSETFROM:-0400
TZOFFSETTO:-0500
TZNAME:EST
DTSTART:20221106T060000
END:STANDARD
BEGIN:DAYLIGHT
TZOFFSETFROM:-0500
TZOFFSETTO:-0400
TZNAME:EDT
DTSTART:20230312T070000
END:DAYLIGHT
BEGIN:STANDARD
TZOFFSETFROM:-0400
TZOFFSETTO:-0500
TZNAME:EST
DTSTART:20231105T060000
END:STANDARD
BEGIN:DAYLIGHT
TZOFFSETFROM:-0500
TZOFFSETTO:-0400
TZNAME:EDT
DTSTART:20240310T070000
END:DAYLIGHT
BEGIN:STANDARD
TZOFFSETFROM:-0400
TZOFFSETTO:-0500
TZNAME:EST
DTSTART:20241103T060000
END:STANDARD
BEGIN:DAYLIGHT
TZOFFSETFROM:-0500
TZOFFSETTO:-0400
TZNAME:EDT
DTSTART:20250309T070000
END:DAYLIGHT
BEGIN:STANDARD
TZOFFSETFROM:-0400
TZOFFSETTO:-0500
TZNAME:EST
DTSTART:20251102T060000
END:STANDARD
BEGIN:DAYLIGHT
TZOFFSETFROM:-0500
TZOFFSETTO:-0400
TZNAME:EDT
DTSTART:20260308T070000
END:DAYLIGHT
BEGIN:STANDARD
TZOFFSETFROM:-0400
TZOFFSETTO:-0500
TZNAME:EST
DTSTART:20261101T060000
END:STANDARD
END:VTIMEZONE
BEGIN:VTIMEZONE
TZID:UTC
BEGIN:STANDARD
TZOFFSETFROM:+0000
TZOFFSETTO:+0000
TZNAME:UTC
DTSTART:20230101T000000
END:STANDARD
END:VTIMEZONE
BEGIN:VEVENT
DTSTART;VALUE=DATE:20251101
DTEND;VALUE=DATE:20251103
DTSTAMP:20260422T083211
CREATED:20250919T154321Z
LAST-MODIFIED:20250919T154321Z
UID:10009633-1761955200-1762124399@atlantaparent.guidoclients.com
SUMMARY:Oktoberfest
DESCRIPTION:This weekend fall festival offers premium beers\, authentic German food\, lively performances and family-friendly fun. Sat.-Sun. noon-7 p.m. $35+.
URL:https://atlantaparent.guidoclients.com/event/oktoberfest-3/2025-11-01/
LOCATION:Six Flags Over Georgia\, 275 Riverside Pkwy. SW\, Austell
ATTACH;FMTTYPE=image/jpeg:https://atlantaparent.guidoclients.com/wp-content/uploads/2025/09/Oktoberfest-Six-Flags-5-scaled.jpg
END:VEVENT
BEGIN:VEVENT
DTSTART;VALUE=DATE:20250913
DTEND;VALUE=DATE:20251103
DTSTAMP:20260422T083211
CREATED:20250809T144755Z
LAST-MODIFIED:20250908T170701Z
UID:10006562-1757721600-1762127999@atlantaparent.guidoclients.com
SUMMARY:Kids Boo Fest
DESCRIPTION:This festival for younger ghosts and ghouls will include dressing up for fall themed activities\, trick-or-treating\, pumpkin decorating and more. Sept. 13-Nov. 2. See website for times. $35+; parking\, extra.
URL:https://atlantaparent.guidoclients.com/event/kids-boo-fest/
LOCATION:Six Flags Over Georgia\, 275 Riverside Pkwy. SW\, Austell
ATTACH;FMTTYPE=image/jpeg:https://atlantaparent.guidoclients.com/wp-content/uploads/2022/09/SFTPRS1166800-scaled-e1662734857697.jpg
END:VEVENT
BEGIN:VEVENT
DTSTART;VALUE=DATE:20241123
DTEND;VALUE=DATE:20250106
DTSTAMP:20260422T083211
CREATED:20241008T040005Z
LAST-MODIFIED:20241010T141044Z
UID:10000109-1732320000-1736121599@atlantaparent.guidoclients.com
SUMMARY:Holiday in the Park
DESCRIPTION:More than 1 million LED lights\, dozens of Christmas trees\, festive shows and culinary treats create the perfect magical atmosphere. Nov. 23-Jan. 5. See website for schedule. $42+; parking\, extra.
URL:https://atlantaparent.guidoclients.com/event/holiday-in-the-park/
LOCATION:Six Flags Over Georgia\, 275 Riverside Pkwy. SW\, Austell
ATTACH;FMTTYPE=image/jpeg:https://atlantaparent.guidoclients.com/wp-content/uploads/2020/10/HIP_Twisted-Cyclone-scaled-e1637002252572.jpg
END:VEVENT
BEGIN:VEVENT
DTSTART;VALUE=DATE:20240703
DTEND;VALUE=DATE:20240707
DTSTAMP:20260422T083211
CREATED:20250510T132352Z
LAST-MODIFIED:20250515T190512Z
UID:10006429-1719964800-1720310399@atlantaparent.guidoclients.com
SUMMARY:Star Spangled Nights
DESCRIPTION:Experience a fireworks display synchronized to patriotic music. $49+; ages 2 and younger\, free.
URL:https://atlantaparent.guidoclients.com/event/coca-cola-july-4th-fest/
LOCATION:Six Flags Over Georgia\, 275 Riverside Pkwy. SW\, Austell
END:VEVENT
BEGIN:VEVENT
DTSTART;VALUE=DATE:20230527
DTEND;VALUE=DATE:20230529
DTSTAMP:20260422T083211
CREATED:20230503T124857Z
LAST-MODIFIED:20230503T124857Z
UID:10006853-1685145600-1685318399@atlantaparent.guidoclients.com
SUMMARY:¡Viva La Fiesta!
DESCRIPTION:Celebrate cultures from Latin America with festoons\, piñatas\, food\, music\, dancing and more. $34.99.
URL:https://atlantaparent.guidoclients.com/event/viva-la-fiesta/2023-05-27/
LOCATION:Six Flags Over Georgia\, 275 Riverside Pkwy. SW\, Austell
END:VEVENT
END:VCALENDAR