BEGIN:VCALENDAR
VERSION:2.0
PRODID:-//OLD Atlanta Parent - ECPv6.15.11//NONSGML v1.0//EN
CALSCALE:GREGORIAN
METHOD:PUBLISH
X-WR-CALNAME:OLD Atlanta Parent
X-ORIGINAL-URL:https://atlantaparent.guidoclients.com
X-WR-CALDESC:Events for OLD Atlanta Parent
REFRESH-INTERVAL;VALUE=DURATION:PT1H
X-Robots-Tag:noindex
X-PUBLISHED-TTL:PT1H
BEGIN:VTIMEZONE
TZID:America/New_York
BEGIN:DAYLIGHT
TZOFFSETFROM:-0500
TZOFFSETTO:-0400
TZNAME:EDT
DTSTART:20220313T070000
END:DAYLIGHT
BEGIN:STANDARD
TZOFFSETFROM:-0400
TZOFFSETTO:-0500
TZNAME:EST
DTSTART:20221106T060000
END:STANDARD
BEGIN:DAYLIGHT
TZOFFSETFROM:-0500
TZOFFSETTO:-0400
TZNAME:EDT
DTSTART:20230312T070000
END:DAYLIGHT
BEGIN:STANDARD
TZOFFSETFROM:-0400
TZOFFSETTO:-0500
TZNAME:EST
DTSTART:20231105T060000
END:STANDARD
BEGIN:DAYLIGHT
TZOFFSETFROM:-0500
TZOFFSETTO:-0400
TZNAME:EDT
DTSTART:20240310T070000
END:DAYLIGHT
BEGIN:STANDARD
TZOFFSETFROM:-0400
TZOFFSETTO:-0500
TZNAME:EST
DTSTART:20241103T060000
END:STANDARD
END:VTIMEZONE
BEGIN:VEVENT
DTSTART;TZID=America/New_York:20230704T100000
DTEND;TZID=America/New_York:20230704T100000
DTSTAMP:20260424T095747
CREATED:20220630T153144Z
LAST-MODIFIED:20230626T134005Z
UID:10006433-1688464800-1688464800@atlantaparent.guidoclients.com
SUMMARY:Serenbe 4th of July Parade
DESCRIPTION:Celebrate Independence Day with this parade.
URL:https://atlantaparent.guidoclients.com/event/serenbe-4th-of-july-parade/
LOCATION:Serenbe\, 9055 Selborne Lane\, Chattahoochee Hills
GEO:33.5250119;-84.737723
X-APPLE-STRUCTURED-LOCATION;VALUE=URI;X-ADDRESS=Serenbe 9055 Selborne Lane Chattahoochee Hills;X-APPLE-RADIUS=500;X-TITLE=9055 Selborne Lane:geo:-84.737723,33.5250119
END:VEVENT
BEGIN:VEVENT
DTSTART;TZID=America/New_York:20230513T120000
DTEND;TZID=America/New_York:20230513T170000
DTSTAMP:20260424T095747
CREATED:20230421T130549Z
LAST-MODIFIED:20230421T130549Z
UID:10006834-1683979200-1683997200@atlantaparent.guidoclients.com
SUMMARY:Mother’s Day Picnic with Tertulia
DESCRIPTION:Celebrate the special women in your life at this gorgeous open-air pavilion surrounded by an evergreen forest. $30.
URL:https://atlantaparent.guidoclients.com/event/mothers-day-picnic-with-tertulia/
LOCATION:Serenbe\, 9055 Selborne Lane\, Chattahoochee Hills
GEO:33.5250119;-84.737723
X-APPLE-STRUCTURED-LOCATION;VALUE=URI;X-ADDRESS=Serenbe 9055 Selborne Lane Chattahoochee Hills;X-APPLE-RADIUS=500;X-TITLE=9055 Selborne Lane:geo:-84.737723,33.5250119
END:VEVENT
END:VCALENDAR