BEGIN:VCALENDAR
VERSION:2.0
PRODID:-//OLD Atlanta Parent - ECPv6.15.11//NONSGML v1.0//EN
CALSCALE:GREGORIAN
METHOD:PUBLISH
X-ORIGINAL-URL:https://atlantaparent.guidoclients.com
X-WR-CALDESC:Events for OLD Atlanta Parent
REFRESH-INTERVAL;VALUE=DURATION:PT1H
X-Robots-Tag:noindex
X-PUBLISHED-TTL:PT1H
BEGIN:VTIMEZONE
TZID:America/New_York
BEGIN:DAYLIGHT
TZOFFSETFROM:-0500
TZOFFSETTO:-0400
TZNAME:EDT
DTSTART:20220313T070000
END:DAYLIGHT
BEGIN:STANDARD
TZOFFSETFROM:-0400
TZOFFSETTO:-0500
TZNAME:EST
DTSTART:20221106T060000
END:STANDARD
BEGIN:DAYLIGHT
TZOFFSETFROM:-0500
TZOFFSETTO:-0400
TZNAME:EDT
DTSTART:20230312T070000
END:DAYLIGHT
BEGIN:STANDARD
TZOFFSETFROM:-0400
TZOFFSETTO:-0500
TZNAME:EST
DTSTART:20231105T060000
END:STANDARD
BEGIN:DAYLIGHT
TZOFFSETFROM:-0500
TZOFFSETTO:-0400
TZNAME:EDT
DTSTART:20240310T070000
END:DAYLIGHT
BEGIN:STANDARD
TZOFFSETFROM:-0400
TZOFFSETTO:-0500
TZNAME:EST
DTSTART:20241103T060000
END:STANDARD
END:VTIMEZONE
BEGIN:VEVENT
DTSTART;TZID=America/New_York:20231028T100000
DTEND;TZID=America/New_York:20231028T110000
DTSTAMP:20260422T031749
CREATED:20200720T165739Z
LAST-MODIFIED:20230810T144647Z
UID:10005194-1698487200-1698490800@atlantaparent.guidoclients.com
SUMMARY:Goat Yoga
DESCRIPTION:Get active under the sun and practice yoga in the presence of cute goats. For ages 16 and older. Sat. 10-11 a.m. $40.
URL:https://atlantaparent.guidoclients.com/event/goat-yoga/2023-10-28/
LOCATION:Serenbe Farms\, 10950 Hutcheson Ferry Rd.\, Chattahoochee Hills\, GA
GEO:33.5285709;-84.7439209
X-APPLE-STRUCTURED-LOCATION;VALUE=URI;X-ADDRESS=Serenbe Farms 10950 Hutcheson Ferry Rd. Chattahoochee Hills GA;X-APPLE-RADIUS=500;X-TITLE=10950 Hutcheson Ferry Rd.:geo:-84.7439209,33.5285709
END:VEVENT
END:VCALENDAR