BEGIN:VCALENDAR
VERSION:2.0
PRODID:-//OLD Atlanta Parent - ECPv6.15.11//NONSGML v1.0//EN
CALSCALE:GREGORIAN
METHOD:PUBLISH
X-WR-CALNAME:OLD Atlanta Parent
X-ORIGINAL-URL:https://atlantaparent.guidoclients.com
X-WR-CALDESC:Events for OLD Atlanta Parent
REFRESH-INTERVAL;VALUE=DURATION:PT1H
X-Robots-Tag:noindex
X-PUBLISHED-TTL:PT1H
BEGIN:VTIMEZONE
TZID:America/New_York
BEGIN:DAYLIGHT
TZOFFSETFROM:-0500
TZOFFSETTO:-0400
TZNAME:EDT
DTSTART:20190310T070000
END:DAYLIGHT
BEGIN:STANDARD
TZOFFSETFROM:-0400
TZOFFSETTO:-0500
TZNAME:EST
DTSTART:20191103T060000
END:STANDARD
BEGIN:DAYLIGHT
TZOFFSETFROM:-0500
TZOFFSETTO:-0400
TZNAME:EDT
DTSTART:20200308T070000
END:DAYLIGHT
BEGIN:STANDARD
TZOFFSETFROM:-0400
TZOFFSETTO:-0500
TZNAME:EST
DTSTART:20201101T060000
END:STANDARD
BEGIN:DAYLIGHT
TZOFFSETFROM:-0500
TZOFFSETTO:-0400
TZNAME:EDT
DTSTART:20210314T070000
END:DAYLIGHT
BEGIN:STANDARD
TZOFFSETFROM:-0400
TZOFFSETTO:-0500
TZNAME:EST
DTSTART:20211107T060000
END:STANDARD
END:VTIMEZONE
BEGIN:VTIMEZONE
TZID:UTC
BEGIN:STANDARD
TZOFFSETFROM:+0000
TZOFFSETTO:+0000
TZNAME:UTC
DTSTART:20180101T000000
END:STANDARD
END:VTIMEZONE
BEGIN:VEVENT
DTSTART;TZID=America/New_York:20200411T140000
DTEND;TZID=America/New_York:20200411T140000
DTSTAMP:20260423T050447
CREATED:20200210T050039Z
LAST-MODIFIED:20200324T175639Z
UID:10004058-1586613600-1586613600@atlantaparent.guidoclients.com
SUMMARY:Easter Egg Hunt at Sardis UMC
DESCRIPTION:Due to cancellations to prevent the spread of coronavirus\, please verify event before you go. \nBring your own basket for an egg hunt\, cookies\, visit from the Easter Bunny and more.
URL:https://atlantaparent.guidoclients.com/event/easter-egg-hunt-at-sardis-umc/
LOCATION:Sardis United Methodist Church\, 3725 Powers Ferry Rd. NW\, Atlanta
GEO:33.8574361;-84.3836832
X-APPLE-STRUCTURED-LOCATION;VALUE=URI;X-ADDRESS=Sardis United Methodist Church 3725 Powers Ferry Rd. NW Atlanta;X-APPLE-RADIUS=500;X-TITLE=3725 Powers Ferry Rd. NW:geo:-84.3836832,33.8574361
END:VEVENT
BEGIN:VEVENT
DTSTART;VALUE=DATE:20191207
DTEND;VALUE=DATE:20191209
DTSTAMP:20260423T050447
CREATED:20201107T050020Z
LAST-MODIFIED:20201203T144725Z
UID:10000996-1575676800-1575849599@atlantaparent.guidoclients.com
SUMMARY:Live Nativity
DESCRIPTION:Performances run on the front lawn and feature live animals. After the performance\, Christmas carols and refreshments. Dec. 12-13; shows: 6\, 6:30\, 7 and 7:30 p.m. Free.
URL:https://atlantaparent.guidoclients.com/event/live-nativity/
LOCATION:Sardis United Methodist Church\, 3725 Powers Ferry Rd. NW\, Atlanta
ATTACH;FMTTYPE=image/jpeg:https://atlantaparent.guidoclients.com/wp-content/uploads/2019/11/sardis-church-nativity.jpg
GEO:33.8574361;-84.3836832
X-APPLE-STRUCTURED-LOCATION;VALUE=URI;X-ADDRESS=Sardis United Methodist Church 3725 Powers Ferry Rd. NW Atlanta;X-APPLE-RADIUS=500;X-TITLE=3725 Powers Ferry Rd. NW:geo:-84.3836832,33.8574361
END:VEVENT
END:VCALENDAR