BEGIN:VCALENDAR
VERSION:2.0
PRODID:-//OLD Atlanta Parent - ECPv6.15.11//NONSGML v1.0//EN
CALSCALE:GREGORIAN
METHOD:PUBLISH
X-WR-CALNAME:OLD Atlanta Parent
X-ORIGINAL-URL:https://atlantaparent.guidoclients.com
X-WR-CALDESC:Events for OLD Atlanta Parent
REFRESH-INTERVAL;VALUE=DURATION:PT1H
X-Robots-Tag:noindex
X-PUBLISHED-TTL:PT1H
BEGIN:VTIMEZONE
TZID:America/New_York
BEGIN:DAYLIGHT
TZOFFSETFROM:-0500
TZOFFSETTO:-0400
TZNAME:EDT
DTSTART:20200308T070000
END:DAYLIGHT
BEGIN:STANDARD
TZOFFSETFROM:-0400
TZOFFSETTO:-0500
TZNAME:EST
DTSTART:20201101T060000
END:STANDARD
BEGIN:DAYLIGHT
TZOFFSETFROM:-0500
TZOFFSETTO:-0400
TZNAME:EDT
DTSTART:20210314T070000
END:DAYLIGHT
BEGIN:STANDARD
TZOFFSETFROM:-0400
TZOFFSETTO:-0500
TZNAME:EST
DTSTART:20211107T060000
END:STANDARD
BEGIN:DAYLIGHT
TZOFFSETFROM:-0500
TZOFFSETTO:-0400
TZNAME:EDT
DTSTART:20220313T070000
END:DAYLIGHT
BEGIN:STANDARD
TZOFFSETFROM:-0400
TZOFFSETTO:-0500
TZNAME:EST
DTSTART:20221106T060000
END:STANDARD
BEGIN:DAYLIGHT
TZOFFSETFROM:-0500
TZOFFSETTO:-0400
TZNAME:EDT
DTSTART:20230312T070000
END:DAYLIGHT
BEGIN:STANDARD
TZOFFSETFROM:-0400
TZOFFSETTO:-0500
TZNAME:EST
DTSTART:20231105T060000
END:STANDARD
BEGIN:DAYLIGHT
TZOFFSETFROM:-0500
TZOFFSETTO:-0400
TZNAME:EDT
DTSTART:20240310T070000
END:DAYLIGHT
BEGIN:STANDARD
TZOFFSETFROM:-0400
TZOFFSETTO:-0500
TZNAME:EST
DTSTART:20241103T060000
END:STANDARD
BEGIN:DAYLIGHT
TZOFFSETFROM:-0500
TZOFFSETTO:-0400
TZNAME:EDT
DTSTART:20250309T070000
END:DAYLIGHT
BEGIN:STANDARD
TZOFFSETFROM:-0400
TZOFFSETTO:-0500
TZNAME:EST
DTSTART:20251102T060000
END:STANDARD
END:VTIMEZONE
BEGIN:VEVENT
DTSTART;VALUE=DATE:20240323
DTEND;VALUE=DATE:20240325
DTSTAMP:20260422T154648
CREATED:20240215T182250Z
LAST-MODIFIED:20240222T154954Z
UID:10006393-1711152000-1711324799@atlantaparent.guidoclients.com
SUMMARY:Beauty & the Beast
DESCRIPTION:Presented by Atlanta Dance Theatre\, Beauty sees the man behind the Beast and breaks the evil curse. March 23\, 7 p.m. and March 24\, 2 p.m. $26-$34. \n 
URL:https://atlantaparent.guidoclients.com/event/beauty-and-the-beast-9/
LOCATION:Roswell Cultural Arts Center\, 950 Forrest St.\, Roswell
END:VEVENT
BEGIN:VEVENT
DTSTART;TZID=America/New_York:20240317T160000
DTEND;TZID=America/New_York:20240317T160000
DTSTAMP:20260422T154648
CREATED:20240222T174434Z
LAST-MODIFIED:20240222T174434Z
UID:10007905-1710691200-1710691200@atlantaparent.guidoclients.com
SUMMARY:St. Patrick’s Day with Atlanta Concert Band
DESCRIPTION:Celebrate St. Patrick’s Day with the music of the Emerald Isle. $15-$20.
URL:https://atlantaparent.guidoclients.com/event/st-patricks-day-with-atlanta-concert-band/
LOCATION:Roswell Cultural Arts Center\, 950 Forrest St.\, Roswell
END:VEVENT
BEGIN:VEVENT
DTSTART;VALUE=DATE:20240315
DTEND;VALUE=DATE:20240317
DTSTAMP:20260422T154648
CREATED:20240228T165212Z
LAST-MODIFIED:20240228T165212Z
UID:10007908-1710460800-1710633599@atlantaparent.guidoclients.com
SUMMARY:Love Stories
DESCRIPTION:The threads of popular love songs are weaved together through dance\, as presented by SIDEWAYS Contemporary Dance Theater. March 15\, 7:30 p.m. and March 16\, 4 and 7:30 p.m. $21.50.
URL:https://atlantaparent.guidoclients.com/event/love-stories/
LOCATION:Roswell Cultural Arts Center\, 950 Forrest St.\, Roswell
END:VEVENT
BEGIN:VEVENT
DTSTART;VALUE=DATE:20240309
DTEND;VALUE=DATE:20240310
DTSTAMP:20260422T154648
CREATED:20240222T152607Z
LAST-MODIFIED:20240222T152607Z
UID:10007898-1709942400-1710028799@atlantaparent.guidoclients.com
SUMMARY:Charlie and The Dance Factory
DESCRIPTION:Step into a world of pure imagination with fun choreography\, vibrant costumes and delightful magic presented by Roswell Dance Starz. March 9\, 2 and 7 p.m. $16.50.
URL:https://atlantaparent.guidoclients.com/event/charlie-and-the-dance-factory/
LOCATION:Roswell Cultural Arts Center\, 950 Forrest St.\, Roswell
END:VEVENT
BEGIN:VEVENT
DTSTART;VALUE=DATE:20211027
DTEND;VALUE=DATE:20211108
DTSTAMP:20260422T154648
CREATED:20250312T180045Z
LAST-MODIFIED:20251006T181901Z
UID:10004298-1635292800-1636329599@atlantaparent.guidoclients.com
SUMMARY:Roswell Youth Theatre MainStage Presents The Addams Family Musical
DESCRIPTION:Everything will change for this kooky\, spooky family when they host a dinner for Wednesday’s normal boyfriend and his parents. Nov. 21\, 7 p.m. and Nov. 22\, 2 and 7 p.m. $17; ages 2 and younger\, free.
URL:https://atlantaparent.guidoclients.com/event/the-addams-family-2/
LOCATION:Roswell Cultural Arts Center\, 950 Forrest St.\, Roswell
END:VEVENT
END:VCALENDAR