BEGIN:VCALENDAR
VERSION:2.0
PRODID:-//OLD Atlanta Parent - ECPv6.15.11//NONSGML v1.0//EN
CALSCALE:GREGORIAN
METHOD:PUBLISH
X-ORIGINAL-URL:https://atlantaparent.guidoclients.com
X-WR-CALDESC:Events for OLD Atlanta Parent
REFRESH-INTERVAL;VALUE=DURATION:PT1H
X-Robots-Tag:noindex
X-PUBLISHED-TTL:PT1H
BEGIN:VTIMEZONE
TZID:America/New_York
BEGIN:DAYLIGHT
TZOFFSETFROM:-0500
TZOFFSETTO:-0400
TZNAME:EDT
DTSTART:20200308T070000
END:DAYLIGHT
BEGIN:STANDARD
TZOFFSETFROM:-0400
TZOFFSETTO:-0500
TZNAME:EST
DTSTART:20201101T060000
END:STANDARD
BEGIN:DAYLIGHT
TZOFFSETFROM:-0500
TZOFFSETTO:-0400
TZNAME:EDT
DTSTART:20210314T070000
END:DAYLIGHT
BEGIN:STANDARD
TZOFFSETFROM:-0400
TZOFFSETTO:-0500
TZNAME:EST
DTSTART:20211107T060000
END:STANDARD
BEGIN:DAYLIGHT
TZOFFSETFROM:-0500
TZOFFSETTO:-0400
TZNAME:EDT
DTSTART:20220313T070000
END:DAYLIGHT
BEGIN:STANDARD
TZOFFSETFROM:-0400
TZOFFSETTO:-0500
TZNAME:EST
DTSTART:20221106T060000
END:STANDARD
BEGIN:DAYLIGHT
TZOFFSETFROM:-0500
TZOFFSETTO:-0400
TZNAME:EDT
DTSTART:20230312T070000
END:DAYLIGHT
BEGIN:STANDARD
TZOFFSETFROM:-0400
TZOFFSETTO:-0500
TZNAME:EST
DTSTART:20231105T060000
END:STANDARD
BEGIN:DAYLIGHT
TZOFFSETFROM:-0500
TZOFFSETTO:-0400
TZNAME:EDT
DTSTART:20240310T070000
END:DAYLIGHT
BEGIN:STANDARD
TZOFFSETFROM:-0400
TZOFFSETTO:-0500
TZNAME:EST
DTSTART:20241103T060000
END:STANDARD
BEGIN:DAYLIGHT
TZOFFSETFROM:-0500
TZOFFSETTO:-0400
TZNAME:EDT
DTSTART:20250309T070000
END:DAYLIGHT
BEGIN:STANDARD
TZOFFSETFROM:-0400
TZOFFSETTO:-0500
TZNAME:EST
DTSTART:20251102T060000
END:STANDARD
BEGIN:DAYLIGHT
TZOFFSETFROM:-0500
TZOFFSETTO:-0400
TZNAME:EDT
DTSTART:20260308T070000
END:DAYLIGHT
BEGIN:STANDARD
TZOFFSETFROM:-0400
TZOFFSETTO:-0500
TZNAME:EST
DTSTART:20261101T060000
END:STANDARD
END:VTIMEZONE
BEGIN:VTIMEZONE
TZID:UTC
BEGIN:STANDARD
TZOFFSETFROM:+0000
TZOFFSETTO:+0000
TZNAME:UTC
DTSTART:20240101T000000
END:STANDARD
END:VTIMEZONE
BEGIN:VEVENT
DTSTART;TZID=America/New_York:20251222T140000
DTEND;TZID=America/New_York:20251222T140000
DTSTAMP:20260422T134840
CREATED:20251027T194908Z
LAST-MODIFIED:20251027T194908Z
UID:10010201-1766412000-1766412000@atlantaparent.guidoclients.com
SUMMARY:Holiday Magic Show with Arthur Atsma
DESCRIPTION:This holly jolly show is packed with whimsy\, wonder and magic. $12.
URL:https://atlantaparent.guidoclients.com/event/holiday-magic-show-with-arthur-atsma/
LOCATION:Roswell Cultural Arts Center\, 950 Forrest St.\, Roswell
END:VEVENT
BEGIN:VEVENT
DTSTART;TZID=America/New_York:20251221T160000
DTEND;TZID=America/New_York:20251221T160000
DTSTAMP:20260422T134840
CREATED:20251027T161617Z
LAST-MODIFIED:20251027T193222Z
UID:10007688-1766332800-1766332800@atlantaparent.guidoclients.com
SUMMARY:Joe Gransden’s Christmas & All That Jazz
DESCRIPTION:Swing into the holidays with these sparkling arrangements of holiday classics. $44.75.
URL:https://atlantaparent.guidoclients.com/event/joe-gransden-jazz-milestones-a-very-jazzy-christmas/
LOCATION:Roswell Cultural Arts Center\, 950 Forrest St.\, Roswell
END:VEVENT
BEGIN:VEVENT
DTSTART;TZID=America/New_York:20251219T190000
DTEND;TZID=America/New_York:20251219T190000
DTSTAMP:20260422T134840
CREATED:20251027T162005Z
LAST-MODIFIED:20251119T170307Z
UID:10007689-1766170800-1766170800@atlantaparent.guidoclients.com
SUMMARY:Motown Christmas
DESCRIPTION:This cabaret-style show features music\, memories and Motown and holiday classics. $31-$56.50.
URL:https://atlantaparent.guidoclients.com/event/motown-christmas/
LOCATION:Roswell Cultural Arts Center\, 950 Forrest St.\, Roswell
END:VEVENT
BEGIN:VEVENT
DTSTART;TZID=America/New_York:20251217T190000
DTEND;TZID=America/New_York:20251218T190000
DTSTAMP:20260422T134840
CREATED:20251023T151317Z
LAST-MODIFIED:20251027T194156Z
UID:10005464-1765998000-1766084400@atlantaparent.guidoclients.com
SUMMARY:John Driskell Hopkins’ Sounds of The Season: Celebrating In The Spirit
DESCRIPTION:Celebrate Christmas with John Driskell Hopkins\, a founding member\, vocalist\, multi-instrumentalist and songwriter of the Zac Brown Band. $40.75-$67.50.
URL:https://atlantaparent.guidoclients.com/event/holly-dolly-christmas/
LOCATION:Roswell Cultural Arts Center\, 950 Forrest St.\, Roswell
END:VEVENT
BEGIN:VEVENT
DTSTART;VALUE=DATE:20251212
DTEND;VALUE=DATE:20251215
DTSTAMP:20260422T134840
CREATED:20251005T221458Z
LAST-MODIFIED:20251027T154915Z
UID:10001500-1765497600-1765756799@atlantaparent.guidoclients.com
SUMMARY:Atlanta Dance Theatre's The Nutcracker
DESCRIPTION:At a grand Christmas Eve party\, Clara receives a beautiful nutcracker from her godfather\, as presented by Atlanta Dance Theatre. Dec. 12\, 7 p.m.; Dec. 13\, 2 and 7 p.m. and Dec. 14\, 2 p.m. $23.50+.
URL:https://atlantaparent.guidoclients.com/event/the-nutcracker-6/
LOCATION:Roswell Cultural Arts Center\, 950 Forrest St.\, Roswell
END:VEVENT
BEGIN:VEVENT
DTSTART;TZID=America/New_York:20251207T160000
DTEND;TZID=America/New_York:20251207T160000
DTSTAMP:20260422T134840
CREATED:20251027T194314Z
LAST-MODIFIED:20251027T194314Z
UID:10010200-1765123200-1765123200@atlantaparent.guidoclients.com
SUMMARY:Y'allmark
DESCRIPTION:This improvised show provides a spin on made-for-TV holiday movies. $39.75.
URL:https://atlantaparent.guidoclients.com/event/yallmark/
LOCATION:Roswell Cultural Arts Center\, 950 Forrest St.\, Roswell
END:VEVENT
BEGIN:VEVENT
DTSTART;VALUE=DATE:20251203
DTEND;VALUE=DATE:20251206
DTSTAMP:20260422T134840
CREATED:20251007T184806Z
LAST-MODIFIED:20251027T193802Z
UID:10003343-1764720000-1764979199@atlantaparent.guidoclients.com
SUMMARY:The North Pole Fa-La-La-La Follies
DESCRIPTION:Find out what Santa and his crew get up to when they’re not making toys. Dec. 3-5\, 10 a.m. and Dec. 5\, 1:30 p.m. $12.
URL:https://atlantaparent.guidoclients.com/event/north-pole-fa-la-la-la-follies/
LOCATION:Roswell Cultural Arts Center\, 950 Forrest St.\, Roswell
END:VEVENT
BEGIN:VEVENT
DTSTART;TZID=America/New_York:20251123T160000
DTEND;TZID=America/New_York:20251123T160000
DTSTAMP:20260422T134840
CREATED:20251002T162221Z
LAST-MODIFIED:20251002T162221Z
UID:10009697-1763913600-1763913600@atlantaparent.guidoclients.com
SUMMARY:A Little Peace of the Holidays
DESCRIPTION:Listen to a soulful\, swingin’ holiday concert from jazz vocalist Karla Harris and her band. $39.75+.
URL:https://atlantaparent.guidoclients.com/event/a-little-peace-of-the-holidays/
LOCATION:Roswell Cultural Arts Center\, 950 Forrest St.\, Roswell
END:VEVENT
BEGIN:VEVENT
DTSTART;TZID=America/New_York:20251115T190000
DTEND;TZID=America/New_York:20251115T190000
DTSTAMP:20260422T134840
CREATED:20251008T175452Z
LAST-MODIFIED:20251028T143517Z
UID:10004520-1763233200-1763233200@atlantaparent.guidoclients.com
SUMMARY:Heroes & Villains: An Epic Musical Showdown!
DESCRIPTION:Go on an orchestral adventure where good and evil go head-to-head in a battle of legendary themes. Come dressed as your favorite superhero or villain. $23.50.
URL:https://atlantaparent.guidoclients.com/event/superheroes-and-villains/
LOCATION:Roswell Cultural Arts Center\, 950 Forrest St.\, Roswell
END:VEVENT
BEGIN:VEVENT
DTSTART;TZID=America/New_York:20251101T140000
DTEND;TZID=America/New_York:20251101T140000
DTSTAMP:20260422T134840
CREATED:20251006T175544Z
LAST-MODIFIED:20251006T175544Z
UID:10009716-1762005600-1762005600@atlantaparent.guidoclients.com
SUMMARY:The Melvin Invention
DESCRIPTION:Brainy students Max and Abby use a 3D printer to invent Melvin\, the coolest 7th grader ever\, to attempt to fit in with the popular crowd. $12.
URL:https://atlantaparent.guidoclients.com/event/the-melvin-invention/
LOCATION:Roswell Cultural Arts Center\, 950 Forrest St.\, Roswell
END:VEVENT
BEGIN:VEVENT
DTSTART;TZID=America/New_York:20251024T190000
DTEND;TZID=America/New_York:20251025T190000
DTSTAMP:20260422T134840
CREATED:20250908T163845Z
LAST-MODIFIED:20250908T163845Z
UID:10009600-1761332400-1761418800@atlantaparent.guidoclients.com
SUMMARY:Dead Air: A Halloween Radio Event
DESCRIPTION:Presented by Atlanta Radio Theatre Company\, experience a spine-tingling night of live radio drama. Oct. 24-25\, 7 p.m. $17.
URL:https://atlantaparent.guidoclients.com/event/dead-air-a-halloween-radio-event/
LOCATION:Roswell Cultural Arts Center\, 950 Forrest St.\, Roswell
END:VEVENT
BEGIN:VEVENT
DTSTART;VALUE=DATE:20250915
DTEND;VALUE=DATE:20251016
DTSTAMP:20260422T134841
CREATED:20250820T131930Z
LAST-MODIFIED:20250820T131930Z
UID:10009531-1757894400-1760572799@atlantaparent.guidoclients.com
SUMMARY:Viva Roswell
DESCRIPTION:This month-long celebration will feature music\, food\, entertainment\, cultural and educational programming. See website for pricing.
URL:https://atlantaparent.guidoclients.com/event/viva-roswell/
LOCATION:Roswell Cultural Arts Center\, 950 Forrest St.\, Roswell
END:VEVENT
BEGIN:VEVENT
DTSTART;TZID=America/New_York:20250629T150000
DTEND;TZID=America/New_York:20250629T150000
DTSTAMP:20260422T134841
CREATED:20250520T172532Z
LAST-MODIFIED:20250520T172532Z
UID:10009375-1751209200-1751209200@atlantaparent.guidoclients.com
SUMMARY:123 Andrés
DESCRIPTION:Watch this Latin Grammy-winning husband-wife team perform in Spanish and English for a fun\, interactive show. $12.
URL:https://atlantaparent.guidoclients.com/event/123-andres/
LOCATION:Roswell Cultural Arts Center\, 950 Forrest St.\, Roswell
END:VEVENT
BEGIN:VEVENT
DTSTART;VALUE=DATE:20250502
DTEND;VALUE=DATE:20250504
DTSTAMP:20260422T134841
CREATED:20250422T143710Z
LAST-MODIFIED:20250423T155746Z
UID:10007900-1746144000-1746316799@atlantaparent.guidoclients.com
SUMMARY:Rock of Ages: Youth Edition
DESCRIPTION:Join Roswell Youth Theatre for this high-energy musical set in 1987 to a fun ‘80s rock soundtrack.  May 2\, 7 p.m. and May 3\, 2 and 7 p.m. $18; ages 2 and younger\, free.
URL:https://atlantaparent.guidoclients.com/event/rock-of-ages/
LOCATION:Roswell Cultural Arts Center\, 950 Forrest St.\, Roswell
END:VEVENT
BEGIN:VEVENT
DTSTART;VALUE=DATE:20250328
DTEND;VALUE=DATE:20250331
DTSTAMP:20260422T134841
CREATED:20250217T204424Z
LAST-MODIFIED:20250219T205607Z
UID:10003768-1743120000-1743379199@atlantaparent.guidoclients.com
SUMMARY:Peter Pan
DESCRIPTION:From Atlanta Dance Theatre\, go on a ballet adventure to view this classic children’s tale. March 28\, 7 p.m.; March 29\, 2 and 7 p.m. and March 30\, 2 p.m. $26-$34.
URL:https://atlantaparent.guidoclients.com/event/peter-pan-at-infinite-energy-center/
LOCATION:Roswell Cultural Arts Center\, 950 Forrest St.\, Roswell
END:VEVENT
BEGIN:VEVENT
DTSTART;VALUE=DATE:20250308
DTEND;VALUE=DATE:20250309
DTSTAMP:20260422T134841
CREATED:20250219T203421Z
LAST-MODIFIED:20250219T203421Z
UID:10009110-1741392000-1741478399@atlantaparent.guidoclients.com
SUMMARY:Roswell Dance Starz Presents Wonderland
DESCRIPTION:Step into this whimsical world inspired by “Alice in Wonderland” with ballet\, tap\, jazz\, contemporary and hip hop. March 8\, 2 and 7 p.m. $16.50.
URL:https://atlantaparent.guidoclients.com/event/roswell-dance-starz-presents-wonderland/
LOCATION:Roswell Cultural Arts Center\, 950 Forrest St.\, Roswell
END:VEVENT
BEGIN:VEVENT
DTSTART;VALUE=DATE:20241122
DTEND;VALUE=DATE:20241124
DTSTAMP:20260422T134841
CREATED:20241015T040955Z
LAST-MODIFIED:20241021T143646Z
UID:10002299-1732233600-1732406399@atlantaparent.guidoclients.com
SUMMARY:Roswell Youth Theatre Mainstage Presents Beauty and the Beast JR.
DESCRIPTION:Belle must help the Beast\, a young prince trapped under the spell of an enchantress\, before his time to end the curse is over. Nov. 22\, 7 p.m. and Nov. 23\, 2 and 7 p.m. $18; ages 2 and younger\, free.
URL:https://atlantaparent.guidoclients.com/event/beauty-and-the-beast-5/
LOCATION:Roswell Cultural Arts Center\, 950 Forrest St.\, Roswell
END:VEVENT
BEGIN:VEVENT
DTSTART;TZID=America/New_York:20241027T160000
DTEND;TZID=America/New_York:20241027T160000
DTSTAMP:20260422T134841
CREATED:20240918T145528Z
LAST-MODIFIED:20240918T145528Z
UID:10008652-1730044800-1730044800@atlantaparent.guidoclients.com
SUMMARY:Witches Brew: An Afternoon of Jazz Enchantment
DESCRIPTION:Listen to a curated selection of jazz for a bewitching afternoon of music. $15-$20.
URL:https://atlantaparent.guidoclients.com/event/witches-brew-an-afternoon-of-jazz-enchantment/
LOCATION:Roswell Cultural Arts Center\, 950 Forrest St.\, Roswell
END:VEVENT
BEGIN:VEVENT
DTSTART;TZID=America/New_York:20241026T150000
DTEND;TZID=America/New_York:20241026T190000
DTSTAMP:20260422T134841
CREATED:20240814T032821Z
LAST-MODIFIED:20240821T144014Z
UID:10004666-1729954800-1729969200@atlantaparent.guidoclients.com
SUMMARY:Dia de los Muertos Festival
DESCRIPTION:Join in celebrating this traditional Mexican holiday with fun\, food vendors remembrance and community spirit. Free admission.
URL:https://atlantaparent.guidoclients.com/event/dia-de-los-muertos-festival-and-parade/
LOCATION:Roswell Cultural Arts Center\, 950 Forrest St.\, Roswell
ATTACH;FMTTYPE=image/png:https://atlantaparent.guidoclients.com/wp-content/uploads/2019/10/Dia-de-los-Muertos-1350-x-1005-px-e1633352937327.png
END:VEVENT
BEGIN:VEVENT
DTSTART;TZID=America/New_York:20241012T140000
DTEND;TZID=America/New_York:20241012T140000
DTSTAMP:20260422T134841
CREATED:20250901T141440Z
LAST-MODIFIED:20250912T132949Z
UID:10008760-1728741600-1728741600@atlantaparent.guidoclients.com
SUMMARY:Dino-Light
DESCRIPTION:Presented by Lightwire Theater\, view the integration of technology\, puppetry and dance for a look at a magical scientist who brings a dinosaur to life. Oct. 12\, 2 p.m. $17.
URL:https://atlantaparent.guidoclients.com/event/dino-light/
LOCATION:Roswell Cultural Arts Center\, 950 Forrest St.\, Roswell
END:VEVENT
BEGIN:VEVENT
DTSTART;VALUE=DATE:20240323
DTEND;VALUE=DATE:20240325
DTSTAMP:20260422T134841
CREATED:20240215T182250Z
LAST-MODIFIED:20240222T154954Z
UID:10006393-1711152000-1711324799@atlantaparent.guidoclients.com
SUMMARY:Beauty & the Beast
DESCRIPTION:Presented by Atlanta Dance Theatre\, Beauty sees the man behind the Beast and breaks the evil curse. March 23\, 7 p.m. and March 24\, 2 p.m. $26-$34. \n 
URL:https://atlantaparent.guidoclients.com/event/beauty-and-the-beast-9/
LOCATION:Roswell Cultural Arts Center\, 950 Forrest St.\, Roswell
END:VEVENT
BEGIN:VEVENT
DTSTART;TZID=America/New_York:20240317T160000
DTEND;TZID=America/New_York:20240317T160000
DTSTAMP:20260422T134841
CREATED:20240222T174434Z
LAST-MODIFIED:20240222T174434Z
UID:10007905-1710691200-1710691200@atlantaparent.guidoclients.com
SUMMARY:St. Patrick’s Day with Atlanta Concert Band
DESCRIPTION:Celebrate St. Patrick’s Day with the music of the Emerald Isle. $15-$20.
URL:https://atlantaparent.guidoclients.com/event/st-patricks-day-with-atlanta-concert-band/
LOCATION:Roswell Cultural Arts Center\, 950 Forrest St.\, Roswell
END:VEVENT
BEGIN:VEVENT
DTSTART;VALUE=DATE:20240315
DTEND;VALUE=DATE:20240317
DTSTAMP:20260422T134841
CREATED:20240228T165212Z
LAST-MODIFIED:20240228T165212Z
UID:10007908-1710460800-1710633599@atlantaparent.guidoclients.com
SUMMARY:Love Stories
DESCRIPTION:The threads of popular love songs are weaved together through dance\, as presented by SIDEWAYS Contemporary Dance Theater. March 15\, 7:30 p.m. and March 16\, 4 and 7:30 p.m. $21.50.
URL:https://atlantaparent.guidoclients.com/event/love-stories/
LOCATION:Roswell Cultural Arts Center\, 950 Forrest St.\, Roswell
END:VEVENT
BEGIN:VEVENT
DTSTART;VALUE=DATE:20240309
DTEND;VALUE=DATE:20240310
DTSTAMP:20260422T134841
CREATED:20240222T152607Z
LAST-MODIFIED:20240222T152607Z
UID:10007898-1709942400-1710028799@atlantaparent.guidoclients.com
SUMMARY:Charlie and The Dance Factory
DESCRIPTION:Step into a world of pure imagination with fun choreography\, vibrant costumes and delightful magic presented by Roswell Dance Starz. March 9\, 2 and 7 p.m. $16.50.
URL:https://atlantaparent.guidoclients.com/event/charlie-and-the-dance-factory/
LOCATION:Roswell Cultural Arts Center\, 950 Forrest St.\, Roswell
END:VEVENT
BEGIN:VEVENT
DTSTART;VALUE=DATE:20211027
DTEND;VALUE=DATE:20211108
DTSTAMP:20260422T134841
CREATED:20250312T180045Z
LAST-MODIFIED:20251006T181901Z
UID:10004298-1635292800-1636329599@atlantaparent.guidoclients.com
SUMMARY:Roswell Youth Theatre MainStage Presents The Addams Family Musical
DESCRIPTION:Everything will change for this kooky\, spooky family when they host a dinner for Wednesday’s normal boyfriend and his parents. Nov. 21\, 7 p.m. and Nov. 22\, 2 and 7 p.m. $17; ages 2 and younger\, free.
URL:https://atlantaparent.guidoclients.com/event/the-addams-family-2/
LOCATION:Roswell Cultural Arts Center\, 950 Forrest St.\, Roswell
END:VEVENT
END:VCALENDAR