BEGIN:VCALENDAR
VERSION:2.0
PRODID:-//OLD Atlanta Parent - ECPv6.15.11//NONSGML v1.0//EN
CALSCALE:GREGORIAN
METHOD:PUBLISH
X-WR-CALNAME:OLD Atlanta Parent
X-ORIGINAL-URL:https://atlantaparent.guidoclients.com
X-WR-CALDESC:Events for OLD Atlanta Parent
REFRESH-INTERVAL;VALUE=DURATION:PT1H
X-Robots-Tag:noindex
X-PUBLISHED-TTL:PT1H
BEGIN:VTIMEZONE
TZID:America/New_York
BEGIN:DAYLIGHT
TZOFFSETFROM:-0500
TZOFFSETTO:-0400
TZNAME:EDT
DTSTART:20160313T070000
END:DAYLIGHT
BEGIN:STANDARD
TZOFFSETFROM:-0400
TZOFFSETTO:-0500
TZNAME:EST
DTSTART:20161106T060000
END:STANDARD
BEGIN:DAYLIGHT
TZOFFSETFROM:-0500
TZOFFSETTO:-0400
TZNAME:EDT
DTSTART:20170312T070000
END:DAYLIGHT
BEGIN:STANDARD
TZOFFSETFROM:-0400
TZOFFSETTO:-0500
TZNAME:EST
DTSTART:20171105T060000
END:STANDARD
BEGIN:DAYLIGHT
TZOFFSETFROM:-0500
TZOFFSETTO:-0400
TZNAME:EDT
DTSTART:20180311T070000
END:DAYLIGHT
BEGIN:STANDARD
TZOFFSETFROM:-0400
TZOFFSETTO:-0500
TZNAME:EST
DTSTART:20181104T060000
END:STANDARD
END:VTIMEZONE
BEGIN:VEVENT
DTSTART;VALUE=DATE:20170907
DTEND;VALUE=DATE:20170918
DTSTAMP:20260425T100507
CREATED:20170822T185617Z
LAST-MODIFIED:20170822T185617Z
UID:10002116-1504742400-1505692799@atlantaparent.guidoclients.com
SUMMARY:The Hunchback of Notre Dame
DESCRIPTION:Co-production with Aurora Theatre and Theatrical Outfit. Meet favorites\, Quasimodo and Esmerelda\, and hear classics from the Disney movie. Sept. 7-17. See website for showtimes.
URL:https://atlantaparent.guidoclients.com/event/hunchback-notre-dame-2/
LOCATION:Rialto Center for the Arts\, 80 Forsyth Street\, Atlanta
GEO:33.7522498;-84.3936673
X-APPLE-STRUCTURED-LOCATION;VALUE=URI;X-ADDRESS=Rialto Center for the Arts 80 Forsyth Street Atlanta;X-APPLE-RADIUS=500;X-TITLE=80 Forsyth Street:geo:-84.3936673,33.7522498
END:VEVENT
END:VCALENDAR