BEGIN:VCALENDAR
VERSION:2.0
PRODID:-//OLD Atlanta Parent - ECPv6.15.11//NONSGML v1.0//EN
CALSCALE:GREGORIAN
METHOD:PUBLISH
X-WR-CALNAME:OLD Atlanta Parent
X-ORIGINAL-URL:https://atlantaparent.guidoclients.com
X-WR-CALDESC:Events for OLD Atlanta Parent
REFRESH-INTERVAL;VALUE=DURATION:PT1H
X-Robots-Tag:noindex
X-PUBLISHED-TTL:PT1H
BEGIN:VTIMEZONE
TZID:America/New_York
BEGIN:DAYLIGHT
TZOFFSETFROM:-0500
TZOFFSETTO:-0400
TZNAME:EDT
DTSTART:20210314T070000
END:DAYLIGHT
BEGIN:STANDARD
TZOFFSETFROM:-0400
TZOFFSETTO:-0500
TZNAME:EST
DTSTART:20211107T060000
END:STANDARD
BEGIN:DAYLIGHT
TZOFFSETFROM:-0500
TZOFFSETTO:-0400
TZNAME:EDT
DTSTART:20220313T070000
END:DAYLIGHT
BEGIN:STANDARD
TZOFFSETFROM:-0400
TZOFFSETTO:-0500
TZNAME:EST
DTSTART:20221106T060000
END:STANDARD
BEGIN:DAYLIGHT
TZOFFSETFROM:-0500
TZOFFSETTO:-0400
TZNAME:EDT
DTSTART:20230312T070000
END:DAYLIGHT
BEGIN:STANDARD
TZOFFSETFROM:-0400
TZOFFSETTO:-0500
TZNAME:EST
DTSTART:20231105T060000
END:STANDARD
BEGIN:DAYLIGHT
TZOFFSETFROM:-0500
TZOFFSETTO:-0400
TZNAME:EDT
DTSTART:20240310T070000
END:DAYLIGHT
BEGIN:STANDARD
TZOFFSETFROM:-0400
TZOFFSETTO:-0500
TZNAME:EST
DTSTART:20241103T060000
END:STANDARD
BEGIN:DAYLIGHT
TZOFFSETFROM:-0500
TZOFFSETTO:-0400
TZNAME:EDT
DTSTART:20250309T070000
END:DAYLIGHT
BEGIN:STANDARD
TZOFFSETFROM:-0400
TZOFFSETTO:-0500
TZNAME:EST
DTSTART:20251102T060000
END:STANDARD
BEGIN:DAYLIGHT
TZOFFSETFROM:-0500
TZOFFSETTO:-0400
TZNAME:EDT
DTSTART:20260308T070000
END:DAYLIGHT
BEGIN:STANDARD
TZOFFSETFROM:-0400
TZOFFSETTO:-0500
TZNAME:EST
DTSTART:20261101T060000
END:STANDARD
END:VTIMEZONE
BEGIN:VEVENT
DTSTART;TZID=America/New_York:20250615T130000
DTEND;TZID=America/New_York:20250615T190000
DTSTAMP:20260424T021220
CREATED:20250520T181759Z
LAST-MODIFIED:20250520T181759Z
UID:10009377-1749992400-1750014000@atlantaparent.guidoclients.com
SUMMARY:Father’s Day Weenie Roast
DESCRIPTION:Bring your dad\, grandfather or special friend for food\, games\, a dad pageant\, live performances and more. Free admission.
URL:https://atlantaparent.guidoclients.com/event/fathers-day-weenie-roast/
LOCATION:Pullman Yards\, Rogers St. NE\, Atlanta
GEO:33.7567288;-84.3291736
X-APPLE-STRUCTURED-LOCATION;VALUE=URI;X-ADDRESS=Pullman Yards Rogers St. NE Atlanta;X-APPLE-RADIUS=500;X-TITLE=Rogers St. NE:geo:-84.3291736,33.7567288
END:VEVENT
BEGIN:VEVENT
DTSTART;VALUE=DATE:20240419
DTEND;VALUE=DATE:20240506
DTSTAMP:20260424T021220
CREATED:20240319T131751Z
LAST-MODIFIED:20240506T123725Z
UID:10007954-1713484800-1714953599@atlantaparent.guidoclients.com
SUMMARY:Heart Strings: Creating Connection with the World’s Children
DESCRIPTION:With UNICEF USA and Moment Factory\, be transported through eight interactive zones to highlight the lives of children from around the world for a special experience-for-good. $18-$28; ages 7-12\, $0-$23.25.
URL:https://atlantaparent.guidoclients.com/event/heart-strings-creating-connection-with-the-worlds-children/
LOCATION:Pullman Yards\, Rogers St. NE\, Atlanta
ATTACH;FMTTYPE=image/jpeg:https://atlantaparent.guidoclients.com/wp-content/uploads/2024/03/UNICEF-Moment-Factory-4779-scaled-e1710854241556.jpg
GEO:33.7567288;-84.3291736
X-APPLE-STRUCTURED-LOCATION;VALUE=URI;X-ADDRESS=Pullman Yards Rogers St. NE Atlanta;X-APPLE-RADIUS=500;X-TITLE=Rogers St. NE:geo:-84.3291736,33.7567288
END:VEVENT
BEGIN:VEVENT
DTSTART;VALUE=DATE:20240217
DTEND;VALUE=DATE:20240610
DTSTAMP:20260424T021220
CREATED:20240126T175636Z
LAST-MODIFIED:20240506T124925Z
UID:10007851-1708128000-1717977599@atlantaparent.guidoclients.com
SUMMARY:Balloon Museum
DESCRIPTION:The “Let’s Fly” features inflatable installations from more than 15 different artists for a one-of-a-kind exhibit. $39+; ages 4-12\, $29+; ages 3 and younger\, free.
URL:https://atlantaparent.guidoclients.com/event/balloon-museum/
LOCATION:Pullman Yards\, Rogers St. NE\, Atlanta
ATTACH;FMTTYPE=image/jpeg:https://atlantaparent.guidoclients.com/wp-content/uploads/2024/01/NY_Ada_Details-scaled-e1706291778510.jpg
GEO:33.7567288;-84.3291736
X-APPLE-STRUCTURED-LOCATION;VALUE=URI;X-ADDRESS=Pullman Yards Rogers St. NE Atlanta;X-APPLE-RADIUS=500;X-TITLE=Rogers St. NE:geo:-84.3291736,33.7567288
END:VEVENT
BEGIN:VEVENT
DTSTART;TZID=America/New_York:20231216T120000
DTEND;TZID=America/New_York:20231216T180000
DTSTAMP:20260424T021220
CREATED:20231127T191505Z
LAST-MODIFIED:20231127T191505Z
UID:10007716-1702728000-1702749600@atlantaparent.guidoclients.com
SUMMARY:Roller Skating
DESCRIPTION:Enjoy special roller skating events. Free admission if you bring your own skates; skate rental\, $12.
URL:https://atlantaparent.guidoclients.com/event/roller-skating/2023-12-16/
LOCATION:Pullman Yards\, Rogers St. NE\, Atlanta
GEO:33.7567288;-84.3291736
X-APPLE-STRUCTURED-LOCATION;VALUE=URI;X-ADDRESS=Pullman Yards Rogers St. NE Atlanta;X-APPLE-RADIUS=500;X-TITLE=Rogers St. NE:geo:-84.3291736,33.7567288
END:VEVENT
BEGIN:VEVENT
DTSTART;VALUE=DATE:20221123
DTEND;VALUE=DATE:20230216
DTSTAMP:20260424T021220
CREATED:20221128T182042Z
LAST-MODIFIED:20221128T182042Z
UID:10006697-1669161600-1676505599@atlantaparent.guidoclients.com
SUMMARY:Skate Nights at Pullman Yards
DESCRIPTION:This ice skating rink will be sided by a toasty marshmallow bar. Fri.-Sat. ages 16+ from 8-11 p.m. Tues.-Thur. 4-10 p.m.; Fri.-Sat. 11 a.m.-11 p.m. and Sun. 11 a.m.-10 p.m. $15; ages 5 and younger\, $12.
URL:https://atlantaparent.guidoclients.com/event/skate-nights-at-pullman-yards/
LOCATION:Pullman Yards\, Rogers St. NE\, Atlanta
ATTACH;FMTTYPE=image/png:https://atlantaparent.guidoclients.com/wp-content/uploads/2022/11/image2.png
GEO:33.7567288;-84.3291736
X-APPLE-STRUCTURED-LOCATION;VALUE=URI;X-ADDRESS=Pullman Yards Rogers St. NE Atlanta;X-APPLE-RADIUS=500;X-TITLE=Rogers St. NE:geo:-84.3291736,33.7567288
END:VEVENT
BEGIN:VEVENT
DTSTART;VALUE=DATE:20220317
DTEND;VALUE=DATE:20220620
DTSTAMP:20260424T021220
CREATED:20220210T150315Z
LAST-MODIFIED:20220607T125015Z
UID:10006217-1647475200-1655683199@atlantaparent.guidoclients.com
SUMMARY:Imagine Picasso: The Immersive Exhibition
DESCRIPTION:Photo by Laurence Labat \nStep into the world of Pablo Picasso with immersive experiences and technology displaying a collection of more than 200 artworks. $31.50-$37; ages 5-12\, $22-$25.90; ages 4 and younger\, free.
URL:https://atlantaparent.guidoclients.com/event/imagine-picasso-the-immersive-exhibition/
LOCATION:Pullman Yards\, Rogers St. NE\, Atlanta
ATTACH;FMTTYPE=image/png:https://atlantaparent.guidoclients.com/wp-content/uploads/2022/02/img-3.f48ad912.png
GEO:33.7567288;-84.3291736
X-APPLE-STRUCTURED-LOCATION;VALUE=URI;X-ADDRESS=Pullman Yards Rogers St. NE Atlanta;X-APPLE-RADIUS=500;X-TITLE=Rogers St. NE:geo:-84.3291736,33.7567288
END:VEVENT
END:VCALENDAR