BEGIN:VCALENDAR
VERSION:2.0
PRODID:-//OLD Atlanta Parent - ECPv6.15.11//NONSGML v1.0//EN
CALSCALE:GREGORIAN
METHOD:PUBLISH
X-ORIGINAL-URL:https://atlantaparent.guidoclients.com
X-WR-CALDESC:Events for OLD Atlanta Parent
REFRESH-INTERVAL;VALUE=DURATION:PT1H
X-Robots-Tag:noindex
X-PUBLISHED-TTL:PT1H
BEGIN:VTIMEZONE
TZID:America/New_York
BEGIN:DAYLIGHT
TZOFFSETFROM:-0500
TZOFFSETTO:-0400
TZNAME:EDT
DTSTART:20190310T070000
END:DAYLIGHT
BEGIN:STANDARD
TZOFFSETFROM:-0400
TZOFFSETTO:-0500
TZNAME:EST
DTSTART:20191103T060000
END:STANDARD
BEGIN:DAYLIGHT
TZOFFSETFROM:-0500
TZOFFSETTO:-0400
TZNAME:EDT
DTSTART:20200308T070000
END:DAYLIGHT
BEGIN:STANDARD
TZOFFSETFROM:-0400
TZOFFSETTO:-0500
TZNAME:EST
DTSTART:20201101T060000
END:STANDARD
BEGIN:DAYLIGHT
TZOFFSETFROM:-0500
TZOFFSETTO:-0400
TZNAME:EDT
DTSTART:20210314T070000
END:DAYLIGHT
BEGIN:STANDARD
TZOFFSETFROM:-0400
TZOFFSETTO:-0500
TZNAME:EST
DTSTART:20211107T060000
END:STANDARD
END:VTIMEZONE
BEGIN:VEVENT
DTSTART;TZID=America/New_York:20200101T100000
DTEND;TZID=America/New_York:20200101T100000
DTSTAMP:20260424T021408
CREATED:20191210T050033Z
LAST-MODIFIED:20191210T190256Z
UID:10002531-1577872800-1577872800@atlantaparent.guidoclients.com
SUMMARY:Resolution Run One Mile & 50m Dash
DESCRIPTION:Get your new year’s off on the right foot with this 5K\, mile and dash. $45; Mile: $10; ages 6-14\, free; Dash: free.
URL:https://atlantaparent.guidoclients.com/event/resolution-run-one-mile-50m-dash/
LOCATION:Piedmont Park\, 400 Park Dr. NE\, Atlanta
GEO:33.7873973;-84.3743706
X-APPLE-STRUCTURED-LOCATION;VALUE=URI;X-ADDRESS=Piedmont Park 400 Park Dr. NE Atlanta;X-APPLE-RADIUS=500;X-TITLE=400 Park Dr. NE:geo:-84.3743706,33.7873973
END:VEVENT
END:VCALENDAR