BEGIN:VCALENDAR
VERSION:2.0
PRODID:-//OLD Atlanta Parent - ECPv6.15.11//NONSGML v1.0//EN
CALSCALE:GREGORIAN
METHOD:PUBLISH
X-ORIGINAL-URL:https://atlantaparent.guidoclients.com
X-WR-CALDESC:Events for OLD Atlanta Parent
REFRESH-INTERVAL;VALUE=DURATION:PT1H
X-Robots-Tag:noindex
X-PUBLISHED-TTL:PT1H
BEGIN:VTIMEZONE
TZID:America/New_York
BEGIN:DAYLIGHT
TZOFFSETFROM:-0500
TZOFFSETTO:-0400
TZNAME:EDT
DTSTART:20160313T070000
END:DAYLIGHT
BEGIN:STANDARD
TZOFFSETFROM:-0400
TZOFFSETTO:-0500
TZNAME:EST
DTSTART:20161106T060000
END:STANDARD
BEGIN:DAYLIGHT
TZOFFSETFROM:-0500
TZOFFSETTO:-0400
TZNAME:EDT
DTSTART:20170312T070000
END:DAYLIGHT
BEGIN:STANDARD
TZOFFSETFROM:-0400
TZOFFSETTO:-0500
TZNAME:EST
DTSTART:20171105T060000
END:STANDARD
BEGIN:DAYLIGHT
TZOFFSETFROM:-0500
TZOFFSETTO:-0400
TZNAME:EDT
DTSTART:20180311T070000
END:DAYLIGHT
BEGIN:STANDARD
TZOFFSETFROM:-0400
TZOFFSETTO:-0500
TZNAME:EST
DTSTART:20181104T060000
END:STANDARD
BEGIN:DAYLIGHT
TZOFFSETFROM:-0500
TZOFFSETTO:-0400
TZNAME:EDT
DTSTART:20190310T070000
END:DAYLIGHT
BEGIN:STANDARD
TZOFFSETFROM:-0400
TZOFFSETTO:-0500
TZNAME:EST
DTSTART:20191103T060000
END:STANDARD
BEGIN:DAYLIGHT
TZOFFSETFROM:-0500
TZOFFSETTO:-0400
TZNAME:EDT
DTSTART:20200308T070000
END:DAYLIGHT
BEGIN:STANDARD
TZOFFSETFROM:-0400
TZOFFSETTO:-0500
TZNAME:EST
DTSTART:20201101T060000
END:STANDARD
BEGIN:DAYLIGHT
TZOFFSETFROM:-0500
TZOFFSETTO:-0400
TZNAME:EDT
DTSTART:20210314T070000
END:DAYLIGHT
BEGIN:STANDARD
TZOFFSETFROM:-0400
TZOFFSETTO:-0500
TZNAME:EST
DTSTART:20211107T060000
END:STANDARD
BEGIN:DAYLIGHT
TZOFFSETFROM:-0500
TZOFFSETTO:-0400
TZNAME:EDT
DTSTART:20220313T070000
END:DAYLIGHT
BEGIN:STANDARD
TZOFFSETFROM:-0400
TZOFFSETTO:-0500
TZNAME:EST
DTSTART:20221106T060000
END:STANDARD
BEGIN:DAYLIGHT
TZOFFSETFROM:-0500
TZOFFSETTO:-0400
TZNAME:EDT
DTSTART:20230312T070000
END:DAYLIGHT
BEGIN:STANDARD
TZOFFSETFROM:-0400
TZOFFSETTO:-0500
TZNAME:EST
DTSTART:20231105T060000
END:STANDARD
BEGIN:DAYLIGHT
TZOFFSETFROM:-0500
TZOFFSETTO:-0400
TZNAME:EDT
DTSTART:20240310T070000
END:DAYLIGHT
BEGIN:STANDARD
TZOFFSETFROM:-0400
TZOFFSETTO:-0500
TZNAME:EST
DTSTART:20241103T060000
END:STANDARD
BEGIN:DAYLIGHT
TZOFFSETFROM:-0500
TZOFFSETTO:-0400
TZNAME:EDT
DTSTART:20250309T070000
END:DAYLIGHT
BEGIN:STANDARD
TZOFFSETFROM:-0400
TZOFFSETTO:-0500
TZNAME:EST
DTSTART:20251102T060000
END:STANDARD
END:VTIMEZONE
BEGIN:VTIMEZONE
TZID:UTC
BEGIN:STANDARD
TZOFFSETFROM:+0000
TZOFFSETTO:+0000
TZNAME:UTC
DTSTART:20170101T000000
END:STANDARD
END:VTIMEZONE
BEGIN:VEVENT
DTSTART;TZID=America/New_York:20240329T090000
DTEND;TZID=America/New_York:20240331T160000
DTSTAMP:20260422T091635
CREATED:20240201T050036Z
LAST-MODIFIED:20240216T173302Z
UID:10002601-1711702800-1711900800@atlantaparent.guidoclients.com
SUMMARY:Egg-citing Egg Hunt
DESCRIPTION:Find the hidden eggs along the nature trails with this scavenger hunt. Parking\, $5.
URL:https://atlantaparent.guidoclients.com/event/egg-citing-hike-hunt/
LOCATION:Panola Mountain State Park\, 2620 Highway 155 SW\, Stockbridge
GEO:33.6240972;-84.1750921
X-APPLE-STRUCTURED-LOCATION;VALUE=URI;X-ADDRESS=Panola Mountain State Park 2620 Highway 155 SW Stockbridge;X-APPLE-RADIUS=500;X-TITLE=2620 Highway 155 SW:geo:-84.1750921,33.6240972
END:VEVENT
BEGIN:VEVENT
DTSTART;TZID=America/New_York:20191031T140000
DTEND;TZID=America/New_York:20191031T160000
DTSTAMP:20260422T091635
CREATED:20200805T165138Z
LAST-MODIFIED:20200921T204709Z
UID:10002995-1572530400-1572537600@atlantaparent.guidoclients.com
SUMMARY:Trunk-O-Treat
DESCRIPTION:Kids can collect candy going car to car\, play on the playground\, enjoy games and contests and more. Parking\, $5; tree climbing for ages 8 and older\, $5.
URL:https://atlantaparent.guidoclients.com/event/trunk-o-treat/
LOCATION:Panola Mountain State Park\, 2620 Highway 155 SW\, Stockbridge
GEO:33.6240972;-84.1750921
X-APPLE-STRUCTURED-LOCATION;VALUE=URI;X-ADDRESS=Panola Mountain State Park 2620 Highway 155 SW Stockbridge;X-APPLE-RADIUS=500;X-TITLE=2620 Highway 155 SW:geo:-84.1750921,33.6240972
END:VEVENT
BEGIN:VEVENT
DTSTART;TZID=America/New_York:20190525T090000
DTEND;TZID=America/New_York:20190525T120000
DTSTAMP:20260422T091635
CREATED:20190426T030748Z
LAST-MODIFIED:20190427T021735Z
UID:10003878-1558774800-1558785600@atlantaparent.guidoclients.com
SUMMARY:Guided Mountain Hike
DESCRIPTION:Take a close look at unique ecology and see how outcrop plants scrape out a living in this environment. Wear hiking shoes and bring water. Register in advance. April 28\, 1-4 p.m. May 4 and 25\, 9 a.m.-noon.; May 12\, 1-4 p.m. Ages 10 and older. $10; parking\, $5.
URL:https://atlantaparent.guidoclients.com/event/guided-mountain-hike/2019-05-25/
LOCATION:Panola Mountain State Park\, 2620 Highway 155 SW\, Stockbridge
GEO:33.6240972;-84.1750921
X-APPLE-STRUCTURED-LOCATION;VALUE=URI;X-ADDRESS=Panola Mountain State Park 2620 Highway 155 SW Stockbridge;X-APPLE-RADIUS=500;X-TITLE=2620 Highway 155 SW:geo:-84.1750921,33.6240972
END:VEVENT
BEGIN:VEVENT
DTSTART;TZID=America/New_York:20190511T100000
DTEND;TZID=America/New_York:20190511T160000
DTSTAMP:20260422T091635
CREATED:20190425T015113Z
LAST-MODIFIED:20190427T005709Z
UID:10002667-1557568800-1557590400@atlantaparent.guidoclients.com
SUMMARY:Reptile Day
DESCRIPTION:Learn about and meet fascinating reptiles from our own backyards and around the world. Meet specialists from American Reptile Association\, DNR’s Wildlife Resources\, Amphibian Foundation and more. 60+ animals. $5; ages 3 and younger\, free; parking\, $5.
URL:https://atlantaparent.guidoclients.com/event/reptile-day-2/
LOCATION:Panola Mountain State Park\, 2620 Highway 155 SW\, Stockbridge
GEO:33.6240972;-84.1750921
X-APPLE-STRUCTURED-LOCATION;VALUE=URI;X-ADDRESS=Panola Mountain State Park 2620 Highway 155 SW Stockbridge;X-APPLE-RADIUS=500;X-TITLE=2620 Highway 155 SW:geo:-84.1750921,33.6240972
END:VEVENT
BEGIN:VEVENT
DTSTART;TZID=America/New_York:20190310T140000
DTEND;TZID=America/New_York:20190310T160000
DTSTAMP:20260422T091635
CREATED:20190221T211143Z
LAST-MODIFIED:20190228T183704Z
UID:10003374-1552226400-1552233600@atlantaparent.guidoclients.com
SUMMARY:Living History at Panola Mountain State Park
DESCRIPTION:Learn about Panola’s history through hands-on demonstrations that depict everyday life during the 1820s and 1830s at the Parker House. Candle and rag doll making\, butter churning and cooking. Pre-register. $5; parking $5.
URL:https://atlantaparent.guidoclients.com/event/living-history/
LOCATION:Panola Mountain State Park\, 2620 Highway 155 SW\, Stockbridge
ATTACH;FMTTYPE=image/jpeg:https://atlantaparent.guidoclients.com/wp-content/uploads/2018/01/RTM-Harvest-Homestead.jpg
GEO:33.6240972;-84.1750921
X-APPLE-STRUCTURED-LOCATION;VALUE=URI;X-ADDRESS=Panola Mountain State Park 2620 Highway 155 SW Stockbridge;X-APPLE-RADIUS=500;X-TITLE=2620 Highway 155 SW:geo:-84.1750921,33.6240972
END:VEVENT
BEGIN:VEVENT
DTSTART;VALUE=DATE:20181216
DTEND;VALUE=DATE:20181218
DTSTAMP:20260422T091635
CREATED:20181124T020447Z
LAST-MODIFIED:20181130T202334Z
UID:10000029-1544918400-1545091199@atlantaparent.guidoclients.com
SUMMARY:Intro to Tree Climbing
DESCRIPTION:Introductory program to recreational tree climbing. Participants will use rope and harness to climb\, swing and scramble. Dec. 16. Climbs begin 1 and 3 p.m. Ages 8 and older. $15; parking\, $5.
URL:https://atlantaparent.guidoclients.com/event/intro-tree-climbing/
LOCATION:Panola Mountain State Park\, 2620 Highway 155 SW\, Stockbridge
GEO:33.6240972;-84.1750921
X-APPLE-STRUCTURED-LOCATION;VALUE=URI;X-ADDRESS=Panola Mountain State Park 2620 Highway 155 SW Stockbridge;X-APPLE-RADIUS=500;X-TITLE=2620 Highway 155 SW:geo:-84.1750921,33.6240972
END:VEVENT
BEGIN:VEVENT
DTSTART;TZID=UTC:20180921T190000
DTEND;TZID=UTC:20180921T210000
DTSTAMP:20260422T091635
CREATED:20180906T040010Z
LAST-MODIFIED:20180907T191511Z
UID:10000609-1537556400-1537563600@atlantaparent.guidoclients.com
SUMMARY:Moonlight Mountain Hike
DESCRIPTION:A ranger-led hike up Panola Mountain to enjoy the sunset over Atlanta. Campfire and s’mores. Bring flashlights\, bug spray\, hiking boots and water. Ages 10 and older. Pre-register. Sept. 21. 7-9 p.m. $15; parking\, $5.
URL:https://atlantaparent.guidoclients.com/event/moonlight-mountain-hike/
LOCATION:Panola Mountain State Park\, 2620 Highway 155 SW\, Stockbridge
GEO:33.6240972;-84.1750921
X-APPLE-STRUCTURED-LOCATION;VALUE=URI;X-ADDRESS=Panola Mountain State Park 2620 Highway 155 SW Stockbridge;X-APPLE-RADIUS=500;X-TITLE=2620 Highway 155 SW:geo:-84.1750921,33.6240972
END:VEVENT
BEGIN:VEVENT
DTSTART;TZID=UTC:20180101T090000
DTEND;TZID=UTC:20180101T150000
DTSTAMP:20260422T091635
CREATED:20171218T050039Z
LAST-MODIFIED:20171219T195833Z
UID:10000809-1514797200-1514818800@atlantaparent.guidoclients.com
SUMMARY:First Day Hike
DESCRIPTION:Start the new year with a hike and s’mores and hot chocolate around a campfire. Ages 10 and older. Pre-register. $10; parking $5.
URL:https://atlantaparent.guidoclients.com/event/first-day-hike/
LOCATION:Panola Mountain State Park\, 2620 Highway 155 SW\, Stockbridge
GEO:33.6240972;-84.1750921
X-APPLE-STRUCTURED-LOCATION;VALUE=URI;X-ADDRESS=Panola Mountain State Park 2620 Highway 155 SW Stockbridge;X-APPLE-RADIUS=500;X-TITLE=2620 Highway 155 SW:geo:-84.1750921,33.6240972
END:VEVENT
BEGIN:VEVENT
DTSTART;TZID=America/New_York:20171202T170000
DTEND;TZID=America/New_York:20171202T190000
DTSTAMP:20260422T091635
CREATED:20171128T170647Z
LAST-MODIFIED:20171128T170647Z
UID:10002525-1512234000-1512241200@atlantaparent.guidoclients.com
SUMMARY:Sunset Mountain Hike
DESCRIPTION:Hike up Panola Mountain to enjoy the sunset over Atlanta then stop by a lakeside campfire to enjoy s’mores. Bring bug spray\, hiking boots and water. Ages 10 and older. Pre-register. $15; parking $5.
URL:https://atlantaparent.guidoclients.com/event/sunset-mountain-hike/
LOCATION:Panola Mountain State Park\, 2620 Highway 155 SW\, Stockbridge
GEO:33.6240972;-84.1750921
X-APPLE-STRUCTURED-LOCATION;VALUE=URI;X-ADDRESS=Panola Mountain State Park 2620 Highway 155 SW Stockbridge;X-APPLE-RADIUS=500;X-TITLE=2620 Highway 155 SW:geo:-84.1750921,33.6240972
END:VEVENT
BEGIN:VEVENT
DTSTART;TZID=America/New_York:20170704T200000
DTEND;TZID=America/New_York:20170704T223000
DTSTAMP:20260422T091635
CREATED:20170616T173751Z
LAST-MODIFIED:20170616T173751Z
UID:10001820-1499198400-1499207400@atlantaparent.guidoclients.com
SUMMARY:4th of July Fireworks Hike
DESCRIPTION:Enjoy a panoramic view of Stone Mountain and Atlanta’s Independence Day Celebrations from a distance. Bring water\, bug spray\, and a flashlight for the walk back down the mountain to a waiting campfire and s’mores. July 4. 8-10:30 p.m. Ages 8 and older. $20; parking\, $5.
URL:https://atlantaparent.guidoclients.com/event/4th-july-fireworks-hike/
LOCATION:Panola Mountain State Park\, 2620 Highway 155 SW\, Stockbridge
GEO:33.6240972;-84.1750921
X-APPLE-STRUCTURED-LOCATION;VALUE=URI;X-ADDRESS=Panola Mountain State Park 2620 Highway 155 SW Stockbridge;X-APPLE-RADIUS=500;X-TITLE=2620 Highway 155 SW:geo:-84.1750921,33.6240972
END:VEVENT
END:VCALENDAR