BEGIN:VCALENDAR
VERSION:2.0
PRODID:-//OLD Atlanta Parent - ECPv6.15.11//NONSGML v1.0//EN
CALSCALE:GREGORIAN
METHOD:PUBLISH
X-WR-CALNAME:OLD Atlanta Parent
X-ORIGINAL-URL:https://atlantaparent.guidoclients.com
X-WR-CALDESC:Events for OLD Atlanta Parent
REFRESH-INTERVAL;VALUE=DURATION:PT1H
X-Robots-Tag:noindex
X-PUBLISHED-TTL:PT1H
BEGIN:VTIMEZONE
TZID:America/New_York
BEGIN:DAYLIGHT
TZOFFSETFROM:-0500
TZOFFSETTO:-0400
TZNAME:EDT
DTSTART:20170312T070000
END:DAYLIGHT
BEGIN:STANDARD
TZOFFSETFROM:-0400
TZOFFSETTO:-0500
TZNAME:EST
DTSTART:20171105T060000
END:STANDARD
BEGIN:DAYLIGHT
TZOFFSETFROM:-0500
TZOFFSETTO:-0400
TZNAME:EDT
DTSTART:20180311T070000
END:DAYLIGHT
BEGIN:STANDARD
TZOFFSETFROM:-0400
TZOFFSETTO:-0500
TZNAME:EST
DTSTART:20181104T060000
END:STANDARD
BEGIN:DAYLIGHT
TZOFFSETFROM:-0500
TZOFFSETTO:-0400
TZNAME:EDT
DTSTART:20190310T070000
END:DAYLIGHT
BEGIN:STANDARD
TZOFFSETFROM:-0400
TZOFFSETTO:-0500
TZNAME:EST
DTSTART:20191103T060000
END:STANDARD
END:VTIMEZONE
BEGIN:VEVENT
DTSTART;TZID=America/New_York:20181013T130000
DTEND;TZID=America/New_York:20181013T170000
DTSTAMP:20260423T014050
CREATED:20180913T163824Z
LAST-MODIFIED:20180926T152441Z
UID:10003783-1539435600-1539450000@atlantaparent.guidoclients.com
SUMMARY:Fall Fun Health Fest
DESCRIPTION:Fitness demos\, assessments with health professionals\, food samples\, kids’ area with facepainting\, inflatables and more. Free.
URL:https://atlantaparent.guidoclients.com/event/fall-fun-health-fest/
LOCATION:North Springs United Methodist Church\, 7770 Roswell Rd.\, Atlanta\, GA\, United States
GEO:33.9678351;-84.362972
X-APPLE-STRUCTURED-LOCATION;VALUE=URI;X-ADDRESS=North Springs United Methodist Church 7770 Roswell Rd. Atlanta GA United States;X-APPLE-RADIUS=500;X-TITLE=7770 Roswell Rd.:geo:-84.362972,33.9678351
END:VEVENT
END:VCALENDAR