BEGIN:VCALENDAR
VERSION:2.0
PRODID:-//OLD Atlanta Parent - ECPv6.15.11//NONSGML v1.0//EN
CALSCALE:GREGORIAN
METHOD:PUBLISH
X-ORIGINAL-URL:https://atlantaparent.guidoclients.com
X-WR-CALDESC:Events for OLD Atlanta Parent
REFRESH-INTERVAL;VALUE=DURATION:PT1H
X-Robots-Tag:noindex
X-PUBLISHED-TTL:PT1H
BEGIN:VTIMEZONE
TZID:America/New_York
BEGIN:DAYLIGHT
TZOFFSETFROM:-0500
TZOFFSETTO:-0400
TZNAME:EDT
DTSTART:20220313T070000
END:DAYLIGHT
BEGIN:STANDARD
TZOFFSETFROM:-0400
TZOFFSETTO:-0500
TZNAME:EST
DTSTART:20221106T060000
END:STANDARD
BEGIN:DAYLIGHT
TZOFFSETFROM:-0500
TZOFFSETTO:-0400
TZNAME:EDT
DTSTART:20230312T070000
END:DAYLIGHT
BEGIN:STANDARD
TZOFFSETFROM:-0400
TZOFFSETTO:-0500
TZNAME:EST
DTSTART:20231105T060000
END:STANDARD
BEGIN:DAYLIGHT
TZOFFSETFROM:-0500
TZOFFSETTO:-0400
TZNAME:EDT
DTSTART:20240310T070000
END:DAYLIGHT
BEGIN:STANDARD
TZOFFSETFROM:-0400
TZOFFSETTO:-0500
TZNAME:EST
DTSTART:20241103T060000
END:STANDARD
END:VTIMEZONE
BEGIN:VEVENT
DTSTART;TZID=America/New_York:20230209T170000
DTEND;TZID=America/New_York:20230209T190000
DTSTAMP:20260423T002651
CREATED:20230207T191947Z
LAST-MODIFIED:20230207T191947Z
UID:10006760-1675962000-1675969200@atlantaparent.guidoclients.com
SUMMARY:Valentine's Princess Party
DESCRIPTION:Create special memories with Expressions in Motion Dance\, photos and Valentine’s treats. Reservation required. $35 per couple.
URL:https://atlantaparent.guidoclients.com/event/valentines-princess-party/
LOCATION:North Shallowford Annex\, 4470 N. Shallowford Rd.\, Dunwoody
GEO:33.9231457;-84.3073805
X-APPLE-STRUCTURED-LOCATION;VALUE=URI;X-ADDRESS=North Shallowford Annex 4470 N. Shallowford Rd. Dunwoody;X-APPLE-RADIUS=500;X-TITLE=4470 N. Shallowford Rd.:geo:-84.3073805,33.9231457
END:VEVENT
END:VCALENDAR