BEGIN:VCALENDAR
VERSION:2.0
PRODID:-//OLD Atlanta Parent - ECPv6.15.11//NONSGML v1.0//EN
CALSCALE:GREGORIAN
METHOD:PUBLISH
X-WR-CALNAME:OLD Atlanta Parent
X-ORIGINAL-URL:https://atlantaparent.guidoclients.com
X-WR-CALDESC:Events for OLD Atlanta Parent
REFRESH-INTERVAL;VALUE=DURATION:PT1H
X-Robots-Tag:noindex
X-PUBLISHED-TTL:PT1H
BEGIN:VTIMEZONE
TZID:America/New_York
BEGIN:DAYLIGHT
TZOFFSETFROM:-0500
TZOFFSETTO:-0400
TZNAME:EDT
DTSTART:20190310T070000
END:DAYLIGHT
BEGIN:STANDARD
TZOFFSETFROM:-0400
TZOFFSETTO:-0500
TZNAME:EST
DTSTART:20191103T060000
END:STANDARD
BEGIN:DAYLIGHT
TZOFFSETFROM:-0500
TZOFFSETTO:-0400
TZNAME:EDT
DTSTART:20200308T070000
END:DAYLIGHT
BEGIN:STANDARD
TZOFFSETFROM:-0400
TZOFFSETTO:-0500
TZNAME:EST
DTSTART:20201101T060000
END:STANDARD
BEGIN:DAYLIGHT
TZOFFSETFROM:-0500
TZOFFSETTO:-0400
TZNAME:EDT
DTSTART:20210314T070000
END:DAYLIGHT
BEGIN:STANDARD
TZOFFSETFROM:-0400
TZOFFSETTO:-0500
TZNAME:EST
DTSTART:20211107T060000
END:STANDARD
BEGIN:DAYLIGHT
TZOFFSETFROM:-0500
TZOFFSETTO:-0400
TZNAME:EDT
DTSTART:20220313T070000
END:DAYLIGHT
BEGIN:STANDARD
TZOFFSETFROM:-0400
TZOFFSETTO:-0500
TZNAME:EST
DTSTART:20221106T060000
END:STANDARD
BEGIN:DAYLIGHT
TZOFFSETFROM:-0500
TZOFFSETTO:-0400
TZNAME:EDT
DTSTART:20230312T070000
END:DAYLIGHT
BEGIN:STANDARD
TZOFFSETFROM:-0400
TZOFFSETTO:-0500
TZNAME:EST
DTSTART:20231105T060000
END:STANDARD
BEGIN:DAYLIGHT
TZOFFSETFROM:-0500
TZOFFSETTO:-0400
TZNAME:EDT
DTSTART:20240310T070000
END:DAYLIGHT
BEGIN:STANDARD
TZOFFSETFROM:-0400
TZOFFSETTO:-0500
TZNAME:EST
DTSTART:20241103T060000
END:STANDARD
BEGIN:DAYLIGHT
TZOFFSETFROM:-0500
TZOFFSETTO:-0400
TZNAME:EDT
DTSTART:20250309T070000
END:DAYLIGHT
BEGIN:STANDARD
TZOFFSETFROM:-0400
TZOFFSETTO:-0500
TZNAME:EST
DTSTART:20251102T060000
END:STANDARD
BEGIN:DAYLIGHT
TZOFFSETFROM:-0500
TZOFFSETTO:-0400
TZNAME:EDT
DTSTART:20260308T070000
END:DAYLIGHT
BEGIN:STANDARD
TZOFFSETFROM:-0400
TZOFFSETTO:-0500
TZNAME:EST
DTSTART:20261101T060000
END:STANDARD
END:VTIMEZONE
BEGIN:VEVENT
DTSTART;TZID=America/New_York:20251101T170000
DTEND;TZID=America/New_York:20251101T183000
DTSTAMP:20260423T113251
CREATED:20250806T162042Z
LAST-MODIFIED:20250908T164625Z
UID:10003173-1762016400-1762021800@atlantaparent.guidoclients.com
SUMMARY:Night of the Living Safari
DESCRIPTION:Fall activities include a safari drive thru\, pumpkin toss\, scarecrows\, photo ops and more. Free admission; donations welcome.
URL:https://atlantaparent.guidoclients.com/event/scarecrow-trail-pumpkin-fest/
LOCATION:North Georgia Wildlife Park\, 2912 Paradise Valley Road\, Cleveland
GEO:34.6223675;-83.8656005
X-APPLE-STRUCTURED-LOCATION;VALUE=URI;X-ADDRESS=North Georgia Wildlife Park 2912 Paradise Valley Road Cleveland;X-APPLE-RADIUS=500;X-TITLE=2912 Paradise Valley Road:geo:-83.8656005,34.6223675
END:VEVENT
BEGIN:VEVENT
DTSTART;TZID=America/New_York:20250419T130000
DTEND;TZID=America/New_York:20250420T150000
DTSTAMP:20260423T113251
CREATED:20250222T170844Z
LAST-MODIFIED:20250224T170545Z
UID:10007914-1745067600-1745161200@atlantaparent.guidoclients.com
SUMMARY:Bunnypalooza!
DESCRIPTION:This springtime event features Easter-themed tiny critters\, including bunnies and chicks\, for cute photos. $12; park admission\, extra.
URL:https://atlantaparent.guidoclients.com/event/bunnypalooza/
LOCATION:North Georgia Wildlife Park\, 2912 Paradise Valley Road\, Cleveland
GEO:34.6223675;-83.8656005
X-APPLE-STRUCTURED-LOCATION;VALUE=URI;X-ADDRESS=North Georgia Wildlife Park 2912 Paradise Valley Road Cleveland;X-APPLE-RADIUS=500;X-TITLE=2912 Paradise Valley Road:geo:-83.8656005,34.6223675
END:VEVENT
BEGIN:VEVENT
DTSTART;VALUE=DATE:20230618
DTEND;VALUE=DATE:20230619
DTSTAMP:20260423T113251
CREATED:20210514T175603Z
LAST-MODIFIED:20230522T131859Z
UID:10004218-1687046400-1687132799@atlantaparent.guidoclients.com
SUMMARY:Father’s Day Weekend at North Georgia Wildlife Park
DESCRIPTION:Dads get free admission with paid children and adult admission. $37.99; ages 2-11\, $35.99; ages 1 and younger\, free.
URL:https://atlantaparent.guidoclients.com/event/fathers-day-weekend-at-north-georgia-zoo/
LOCATION:North Georgia Wildlife Park\, 2912 Paradise Valley Road\, Cleveland
GEO:34.6223675;-83.8656005
X-APPLE-STRUCTURED-LOCATION;VALUE=URI;X-ADDRESS=North Georgia Wildlife Park 2912 Paradise Valley Road Cleveland;X-APPLE-RADIUS=500;X-TITLE=2912 Paradise Valley Road:geo:-83.8656005,34.6223675
END:VEVENT
BEGIN:VEVENT
DTSTART;VALUE=DATE:20221217
DTEND;VALUE=DATE:20221218
DTSTAMP:20260423T113251
CREATED:20201026T154427Z
LAST-MODIFIED:20221103T132105Z
UID:10005480-1671235200-1671321599@atlantaparent.guidoclients.com
SUMMARY:Safari Santa
DESCRIPTION:Safari Santa will visit the animals and the people for an exciting zoo visit. $24.99; ages 2-11\, $22.99; ages 1 and younger\, free; Safari Santa\, $10.
URL:https://atlantaparent.guidoclients.com/event/santa-at-the-zoo/2022-12-17/
LOCATION:North Georgia Wildlife Park\, 2912 Paradise Valley Road\, Cleveland
GEO:34.6223675;-83.8656005
X-APPLE-STRUCTURED-LOCATION;VALUE=URI;X-ADDRESS=North Georgia Wildlife Park 2912 Paradise Valley Road Cleveland;X-APPLE-RADIUS=500;X-TITLE=2912 Paradise Valley Road:geo:-83.8656005,34.6223675
END:VEVENT
BEGIN:VEVENT
DTSTART;TZID=America/New_York:20211127T170000
DTEND;TZID=America/New_York:20211127T173000
DTSTAMP:20260423T113251
CREATED:20201013T040027Z
LAST-MODIFIED:20211011T204454Z
UID:10002432-1638032400-1638034200@atlantaparent.guidoclients.com
SUMMARY:Holiday Celebration & Live Nativity
DESCRIPTION:A live nativity\, Starry Night Tours\, Christmas music and more. Free; Starry Night Tours and zoo admission\, extra.
URL:https://atlantaparent.guidoclients.com/event/holiday-celebration-live-nativity/
LOCATION:North Georgia Wildlife Park\, 2912 Paradise Valley Road\, Cleveland
GEO:34.6223675;-83.8656005
X-APPLE-STRUCTURED-LOCATION;VALUE=URI;X-ADDRESS=North Georgia Wildlife Park 2912 Paradise Valley Road Cleveland;X-APPLE-RADIUS=500;X-TITLE=2912 Paradise Valley Road:geo:-83.8656005,34.6223675
END:VEVENT
BEGIN:VEVENT
DTSTART;TZID=America/New_York:20210508T110000
DTEND;TZID=America/New_York:20210508T110000
DTSTAMP:20260423T113251
CREATED:20200720T162621Z
LAST-MODIFIED:20210427T161841Z
UID:10005137-1620471600-1620471600@atlantaparent.guidoclients.com
SUMMARY:GOGA in the Wild
DESCRIPTION:Enjoy fun yoga classes in the company of kangaroos\, pigs or goats\, with a different animal featured at each session. Registration required. For ages 10 and older. May 8\, 11 a.m.
URL:https://atlantaparent.guidoclients.com/event/goga-in-the-wild/
LOCATION:North Georgia Wildlife Park\, 2912 Paradise Valley Road\, Cleveland
ATTACH;FMTTYPE=image/jpeg:https://atlantaparent.guidoclients.com/wp-content/uploads/2020/07/Piggy-Yoga-December-2019-7-scaled-e1595262344449.jpg
GEO:34.6223675;-83.8656005
X-APPLE-STRUCTURED-LOCATION;VALUE=URI;X-ADDRESS=North Georgia Wildlife Park 2912 Paradise Valley Road Cleveland;X-APPLE-RADIUS=500;X-TITLE=2912 Paradise Valley Road:geo:-83.8656005,34.6223675
END:VEVENT
BEGIN:VEVENT
DTSTART;VALUE=DATE:20201113
DTEND;VALUE=DATE:20201116
DTSTAMP:20260423T113251
CREATED:20201027T171501Z
LAST-MODIFIED:20201027T171501Z
UID:10005490-1605225600-1605484799@atlantaparent.guidoclients.com
SUMMARY:Pumpkin Smashin Fun
DESCRIPTION:Feed your old pumpkins to the wolves\, cougars\, lemurs and more. Nov. 6-8\, 13-15. Fri. 11 a.m.-3 p.m. Sat.-Sun. 10 a.m.-4 p.m. $24.99; ages 2-11\, $22.99; ages 1 and younger\, free.
URL:https://atlantaparent.guidoclients.com/event/pumpkin-smashin-fun/2020-11-13/
LOCATION:North Georgia Wildlife Park\, 2912 Paradise Valley Road\, Cleveland
GEO:34.6223675;-83.8656005
X-APPLE-STRUCTURED-LOCATION;VALUE=URI;X-ADDRESS=North Georgia Wildlife Park 2912 Paradise Valley Road Cleveland;X-APPLE-RADIUS=500;X-TITLE=2912 Paradise Valley Road:geo:-83.8656005,34.6223675
END:VEVENT
BEGIN:VEVENT
DTSTART;VALUE=DATE:20201030
DTEND;VALUE=DATE:20201101
DTSTAMP:20260423T113252
CREATED:20201015T192238Z
LAST-MODIFIED:20201015T192238Z
UID:10005472-1604016000-1604188799@atlantaparent.guidoclients.com
SUMMARY:Night of the Living Safari
DESCRIPTION:Experience dozens of exotic animals\, including zebra\, camels\, water buffalo and more\, and receive treats from costumed staff and volunteers. Oct. 30-31\, 4-7 p.m. Free; reservation required.
URL:https://atlantaparent.guidoclients.com/event/night-of-the-living-safari/
LOCATION:North Georgia Wildlife Park\, 2912 Paradise Valley Road\, Cleveland
GEO:34.6223675;-83.8656005
X-APPLE-STRUCTURED-LOCATION;VALUE=URI;X-ADDRESS=North Georgia Wildlife Park 2912 Paradise Valley Road Cleveland;X-APPLE-RADIUS=500;X-TITLE=2912 Paradise Valley Road:geo:-83.8656005,34.6223675
END:VEVENT
END:VCALENDAR