BEGIN:VCALENDAR
VERSION:2.0
PRODID:-//OLD Atlanta Parent - ECPv6.15.11//NONSGML v1.0//EN
CALSCALE:GREGORIAN
METHOD:PUBLISH
X-ORIGINAL-URL:https://atlantaparent.guidoclients.com
X-WR-CALDESC:Events for OLD Atlanta Parent
REFRESH-INTERVAL;VALUE=DURATION:PT1H
X-Robots-Tag:noindex
X-PUBLISHED-TTL:PT1H
BEGIN:VTIMEZONE
TZID:UTC
BEGIN:STANDARD
TZOFFSETFROM:+0000
TZOFFSETTO:+0000
TZNAME:UTC
DTSTART:20160101T000000
END:STANDARD
END:VTIMEZONE
BEGIN:VEVENT
DTSTART;TZID=UTC:20170224T090000
DTEND;TZID=UTC:20170224T130000
DTSTAMP:20260425T212747
CREATED:20170123T234216Z
LAST-MODIFIED:20170123T234216Z
UID:10001828-1487926800-1487941200@atlantaparent.guidoclients.com
SUMMARY:Five and Dime Kids
DESCRIPTION:Feb. 24 and 25. Fri. 9 a.m.-3 p.m. and 5-8 p.m.; Sat. 9 a.m.-1 p.m.
URL:https://atlantaparent.guidoclients.com/event/five-dime-kids/2017-02-24/
LOCATION:New Church UMC\, 1561 McLendon Ave.\, Atlanta
GEO:33.7646294;-84.3365693
X-APPLE-STRUCTURED-LOCATION;VALUE=URI;X-ADDRESS=New Church UMC 1561 McLendon Ave. Atlanta;X-APPLE-RADIUS=500;X-TITLE=1561 McLendon Ave.:geo:-84.3365693,33.7646294
END:VEVENT
END:VCALENDAR