BEGIN:VCALENDAR
VERSION:2.0
PRODID:-//OLD Atlanta Parent - ECPv6.15.11//NONSGML v1.0//EN
CALSCALE:GREGORIAN
METHOD:PUBLISH
X-ORIGINAL-URL:https://atlantaparent.guidoclients.com
X-WR-CALDESC:Events for OLD Atlanta Parent
REFRESH-INTERVAL;VALUE=DURATION:PT1H
X-Robots-Tag:noindex
X-PUBLISHED-TTL:PT1H
BEGIN:VTIMEZONE
TZID:America/New_York
BEGIN:DAYLIGHT
TZOFFSETFROM:-0500
TZOFFSETTO:-0400
TZNAME:EDT
DTSTART:20210314T070000
END:DAYLIGHT
BEGIN:STANDARD
TZOFFSETFROM:-0400
TZOFFSETTO:-0500
TZNAME:EST
DTSTART:20211107T060000
END:STANDARD
BEGIN:DAYLIGHT
TZOFFSETFROM:-0500
TZOFFSETTO:-0400
TZNAME:EDT
DTSTART:20220313T070000
END:DAYLIGHT
BEGIN:STANDARD
TZOFFSETFROM:-0400
TZOFFSETTO:-0500
TZNAME:EST
DTSTART:20221106T060000
END:STANDARD
BEGIN:DAYLIGHT
TZOFFSETFROM:-0500
TZOFFSETTO:-0400
TZNAME:EDT
DTSTART:20230312T070000
END:DAYLIGHT
BEGIN:STANDARD
TZOFFSETFROM:-0400
TZOFFSETTO:-0500
TZNAME:EST
DTSTART:20231105T060000
END:STANDARD
BEGIN:DAYLIGHT
TZOFFSETFROM:-0500
TZOFFSETTO:-0400
TZNAME:EDT
DTSTART:20240310T070000
END:DAYLIGHT
BEGIN:STANDARD
TZOFFSETFROM:-0400
TZOFFSETTO:-0500
TZNAME:EST
DTSTART:20241103T060000
END:STANDARD
BEGIN:DAYLIGHT
TZOFFSETFROM:-0500
TZOFFSETTO:-0400
TZNAME:EDT
DTSTART:20250309T070000
END:DAYLIGHT
BEGIN:STANDARD
TZOFFSETFROM:-0400
TZOFFSETTO:-0500
TZNAME:EST
DTSTART:20251102T060000
END:STANDARD
BEGIN:DAYLIGHT
TZOFFSETFROM:-0500
TZOFFSETTO:-0400
TZNAME:EDT
DTSTART:20260308T070000
END:DAYLIGHT
BEGIN:STANDARD
TZOFFSETFROM:-0400
TZOFFSETTO:-0500
TZNAME:EST
DTSTART:20261101T060000
END:STANDARD
END:VTIMEZONE
BEGIN:VEVENT
DTSTART;TZID=America/New_York:20251220T140000
DTEND;TZID=America/New_York:20251220T140000
DTSTAMP:20260424T081456
CREATED:20251006T141058Z
LAST-MODIFIED:20251222T134410Z
UID:10006176-1766239200-1766239200@atlantaparent.guidoclients.com
SUMMARY:Imagine: Kids’ Christmas Concert
DESCRIPTION:      \n            \n\n  \n\n                \n     \nAt this sensory-friendly Christmas concert for kids\, enjoy performances from Fleetwood Dancers\, a special narrator\, sing-a-longs and an appearance from Santa Claus. $42; ages 21 and younger\, free.
URL:https://atlantaparent.guidoclients.com/event/a-kids-christmas/
LOCATION:Mount Pisgah Church\, 2850 Old Alabama Rd.\, Johns Creek
ATTACH;FMTTYPE=image/jpeg:https://atlantaparent.guidoclients.com/wp-content/uploads/2021/11/IMG_3520-scaled-e1698422458410.jpg
GEO:34.0212243;-84.2760303
X-APPLE-STRUCTURED-LOCATION;VALUE=URI;X-ADDRESS=Mount Pisgah Church 2850 Old Alabama Rd. Johns Creek;X-APPLE-RADIUS=500;X-TITLE=2850 Old Alabama Rd.:geo:-84.2760303,34.0212243
END:VEVENT
BEGIN:VEVENT
DTSTART;TZID=America/New_York:20250315T193000
DTEND;TZID=America/New_York:20250315T193000
DTSTAMP:20260424T081456
CREATED:20250220T203906Z
LAST-MODIFIED:20250220T203906Z
UID:10009114-1742067000-1742067000@atlantaparent.guidoclients.com
SUMMARY:From Screen to Stage
DESCRIPTION:Come dressed as your favorite movie character to hear Johns Creek Symphony Orchestra perform music from “Star Wars\,” “Harry Potter” and more. $22-$55.
URL:https://atlantaparent.guidoclients.com/event/from-screen-to-stage/
LOCATION:Mount Pisgah Church\, 2850 Old Alabama Rd.\, Johns Creek
GEO:34.0212243;-84.2760303
X-APPLE-STRUCTURED-LOCATION;VALUE=URI;X-ADDRESS=Mount Pisgah Church 2850 Old Alabama Rd. Johns Creek;X-APPLE-RADIUS=500;X-TITLE=2850 Old Alabama Rd.:geo:-84.2760303,34.0212243
END:VEVENT
BEGIN:VEVENT
DTSTART;TZID=America/New_York:20241214T193000
DTEND;TZID=America/New_York:20241214T193000
DTSTAMP:20260424T081456
CREATED:20241121T154904Z
LAST-MODIFIED:20241121T154904Z
UID:10008876-1734204600-1734204600@atlantaparent.guidoclients.com
SUMMARY:Holidays with the JCSO
DESCRIPTION:This concert will shine merry and bright with expressive arrangements of seasonal classics. $22-$55.
URL:https://atlantaparent.guidoclients.com/event/holidays-with-the-jcso/
LOCATION:Mount Pisgah Church\, 2850 Old Alabama Rd.\, Johns Creek
GEO:34.0212243;-84.2760303
X-APPLE-STRUCTURED-LOCATION;VALUE=URI;X-ADDRESS=Mount Pisgah Church 2850 Old Alabama Rd. Johns Creek;X-APPLE-RADIUS=500;X-TITLE=2850 Old Alabama Rd.:geo:-84.2760303,34.0212243
END:VEVENT
BEGIN:VEVENT
DTSTART;TZID=America/New_York:20221202T180000
DTEND;TZID=America/New_York:20221202T200000
DTSTAMP:20260424T081456
CREATED:20221130T183916Z
LAST-MODIFIED:20221130T183916Z
UID:10006704-1670004000-1670011200@atlantaparent.guidoclients.com
SUMMARY:Christmas Tree Lighting Festival
DESCRIPTION:This festive evening includes a live nativity\, snowy winter wonderland\, food trucks\, a scavenger hunt and the lighting of the Christmas tree. Free admission; registration requested.
URL:https://atlantaparent.guidoclients.com/event/christmas-tree-lighting-festival/
LOCATION:Mount Pisgah Church\, 2850 Old Alabama Rd.\, Johns Creek
GEO:34.0212243;-84.2760303
X-APPLE-STRUCTURED-LOCATION;VALUE=URI;X-ADDRESS=Mount Pisgah Church 2850 Old Alabama Rd. Johns Creek;X-APPLE-RADIUS=500;X-TITLE=2850 Old Alabama Rd.:geo:-84.2760303,34.0212243
END:VEVENT
END:VCALENDAR