BEGIN:VCALENDAR
VERSION:2.0
PRODID:-//OLD Atlanta Parent - ECPv6.15.11//NONSGML v1.0//EN
CALSCALE:GREGORIAN
METHOD:PUBLISH
X-ORIGINAL-URL:https://atlantaparent.guidoclients.com
X-WR-CALDESC:Events for OLD Atlanta Parent
REFRESH-INTERVAL;VALUE=DURATION:PT1H
X-Robots-Tag:noindex
X-PUBLISHED-TTL:PT1H
BEGIN:VTIMEZONE
TZID:America/New_York
BEGIN:DAYLIGHT
TZOFFSETFROM:-0500
TZOFFSETTO:-0400
TZNAME:EDT
DTSTART:20160313T070000
END:DAYLIGHT
BEGIN:STANDARD
TZOFFSETFROM:-0400
TZOFFSETTO:-0500
TZNAME:EST
DTSTART:20161106T060000
END:STANDARD
BEGIN:DAYLIGHT
TZOFFSETFROM:-0500
TZOFFSETTO:-0400
TZNAME:EDT
DTSTART:20170312T070000
END:DAYLIGHT
BEGIN:STANDARD
TZOFFSETFROM:-0400
TZOFFSETTO:-0500
TZNAME:EST
DTSTART:20171105T060000
END:STANDARD
BEGIN:DAYLIGHT
TZOFFSETFROM:-0500
TZOFFSETTO:-0400
TZNAME:EDT
DTSTART:20180311T070000
END:DAYLIGHT
BEGIN:STANDARD
TZOFFSETFROM:-0400
TZOFFSETTO:-0500
TZNAME:EST
DTSTART:20181104T060000
END:STANDARD
BEGIN:DAYLIGHT
TZOFFSETFROM:-0500
TZOFFSETTO:-0400
TZNAME:EDT
DTSTART:20190310T070000
END:DAYLIGHT
BEGIN:STANDARD
TZOFFSETFROM:-0400
TZOFFSETTO:-0500
TZNAME:EST
DTSTART:20191103T060000
END:STANDARD
BEGIN:DAYLIGHT
TZOFFSETFROM:-0500
TZOFFSETTO:-0400
TZNAME:EDT
DTSTART:20200308T070000
END:DAYLIGHT
BEGIN:STANDARD
TZOFFSETFROM:-0400
TZOFFSETTO:-0500
TZNAME:EST
DTSTART:20201101T060000
END:STANDARD
END:VTIMEZONE
BEGIN:VEVENT
DTSTART;TZID=America/New_York:20191215T140000
DTEND;TZID=America/New_York:20191215T140000
DTSTAMP:20260423T232836
CREATED:20191022T184201Z
LAST-MODIFIED:20191105T192600Z
UID:10002489-1576418400-1576418400@atlantaparent.guidoclients.com
SUMMARY:Hanukkah Storytime
DESCRIPTION:Enjoy hot drinks\, latkes\, music and photos with Mr. Dreidel.
URL:https://atlantaparent.guidoclients.com/event/hanukkah-storytime/
LOCATION:Little Shop of Stories\, 133A E. Court Street\, Decatur
GEO:39.8908815;-88.9511712
X-APPLE-STRUCTURED-LOCATION;VALUE=URI;X-ADDRESS=Little Shop of Stories 133A E. Court Street Decatur;X-APPLE-RADIUS=500;X-TITLE=133A E. Court Street:geo:-88.9511712,39.8908815
END:VEVENT
BEGIN:VEVENT
DTSTART;TZID=America/New_York:20190721T140000
DTEND;TZID=America/New_York:20190721T160000
DTSTAMP:20260423T232836
CREATED:20190715T175424Z
LAST-MODIFIED:20190715T175424Z
UID:10004304-1563717600-1563724800@atlantaparent.guidoclients.com
SUMMARY:Moon Landing 50th Anniversary Celebration
DESCRIPTION:Celebrate the moon landing with Kristy Dempsey\, author of “Papa Put a Man on the Moon\,” and Atlanta Science Festival. Enjoy a book presentation and signing and moon-themed refreshments. Solar System Bracelet kits will be available for purchase for $5. July 21.
URL:https://atlantaparent.guidoclients.com/event/moon-landing-50th-anniversary-celebration/
LOCATION:Little Shop of Stories\, 133A E. Court Street\, Decatur
GEO:39.8908815;-88.9511712
X-APPLE-STRUCTURED-LOCATION;VALUE=URI;X-ADDRESS=Little Shop of Stories 133A E. Court Street Decatur;X-APPLE-RADIUS=500;X-TITLE=133A E. Court Street:geo:-88.9511712,39.8908815
END:VEVENT
BEGIN:VEVENT
DTSTART;TZID=America/New_York:20171216T120000
DTEND;TZID=America/New_York:20171216T150000
DTSTAMP:20260423T232836
CREATED:20171114T211527Z
LAST-MODIFIED:20171114T211527Z
UID:10003312-1513425600-1513436400@atlantaparent.guidoclients.com
SUMMARY:Polar Express Storytime with Santa
DESCRIPTION:Polar Express storytime\, hot chocolate and Santa visit. Reservations recommended.
URL:https://atlantaparent.guidoclients.com/event/polar-express-storytime-santa/
LOCATION:Little Shop of Stories\, 133A E. Court Street\, Decatur
GEO:39.8908815;-88.9511712
X-APPLE-STRUCTURED-LOCATION;VALUE=URI;X-ADDRESS=Little Shop of Stories 133A E. Court Street Decatur;X-APPLE-RADIUS=500;X-TITLE=133A E. Court Street:geo:-88.9511712,39.8908815
END:VEVENT
END:VCALENDAR