BEGIN:VCALENDAR
VERSION:2.0
PRODID:-//OLD Atlanta Parent - ECPv6.15.11//NONSGML v1.0//EN
CALSCALE:GREGORIAN
METHOD:PUBLISH
X-ORIGINAL-URL:https://atlantaparent.guidoclients.com
X-WR-CALDESC:Events for OLD Atlanta Parent
REFRESH-INTERVAL;VALUE=DURATION:PT1H
X-Robots-Tag:noindex
X-PUBLISHED-TTL:PT1H
BEGIN:VTIMEZONE
TZID:America/New_York
BEGIN:DAYLIGHT
TZOFFSETFROM:-0500
TZOFFSETTO:-0400
TZNAME:EDT
DTSTART:20180311T070000
END:DAYLIGHT
BEGIN:STANDARD
TZOFFSETFROM:-0400
TZOFFSETTO:-0500
TZNAME:EST
DTSTART:20181104T060000
END:STANDARD
BEGIN:DAYLIGHT
TZOFFSETFROM:-0500
TZOFFSETTO:-0400
TZNAME:EDT
DTSTART:20190310T070000
END:DAYLIGHT
BEGIN:STANDARD
TZOFFSETFROM:-0400
TZOFFSETTO:-0500
TZNAME:EST
DTSTART:20191103T060000
END:STANDARD
BEGIN:DAYLIGHT
TZOFFSETFROM:-0500
TZOFFSETTO:-0400
TZNAME:EDT
DTSTART:20200308T070000
END:DAYLIGHT
BEGIN:STANDARD
TZOFFSETFROM:-0400
TZOFFSETTO:-0500
TZNAME:EST
DTSTART:20201101T060000
END:STANDARD
BEGIN:DAYLIGHT
TZOFFSETFROM:-0500
TZOFFSETTO:-0400
TZNAME:EDT
DTSTART:20210314T070000
END:DAYLIGHT
BEGIN:STANDARD
TZOFFSETFROM:-0400
TZOFFSETTO:-0500
TZNAME:EST
DTSTART:20211107T060000
END:STANDARD
BEGIN:DAYLIGHT
TZOFFSETFROM:-0500
TZOFFSETTO:-0400
TZNAME:EDT
DTSTART:20220313T070000
END:DAYLIGHT
BEGIN:STANDARD
TZOFFSETFROM:-0400
TZOFFSETTO:-0500
TZNAME:EST
DTSTART:20221106T060000
END:STANDARD
BEGIN:DAYLIGHT
TZOFFSETFROM:-0500
TZOFFSETTO:-0400
TZNAME:EDT
DTSTART:20230312T070000
END:DAYLIGHT
BEGIN:STANDARD
TZOFFSETFROM:-0400
TZOFFSETTO:-0500
TZNAME:EST
DTSTART:20231105T060000
END:STANDARD
BEGIN:DAYLIGHT
TZOFFSETFROM:-0500
TZOFFSETTO:-0400
TZNAME:EDT
DTSTART:20240310T070000
END:DAYLIGHT
BEGIN:STANDARD
TZOFFSETFROM:-0400
TZOFFSETTO:-0500
TZNAME:EST
DTSTART:20241103T060000
END:STANDARD
BEGIN:DAYLIGHT
TZOFFSETFROM:-0500
TZOFFSETTO:-0400
TZNAME:EDT
DTSTART:20250309T070000
END:DAYLIGHT
BEGIN:STANDARD
TZOFFSETFROM:-0400
TZOFFSETTO:-0500
TZNAME:EST
DTSTART:20251102T060000
END:STANDARD
BEGIN:DAYLIGHT
TZOFFSETFROM:-0500
TZOFFSETTO:-0400
TZNAME:EDT
DTSTART:20260308T070000
END:DAYLIGHT
BEGIN:STANDARD
TZOFFSETFROM:-0400
TZOFFSETTO:-0500
TZNAME:EST
DTSTART:20261101T060000
END:STANDARD
END:VTIMEZONE
BEGIN:VEVENT
DTSTART;VALUE=DATE:20251212
DTEND;VALUE=DATE:20251214
DTSTAMP:20260425T170636
CREATED:20251125T055534Z
LAST-MODIFIED:20251126T190235Z
UID:10004076-1765497600-1765670399@atlantaparent.guidoclients.com
SUMMARY:Atlanta International Night Market: Passport To The Holidays
DESCRIPTION:Experience the magic of a multicultural winter wonderland with global cuisines\, vendors and performances. Dec. 12\, 5-10 p.m. and Dec. 13\, 2-10 p.m.
URL:https://atlantaparent.guidoclients.com/event/glow-in-the-park/
LOCATION:Lillian Webb Park\, 5 College St.\, Norcross
GEO:33.9421015;-84.2113793
X-APPLE-STRUCTURED-LOCATION;VALUE=URI;X-ADDRESS=Lillian Webb Park 5 College St. Norcross;X-APPLE-RADIUS=500;X-TITLE=5 College St.:geo:-84.2113793,33.9421015
END:VEVENT
BEGIN:VEVENT
DTSTART;TZID=America/New_York:20250703T170000
DTEND;TZID=America/New_York:20250703T220000
DTSTAMP:20260425T170636
CREATED:20250510T162303Z
LAST-MODIFIED:20250515T190623Z
UID:10002782-1751562000-1751580000@atlantaparent.guidoclients.com
SUMMARY:Red\, White & Boom! 
DESCRIPTION:Fireworks\, delicious food\, face painting\, live music and more. Free admission.
URL:https://atlantaparent.guidoclients.com/event/red-white-boom/
LOCATION:Lillian Webb Park\, 5 College St.\, Norcross
ATTACH;FMTTYPE=image/jpeg:https://atlantaparent.guidoclients.com/wp-content/uploads/2021/05/Norcross_July_3rd_2022-12-scaled-e1684333249741.jpg
GEO:33.9421015;-84.2113793
X-APPLE-STRUCTURED-LOCATION;VALUE=URI;X-ADDRESS=Lillian Webb Park 5 College St. Norcross;X-APPLE-RADIUS=500;X-TITLE=5 College St.:geo:-84.2113793,33.9421015
END:VEVENT
BEGIN:VEVENT
DTSTART;TZID=America/New_York:20190914T150000
DTEND;TZID=America/New_York:20190914T190000
DTSTAMP:20260425T170636
CREATED:20180810T194359Z
LAST-MODIFIED:20190724T171018Z
UID:10002112-1568473200-1568487600@atlantaparent.guidoclients.com
SUMMARY:Gateway International Food and Music Festival
DESCRIPTION:Celebrate the cultural diversity of Gwinnett County without leaving it. This festival showcases the region’s best multicultural talent through food\, dance and music. Free; food for purchase. Sept. 14\, 3-7 p.m.
URL:https://atlantaparent.guidoclients.com/event/gateway-international-food-music-festival/
LOCATION:Lillian Webb Park\, 5 College St.\, Norcross
GEO:33.9421015;-84.2113793
X-APPLE-STRUCTURED-LOCATION;VALUE=URI;X-ADDRESS=Lillian Webb Park 5 College St. Norcross;X-APPLE-RADIUS=500;X-TITLE=5 College St.:geo:-84.2113793,33.9421015
END:VEVENT
END:VCALENDAR