BEGIN:VCALENDAR
VERSION:2.0
PRODID:-//OLD Atlanta Parent - ECPv6.15.11//NONSGML v1.0//EN
CALSCALE:GREGORIAN
METHOD:PUBLISH
X-WR-CALNAME:OLD Atlanta Parent
X-ORIGINAL-URL:https://atlantaparent.guidoclients.com
X-WR-CALDESC:Events for OLD Atlanta Parent
REFRESH-INTERVAL;VALUE=DURATION:PT1H
X-Robots-Tag:noindex
X-PUBLISHED-TTL:PT1H
BEGIN:VTIMEZONE
TZID:America/New_York
BEGIN:DAYLIGHT
TZOFFSETFROM:-0500
TZOFFSETTO:-0400
TZNAME:EDT
DTSTART:20240310T070000
END:DAYLIGHT
BEGIN:STANDARD
TZOFFSETFROM:-0400
TZOFFSETTO:-0500
TZNAME:EST
DTSTART:20241103T060000
END:STANDARD
BEGIN:DAYLIGHT
TZOFFSETFROM:-0500
TZOFFSETTO:-0400
TZNAME:EDT
DTSTART:20250309T070000
END:DAYLIGHT
BEGIN:STANDARD
TZOFFSETFROM:-0400
TZOFFSETTO:-0500
TZNAME:EST
DTSTART:20251102T060000
END:STANDARD
BEGIN:DAYLIGHT
TZOFFSETFROM:-0500
TZOFFSETTO:-0400
TZNAME:EDT
DTSTART:20260308T070000
END:DAYLIGHT
BEGIN:STANDARD
TZOFFSETFROM:-0400
TZOFFSETTO:-0500
TZNAME:EST
DTSTART:20261101T060000
END:STANDARD
END:VTIMEZONE
BEGIN:VEVENT
DTSTART;TZID=America/New_York:20251206T100000
DTEND;TZID=America/New_York:20251206T100000
DTSTAMP:20260425T081804
CREATED:20251030T140713Z
LAST-MODIFIED:20251030T140713Z
UID:10010210-1765015200-1765015200@atlantaparent.guidoclients.com
SUMMARY:Holiday Parade
DESCRIPTION:This cherished tradition features marching bands\, floats and holiday cheer.
URL:https://atlantaparent.guidoclients.com/event/holiday-parade/
LOCATION:Lilburn City Park\, 76 Main St.\, Lilburn
GEO:33.8863569;-84.1338906
X-APPLE-STRUCTURED-LOCATION;VALUE=URI;X-ADDRESS=Lilburn City Park 76 Main St. Lilburn;X-APPLE-RADIUS=500;X-TITLE=76 Main St.:geo:-84.1338906,33.8863569
END:VEVENT
BEGIN:VEVENT
DTSTART;TZID=America/New_York:20251122T160000
DTEND;TZID=America/New_York:20251122T190000
DTSTAMP:20260425T081804
CREATED:20251114T141154Z
LAST-MODIFIED:20251114T141154Z
UID:10010235-1763827200-1763838000@atlantaparent.guidoclients.com
SUMMARY:Holiday Lights and Flight Fest
DESCRIPTION:See a spectacular tree lighting ceremony and a one-of-a-kind holiday drone show\, and enjoy festive music\, food trucks and photos with Santa.
URL:https://atlantaparent.guidoclients.com/event/holiday-lights-and-flight-fest/
LOCATION:Lilburn City Park\, 76 Main St.\, Lilburn
GEO:33.8863569;-84.1338906
X-APPLE-STRUCTURED-LOCATION;VALUE=URI;X-ADDRESS=Lilburn City Park 76 Main St. Lilburn;X-APPLE-RADIUS=500;X-TITLE=76 Main St.:geo:-84.1338906,33.8863569
END:VEVENT
BEGIN:VEVENT
DTSTART;TZID=America/New_York:20251025T180000
DTEND;TZID=America/New_York:20251025T210000
DTSTAMP:20260425T081804
CREATED:20250908T145854Z
LAST-MODIFIED:20250908T161730Z
UID:10006619-1761415200-1761426000@atlantaparent.guidoclients.com
SUMMARY:Monsters and Movie on Main
DESCRIPTION:Celebrate Halloween with treats\, kids’ activities and “Beetlejuice” on a giant inflatable screen. Free admission.
URL:https://atlantaparent.guidoclients.com/event/monsters-and-movie-on-main/
LOCATION:Lilburn City Park\, 76 Main St.\, Lilburn
GEO:33.8863569;-84.1338906
X-APPLE-STRUCTURED-LOCATION;VALUE=URI;X-ADDRESS=Lilburn City Park 76 Main St. Lilburn;X-APPLE-RADIUS=500;X-TITLE=76 Main St.:geo:-84.1338906,33.8863569
END:VEVENT
BEGIN:VEVENT
DTSTART;TZID=America/New_York:20251011T090000
DTEND;TZID=America/New_York:20251011T170000
DTSTAMP:20260425T081804
CREATED:20250620T170157Z
LAST-MODIFIED:20250626T132235Z
UID:10008538-1760173200-1760202000@atlantaparent.guidoclients.com
SUMMARY:Lilburn Daze
DESCRIPTION:Play games\, grab a bite from food trucks\, bounce on inflatables\, watch entertainment and more. Free admission.
URL:https://atlantaparent.guidoclients.com/event/lilburn-daze/
LOCATION:Lilburn City Park\, 76 Main St.\, Lilburn
GEO:33.8863569;-84.1338906
X-APPLE-STRUCTURED-LOCATION;VALUE=URI;X-ADDRESS=Lilburn City Park 76 Main St. Lilburn;X-APPLE-RADIUS=500;X-TITLE=76 Main St.:geo:-84.1338906,33.8863569
END:VEVENT
BEGIN:VEVENT
DTSTART;TZID=America/New_York:20250805T180000
DTEND;TZID=America/New_York:20250805T203000
DTSTAMP:20260425T081804
CREATED:20250719T142049Z
LAST-MODIFIED:20250722T160216Z
UID:10008492-1754416800-1754425800@atlantaparent.guidoclients.com
SUMMARY:City of Lilburn National Night Out
DESCRIPTION:This open-air block party features patrol cars\, fire engines\, a K-9 demo\, giveaways and more.
URL:https://atlantaparent.guidoclients.com/event/city-of-lilburn-national-night-out/
LOCATION:Lilburn City Park\, 76 Main St.\, Lilburn
GEO:33.8863569;-84.1338906
X-APPLE-STRUCTURED-LOCATION;VALUE=URI;X-ADDRESS=Lilburn City Park 76 Main St. Lilburn;X-APPLE-RADIUS=500;X-TITLE=76 Main St.:geo:-84.1338906,33.8863569
END:VEVENT
BEGIN:VEVENT
DTSTART;TZID=America/New_York:20250703T180000
DTEND;TZID=America/New_York:20250703T220000
DTSTAMP:20260425T081804
CREATED:20250510T165058Z
LAST-MODIFIED:20250515T193813Z
UID:10006438-1751565600-1751580000@atlantaparent.guidoclients.com
SUMMARY:Sparkle in the Park
DESCRIPTION:Live music\, food vendors and a fireworks spectacular.
URL:https://atlantaparent.guidoclients.com/event/sparkle-in-the-park/
LOCATION:Lilburn City Park\, 76 Main St.\, Lilburn
GEO:33.8863569;-84.1338906
X-APPLE-STRUCTURED-LOCATION;VALUE=URI;X-ADDRESS=Lilburn City Park 76 Main St. Lilburn;X-APPLE-RADIUS=500;X-TITLE=76 Main St.:geo:-84.1338906,33.8863569
END:VEVENT
END:VCALENDAR