BEGIN:VCALENDAR
VERSION:2.0
PRODID:-//OLD Atlanta Parent - ECPv6.15.11//NONSGML v1.0//EN
CALSCALE:GREGORIAN
METHOD:PUBLISH
X-ORIGINAL-URL:https://atlantaparent.guidoclients.com
X-WR-CALDESC:Events for OLD Atlanta Parent
REFRESH-INTERVAL;VALUE=DURATION:PT1H
X-Robots-Tag:noindex
X-PUBLISHED-TTL:PT1H
BEGIN:VTIMEZONE
TZID:America/New_York
BEGIN:DAYLIGHT
TZOFFSETFROM:-0500
TZOFFSETTO:-0400
TZNAME:EDT
DTSTART:20200308T070000
END:DAYLIGHT
BEGIN:STANDARD
TZOFFSETFROM:-0400
TZOFFSETTO:-0500
TZNAME:EST
DTSTART:20201101T060000
END:STANDARD
BEGIN:DAYLIGHT
TZOFFSETFROM:-0500
TZOFFSETTO:-0400
TZNAME:EDT
DTSTART:20210314T070000
END:DAYLIGHT
BEGIN:STANDARD
TZOFFSETFROM:-0400
TZOFFSETTO:-0500
TZNAME:EST
DTSTART:20211107T060000
END:STANDARD
BEGIN:DAYLIGHT
TZOFFSETFROM:-0500
TZOFFSETTO:-0400
TZNAME:EDT
DTSTART:20220313T070000
END:DAYLIGHT
BEGIN:STANDARD
TZOFFSETFROM:-0400
TZOFFSETTO:-0500
TZNAME:EST
DTSTART:20221106T060000
END:STANDARD
BEGIN:DAYLIGHT
TZOFFSETFROM:-0500
TZOFFSETTO:-0400
TZNAME:EDT
DTSTART:20230312T070000
END:DAYLIGHT
BEGIN:STANDARD
TZOFFSETFROM:-0400
TZOFFSETTO:-0500
TZNAME:EST
DTSTART:20231105T060000
END:STANDARD
BEGIN:DAYLIGHT
TZOFFSETFROM:-0500
TZOFFSETTO:-0400
TZNAME:EDT
DTSTART:20240310T070000
END:DAYLIGHT
BEGIN:STANDARD
TZOFFSETFROM:-0400
TZOFFSETTO:-0500
TZNAME:EST
DTSTART:20241103T060000
END:STANDARD
BEGIN:DAYLIGHT
TZOFFSETFROM:-0500
TZOFFSETTO:-0400
TZNAME:EDT
DTSTART:20250309T070000
END:DAYLIGHT
BEGIN:STANDARD
TZOFFSETFROM:-0400
TZOFFSETTO:-0500
TZNAME:EST
DTSTART:20251102T060000
END:STANDARD
BEGIN:DAYLIGHT
TZOFFSETFROM:-0500
TZOFFSETTO:-0400
TZNAME:EDT
DTSTART:20260308T070000
END:DAYLIGHT
BEGIN:STANDARD
TZOFFSETFROM:-0400
TZOFFSETTO:-0500
TZNAME:EST
DTSTART:20261101T060000
END:STANDARD
END:VTIMEZONE
BEGIN:VEVENT
DTSTART;TZID=America/New_York:20250426T100000
DTEND;TZID=America/New_York:20250426T140000
DTSTAMP:20260422T065920
CREATED:20250319T134715Z
LAST-MODIFIED:20250321T150204Z
UID:10007961-1745661600-1745676000@atlantaparent.guidoclients.com
SUMMARY:Earth Day Decatur
DESCRIPTION:Play yard games\, learn about sustainability and the environment\, take home a tree seedling\, and enjoy lots of family fun activities. Free admission.
URL:https://atlantaparent.guidoclients.com/event/earth-day-decatur/
LOCATION:Legacy Park\, 500 S. Columbia Dr.\, Decatur
ATTACH;FMTTYPE=image/jpeg:https://atlantaparent.guidoclients.com/wp-content/uploads/2024/03/Student-scaled-e1710856020117.jpg
END:VEVENT
BEGIN:VEVENT
DTSTART;TZID=America/New_York:20230930T110000
DTEND;TZID=America/New_York:20230930T150000
DTSTAMP:20260422T065920
CREATED:20230914T182836Z
LAST-MODIFIED:20230914T182836Z
UID:10007451-1696071600-1696086000@atlantaparent.guidoclients.com
SUMMARY:CompassionCon
DESCRIPTION:Celebrate compassion and community with this interactive festival featuring activities and family-friendly attractions\, including youth performances\, a learning garden\, face painting and more.
URL:https://atlantaparent.guidoclients.com/event/compassioncon/
LOCATION:Legacy Park\, 500 S. Columbia Dr.\, Decatur
END:VEVENT
BEGIN:VEVENT
DTSTART;VALUE=DATE:20210814
DTEND;VALUE=DATE:20210815
DTSTAMP:20260422T065920
CREATED:20200221T190323Z
LAST-MODIFIED:20210816T124110Z
UID:10002965-1628899200-1628985599@atlantaparent.guidoclients.com
SUMMARY:Decatur BBQ\, Blues and Bluegrass Festival
DESCRIPTION:Enjoy classic southern BBQ\, blues and bluegrass music and more. Aug. 14. $30; ages 12 and younger\, free.
URL:https://atlantaparent.guidoclients.com/event/decatur-bbq-blues-bluegrass-festival/
LOCATION:Legacy Park\, 500 S. Columbia Dr.\, Decatur
ATTACH;FMTTYPE=image/jpeg:https://atlantaparent.guidoclients.com/wp-content/uploads/2020/02/family-fun-bubbles-.jpg
END:VEVENT
END:VCALENDAR