BEGIN:VCALENDAR
VERSION:2.0
PRODID:-//OLD Atlanta Parent - ECPv6.15.11//NONSGML v1.0//EN
CALSCALE:GREGORIAN
METHOD:PUBLISH
X-WR-CALNAME:OLD Atlanta Parent
X-ORIGINAL-URL:https://atlantaparent.guidoclients.com
X-WR-CALDESC:Events for OLD Atlanta Parent
REFRESH-INTERVAL;VALUE=DURATION:PT1H
X-Robots-Tag:noindex
X-PUBLISHED-TTL:PT1H
BEGIN:VTIMEZONE
TZID:America/New_York
BEGIN:DAYLIGHT
TZOFFSETFROM:-0500
TZOFFSETTO:-0400
TZNAME:EDT
DTSTART:20190310T070000
END:DAYLIGHT
BEGIN:STANDARD
TZOFFSETFROM:-0400
TZOFFSETTO:-0500
TZNAME:EST
DTSTART:20191103T060000
END:STANDARD
BEGIN:DAYLIGHT
TZOFFSETFROM:-0500
TZOFFSETTO:-0400
TZNAME:EDT
DTSTART:20200308T070000
END:DAYLIGHT
BEGIN:STANDARD
TZOFFSETFROM:-0400
TZOFFSETTO:-0500
TZNAME:EST
DTSTART:20201101T060000
END:STANDARD
BEGIN:DAYLIGHT
TZOFFSETFROM:-0500
TZOFFSETTO:-0400
TZNAME:EDT
DTSTART:20210314T070000
END:DAYLIGHT
BEGIN:STANDARD
TZOFFSETFROM:-0400
TZOFFSETTO:-0500
TZNAME:EST
DTSTART:20211107T060000
END:STANDARD
BEGIN:DAYLIGHT
TZOFFSETFROM:-0500
TZOFFSETTO:-0400
TZNAME:EDT
DTSTART:20220313T070000
END:DAYLIGHT
BEGIN:STANDARD
TZOFFSETFROM:-0400
TZOFFSETTO:-0500
TZNAME:EST
DTSTART:20221106T060000
END:STANDARD
BEGIN:DAYLIGHT
TZOFFSETFROM:-0500
TZOFFSETTO:-0400
TZNAME:EDT
DTSTART:20230312T070000
END:DAYLIGHT
BEGIN:STANDARD
TZOFFSETFROM:-0400
TZOFFSETTO:-0500
TZNAME:EST
DTSTART:20231105T060000
END:STANDARD
BEGIN:DAYLIGHT
TZOFFSETFROM:-0500
TZOFFSETTO:-0400
TZNAME:EDT
DTSTART:20240310T070000
END:DAYLIGHT
BEGIN:STANDARD
TZOFFSETFROM:-0400
TZOFFSETTO:-0500
TZNAME:EST
DTSTART:20241103T060000
END:STANDARD
BEGIN:DAYLIGHT
TZOFFSETFROM:-0500
TZOFFSETTO:-0400
TZNAME:EDT
DTSTART:20250309T070000
END:DAYLIGHT
BEGIN:STANDARD
TZOFFSETFROM:-0400
TZOFFSETTO:-0500
TZNAME:EST
DTSTART:20251102T060000
END:STANDARD
END:VTIMEZONE
BEGIN:VEVENT
DTSTART;VALUE=DATE:20241122
DTEND;VALUE=DATE:20241225
DTSTAMP:20260422T215159
CREATED:20241008T040058Z
LAST-MODIFIED:20251017T172218Z
UID:10002454-1732233600-1735084799@atlantaparent.guidoclients.com
SUMMARY:Atlanta Christkindl Market
DESCRIPTION:Enjoy authentic German food and beverages in a festive shopping atmosphere on the Lawrenceville Lawn. Visits with Santa ($25) are available by appointment; see website for schedule. \n 
URL:https://atlantaparent.guidoclients.com/event/christkindl-market/
LOCATION:Lawrenceville Lawn\, 210 Luckie Street\, Lawrenceville
ATTACH;FMTTYPE=image/jpeg:https://atlantaparent.guidoclients.com/wp-content/uploads/2020/10/Buckhead-Village-Holiday_Photo-Courtesy-of-JamestownIMG_6635.jpg
GEO:33.954352;-83.9867919
X-APPLE-STRUCTURED-LOCATION;VALUE=URI;X-ADDRESS=Lawrenceville Lawn 210 Luckie Street Lawrenceville;X-APPLE-RADIUS=500;X-TITLE=210 Luckie Street:geo:-83.9867919,33.954352
END:VEVENT
BEGIN:VEVENT
DTSTART;TZID=America/New_York:20200411T110000
DTEND;TZID=America/New_York:20200411T120000
DTSTAMP:20260422T215159
CREATED:20200309T182056Z
LAST-MODIFIED:20200324T175538Z
UID:10005017-1586602800-1586606400@atlantaparent.guidoclients.com
SUMMARY:Easter Egg Hunt
DESCRIPTION:Due to cancellations to prevent the spread of coronavirus\, please verify event before you go. \nLawrenceville First Baptist church hosts a traditional egg hunt on the courthouse front lawn.
URL:https://atlantaparent.guidoclients.com/event/easter-egg-hunt-5/
LOCATION:Lawrenceville Lawn\, 210 Luckie Street\, Lawrenceville
GEO:33.954352;-83.9867919
X-APPLE-STRUCTURED-LOCATION;VALUE=URI;X-ADDRESS=Lawrenceville Lawn 210 Luckie Street Lawrenceville;X-APPLE-RADIUS=500;X-TITLE=210 Luckie Street:geo:-83.9867919,33.954352
END:VEVENT
END:VCALENDAR