BEGIN:VCALENDAR
VERSION:2.0
PRODID:-//OLD Atlanta Parent - ECPv6.15.11//NONSGML v1.0//EN
CALSCALE:GREGORIAN
METHOD:PUBLISH
X-ORIGINAL-URL:https://atlantaparent.guidoclients.com
X-WR-CALDESC:Events for OLD Atlanta Parent
REFRESH-INTERVAL;VALUE=DURATION:PT1H
X-Robots-Tag:noindex
X-PUBLISHED-TTL:PT1H
BEGIN:VTIMEZONE
TZID:America/New_York
BEGIN:DAYLIGHT
TZOFFSETFROM:-0500
TZOFFSETTO:-0400
TZNAME:EDT
DTSTART:20180311T070000
END:DAYLIGHT
BEGIN:STANDARD
TZOFFSETFROM:-0400
TZOFFSETTO:-0500
TZNAME:EST
DTSTART:20181104T060000
END:STANDARD
BEGIN:DAYLIGHT
TZOFFSETFROM:-0500
TZOFFSETTO:-0400
TZNAME:EDT
DTSTART:20190310T070000
END:DAYLIGHT
BEGIN:STANDARD
TZOFFSETFROM:-0400
TZOFFSETTO:-0500
TZNAME:EST
DTSTART:20191103T060000
END:STANDARD
BEGIN:DAYLIGHT
TZOFFSETFROM:-0500
TZOFFSETTO:-0400
TZNAME:EDT
DTSTART:20200308T070000
END:DAYLIGHT
BEGIN:STANDARD
TZOFFSETFROM:-0400
TZOFFSETTO:-0500
TZNAME:EST
DTSTART:20201101T060000
END:STANDARD
END:VTIMEZONE
BEGIN:VEVENT
DTSTART;VALUE=DATE:20191018
DTEND;VALUE=DATE:20191020
DTSTAMP:20260421T223156
CREATED:20190812T200929Z
LAST-MODIFIED:20191021T124739Z
UID:10004382-1571356800-1571529599@atlantaparent.guidoclients.com
SUMMARY:Owl-O-Ween Hot Air Balloon Festival
DESCRIPTION:Celebrate Halloween with a costume party\, live entertainment\, hot air balloon glows and balloon rides\, trick-or-treating\, food trucks\, an interactive kids zone and more. Oct. 18-19\, 6-11 p.m. $19; ages 3-12\, $9; ages 2 and younger\, free.
URL:https://atlantaparent.guidoclients.com/event/owl-o-ween-hot-air-balloon-festival/
LOCATION:Kennesaw State’s Sports + Entertainment Park\, 3200 George Busbee Parkway\, Kennesaw
ATTACH;FMTTYPE=image/png:https://atlantaparent.guidoclients.com/wp-content/uploads/2019/08/owl-o-ween.png
END:VEVENT
END:VCALENDAR