BEGIN:VCALENDAR
VERSION:2.0
PRODID:-//OLD Atlanta Parent - ECPv6.15.11//NONSGML v1.0//EN
CALSCALE:GREGORIAN
METHOD:PUBLISH
X-WR-CALNAME:OLD Atlanta Parent
X-ORIGINAL-URL:https://atlantaparent.guidoclients.com
X-WR-CALDESC:Events for OLD Atlanta Parent
REFRESH-INTERVAL;VALUE=DURATION:PT1H
X-Robots-Tag:noindex
X-PUBLISHED-TTL:PT1H
BEGIN:VTIMEZONE
TZID:America/New_York
BEGIN:DAYLIGHT
TZOFFSETFROM:-0500
TZOFFSETTO:-0400
TZNAME:EDT
DTSTART:20210314T070000
END:DAYLIGHT
BEGIN:STANDARD
TZOFFSETFROM:-0400
TZOFFSETTO:-0500
TZNAME:EST
DTSTART:20211107T060000
END:STANDARD
BEGIN:DAYLIGHT
TZOFFSETFROM:-0500
TZOFFSETTO:-0400
TZNAME:EDT
DTSTART:20220313T070000
END:DAYLIGHT
BEGIN:STANDARD
TZOFFSETFROM:-0400
TZOFFSETTO:-0500
TZNAME:EST
DTSTART:20221106T060000
END:STANDARD
BEGIN:DAYLIGHT
TZOFFSETFROM:-0500
TZOFFSETTO:-0400
TZNAME:EDT
DTSTART:20230312T070000
END:DAYLIGHT
BEGIN:STANDARD
TZOFFSETFROM:-0400
TZOFFSETTO:-0500
TZNAME:EST
DTSTART:20231105T060000
END:STANDARD
BEGIN:DAYLIGHT
TZOFFSETFROM:-0500
TZOFFSETTO:-0400
TZNAME:EDT
DTSTART:20240310T070000
END:DAYLIGHT
BEGIN:STANDARD
TZOFFSETFROM:-0400
TZOFFSETTO:-0500
TZNAME:EST
DTSTART:20241103T060000
END:STANDARD
END:VTIMEZONE
BEGIN:VEVENT
DTSTART;TZID=America/New_York:20231203T103000
DTEND;TZID=America/New_York:20231203T150000
DTSTAMP:20260423T173307
CREATED:20231121T211136Z
LAST-MODIFIED:20231121T211136Z
UID:10007708-1701599400-1701615600@atlantaparent.guidoclients.com
SUMMARY:Family Brunch with Santa
DESCRIPTION:This brunch buffet includes Santa\, cookie decorating\, a heartwarming holiday movie and delicious food. Dec. 3\, 11 a.m. and 1 p.m. $104.54; ages 4-11\, $65.34; ages 3 and younger\, free.
URL:https://atlantaparent.guidoclients.com/event/family-brunch-with-santa/
LOCATION:InterContinental Buckhead Atlanta\, 3315 Peachtree Rd. NE\, Atlanta
GEO:33.8457313;-84.3684404
X-APPLE-STRUCTURED-LOCATION;VALUE=URI;X-ADDRESS=InterContinental Buckhead Atlanta 3315 Peachtree Rd. NE Atlanta;X-APPLE-RADIUS=500;X-TITLE=3315 Peachtree Rd. NE:geo:-84.3684404,33.8457313
END:VEVENT
BEGIN:VEVENT
DTSTART;VALUE=DATE:20221204
DTEND;VALUE=DATE:20221205
DTSTAMP:20260423T173307
CREATED:20201111T142106Z
LAST-MODIFIED:20221128T172122Z
UID:10002513-1670112000-1670198399@atlantaparent.guidoclients.com
SUMMARY:Children’s Holiday Party
DESCRIPTION:Enjoy an array of children’s festivities\, a large buffet\, a holiday cookie decorating station and visits with Santa. Reservation required. Dec. 4\, 11 a.m.-12:30 p.m. and 1-2:30 p.m. $70; ages 3-11\, $40; ages 2 and younger\, free.
URL:https://atlantaparent.guidoclients.com/event/childrens-holiday-party/
LOCATION:InterContinental Buckhead Atlanta\, 3315 Peachtree Rd. NE\, Atlanta
GEO:33.8457313;-84.3684404
X-APPLE-STRUCTURED-LOCATION;VALUE=URI;X-ADDRESS=InterContinental Buckhead Atlanta 3315 Peachtree Rd. NE Atlanta;X-APPLE-RADIUS=500;X-TITLE=3315 Peachtree Rd. NE:geo:-84.3684404,33.8457313
END:VEVENT
END:VCALENDAR