BEGIN:VCALENDAR
VERSION:2.0
PRODID:-//OLD Atlanta Parent - ECPv6.15.11//NONSGML v1.0//EN
CALSCALE:GREGORIAN
METHOD:PUBLISH
X-ORIGINAL-URL:https://atlantaparent.guidoclients.com
X-WR-CALDESC:Events for OLD Atlanta Parent
REFRESH-INTERVAL;VALUE=DURATION:PT1H
X-Robots-Tag:noindex
X-PUBLISHED-TTL:PT1H
BEGIN:VTIMEZONE
TZID:UTC
BEGIN:STANDARD
TZOFFSETFROM:+0000
TZOFFSETTO:+0000
TZNAME:UTC
DTSTART:20180101T000000
END:STANDARD
END:VTIMEZONE
BEGIN:VEVENT
DTSTART;TZID=UTC:20191229T130000
DTEND;TZID=UTC:20191229T170000
DTSTAMP:20260422T001243
CREATED:20230624T180619Z
LAST-MODIFIED:20230624T180619Z
UID:10000386-1577624400-1577638800@atlantaparent.guidoclients.com
SUMMARY:INK Craft Weeks
DESCRIPTION:Create different themed crafts each week. Check website for schedule. Mon.-Sat. 10 a.m.-5 p.m. Sun. 1-5 p.m. $1 with museum admission. $9.
URL:https://atlantaparent.guidoclients.com/event/ink-craft-weeks/2019-12-29/
LOCATION:Interactive Neighborhood for Kids\, 999 Chestnut Street\, Gainesville
ATTACH;FMTTYPE=image/jpeg:https://atlantaparent.guidoclients.com/wp-content/uploads/2017/11/AZ2U8871.jpg
END:VEVENT
END:VCALENDAR