BEGIN:VCALENDAR
VERSION:2.0
PRODID:-//OLD Atlanta Parent - ECPv6.15.11//NONSGML v1.0//EN
CALSCALE:GREGORIAN
METHOD:PUBLISH
X-ORIGINAL-URL:https://atlantaparent.guidoclients.com
X-WR-CALDESC:Events for OLD Atlanta Parent
REFRESH-INTERVAL;VALUE=DURATION:PT1H
X-Robots-Tag:noindex
X-PUBLISHED-TTL:PT1H
BEGIN:VTIMEZONE
TZID:UTC
BEGIN:STANDARD
TZOFFSETFROM:+0000
TZOFFSETTO:+0000
TZNAME:UTC
DTSTART:20160101T000000
END:STANDARD
END:VTIMEZONE
BEGIN:VEVENT
DTSTART;TZID=UTC:20170429T083000
DTEND;TZID=UTC:20170429T150000
DTSTAMP:20260425T200913
CREATED:20170406T202623Z
LAST-MODIFIED:20170406T202623Z
UID:10002549-1493454600-1493478000@atlantaparent.guidoclients.com
SUMMARY:Youth Fishing Clinic
DESCRIPTION:A free fishing clinic for youth (ages 5 and older) by Teach a Child to Fish. April 8\, 15 and 29. 8:30 a.m.-3 p.m. Fishing gear and lunch will be provided. “Teach a Child to Fish” is a nonprofit organization with the mission of mentoring youth through fishing programs.
URL:https://atlantaparent.guidoclients.com/event/youth-fishing-clinic/2017-04-29/
LOCATION:Hyde Farm\, 726 Hyde Rd\, \, Marietta
GEO:33.965688;-84.390147
X-APPLE-STRUCTURED-LOCATION;VALUE=URI;X-ADDRESS=Hyde Farm 726 Hyde Rd  Marietta;X-APPLE-RADIUS=500;X-TITLE=726 Hyde Rd\,:geo:-84.390147,33.965688
END:VEVENT
END:VCALENDAR