BEGIN:VCALENDAR
VERSION:2.0
PRODID:-//OLD Atlanta Parent - ECPv6.15.11//NONSGML v1.0//EN
CALSCALE:GREGORIAN
METHOD:PUBLISH
X-ORIGINAL-URL:https://atlantaparent.guidoclients.com
X-WR-CALDESC:Events for OLD Atlanta Parent
REFRESH-INTERVAL;VALUE=DURATION:PT1H
X-Robots-Tag:noindex
X-PUBLISHED-TTL:PT1H
BEGIN:VTIMEZONE
TZID:UTC
BEGIN:STANDARD
TZOFFSETFROM:+0000
TZOFFSETTO:+0000
TZNAME:UTC
DTSTART:20160101T000000
END:STANDARD
END:VTIMEZONE
BEGIN:VEVENT
DTSTART;TZID=UTC:20171202T160000
DTEND;TZID=UTC:20171202T160000
DTSTAMP:20260422T163819
CREATED:20171114T050038Z
LAST-MODIFIED:20171114T185829Z
UID:10000015-1512230400-1512230400@atlantaparent.guidoclients.com
SUMMARY:Christmas Tree Lighting
DESCRIPTION:Annual lighting of tree\, music\, Santa\, snow\, roasting marshmallows and more. Dec. 2. Pictures with Santa and Mrs. Claus at 5 p.m. and lighting at 6:15 p.m.
URL:https://atlantaparent.guidoclients.com/event/christmas-tree-lighting-2/
LOCATION:Historic Downtown Alpharetta\, 20 North Main Street\, Alpharetta
GEO:34.0760995;-84.2947654
X-APPLE-STRUCTURED-LOCATION;VALUE=URI;X-ADDRESS=Historic Downtown Alpharetta 20 North Main Street Alpharetta;X-APPLE-RADIUS=500;X-TITLE=20 North Main Street:geo:-84.2947654,34.0760995
END:VEVENT
END:VCALENDAR