BEGIN:VCALENDAR
VERSION:2.0
PRODID:-//OLD Atlanta Parent - ECPv6.15.11//NONSGML v1.0//EN
CALSCALE:GREGORIAN
METHOD:PUBLISH
X-WR-CALNAME:OLD Atlanta Parent
X-ORIGINAL-URL:https://atlantaparent.guidoclients.com
X-WR-CALDESC:Events for OLD Atlanta Parent
REFRESH-INTERVAL;VALUE=DURATION:PT1H
X-Robots-Tag:noindex
X-PUBLISHED-TTL:PT1H
BEGIN:VTIMEZONE
TZID:America/New_York
BEGIN:DAYLIGHT
TZOFFSETFROM:-0500
TZOFFSETTO:-0400
TZNAME:EDT
DTSTART:20180311T070000
END:DAYLIGHT
BEGIN:STANDARD
TZOFFSETFROM:-0400
TZOFFSETTO:-0500
TZNAME:EST
DTSTART:20181104T060000
END:STANDARD
BEGIN:DAYLIGHT
TZOFFSETFROM:-0500
TZOFFSETTO:-0400
TZNAME:EDT
DTSTART:20190310T070000
END:DAYLIGHT
BEGIN:STANDARD
TZOFFSETFROM:-0400
TZOFFSETTO:-0500
TZNAME:EST
DTSTART:20191103T060000
END:STANDARD
BEGIN:DAYLIGHT
TZOFFSETFROM:-0500
TZOFFSETTO:-0400
TZNAME:EDT
DTSTART:20200308T070000
END:DAYLIGHT
BEGIN:STANDARD
TZOFFSETFROM:-0400
TZOFFSETTO:-0500
TZNAME:EST
DTSTART:20201101T060000
END:STANDARD
BEGIN:DAYLIGHT
TZOFFSETFROM:-0500
TZOFFSETTO:-0400
TZNAME:EDT
DTSTART:20210314T070000
END:DAYLIGHT
BEGIN:STANDARD
TZOFFSETFROM:-0400
TZOFFSETTO:-0500
TZNAME:EST
DTSTART:20211107T060000
END:STANDARD
BEGIN:DAYLIGHT
TZOFFSETFROM:-0500
TZOFFSETTO:-0400
TZNAME:EDT
DTSTART:20220313T070000
END:DAYLIGHT
BEGIN:STANDARD
TZOFFSETFROM:-0400
TZOFFSETTO:-0500
TZNAME:EST
DTSTART:20221106T060000
END:STANDARD
BEGIN:DAYLIGHT
TZOFFSETFROM:-0500
TZOFFSETTO:-0400
TZNAME:EDT
DTSTART:20230312T070000
END:DAYLIGHT
BEGIN:STANDARD
TZOFFSETFROM:-0400
TZOFFSETTO:-0500
TZNAME:EST
DTSTART:20231105T060000
END:STANDARD
BEGIN:DAYLIGHT
TZOFFSETFROM:-0500
TZOFFSETTO:-0400
TZNAME:EDT
DTSTART:20240310T070000
END:DAYLIGHT
BEGIN:STANDARD
TZOFFSETFROM:-0400
TZOFFSETTO:-0500
TZNAME:EST
DTSTART:20241103T060000
END:STANDARD
BEGIN:DAYLIGHT
TZOFFSETFROM:-0500
TZOFFSETTO:-0400
TZNAME:EDT
DTSTART:20250309T070000
END:DAYLIGHT
BEGIN:STANDARD
TZOFFSETFROM:-0400
TZOFFSETTO:-0500
TZNAME:EST
DTSTART:20251102T060000
END:STANDARD
BEGIN:DAYLIGHT
TZOFFSETFROM:-0500
TZOFFSETTO:-0400
TZNAME:EDT
DTSTART:20260308T070000
END:DAYLIGHT
BEGIN:STANDARD
TZOFFSETFROM:-0400
TZOFFSETTO:-0500
TZNAME:EST
DTSTART:20261101T060000
END:STANDARD
END:VTIMEZONE
BEGIN:VEVENT
DTSTART;TZID=America/New_York:20251203T173000
DTEND;TZID=America/New_York:20251203T173000
DTSTAMP:20260425T213833
CREATED:20251101T142555Z
LAST-MODIFIED:20251121T161357Z
UID:10008835-1764783000-1764783000@atlantaparent.guidoclients.com
SUMMARY:Snow Day Movie Matinee
DESCRIPTION:Wear your pjs to watch “Frozen\,” enjoy a hot chocolate bar\, take home a goody bag and more. This is an inclusive event designed to create an opportunity for people with disabilities and their families to connect within the community. Registration required. Free admission.
URL:https://atlantaparent.guidoclients.com/event/snow-day-movie-matinee/
LOCATION:Heritage Sandy Springs\, 6075 Sandy Springs Circle\, Sandy Springs
GEO:33.9217627;-84.3834341
X-APPLE-STRUCTURED-LOCATION;VALUE=URI;X-ADDRESS=Heritage Sandy Springs 6075 Sandy Springs Circle Sandy Springs;X-APPLE-RADIUS=500;X-TITLE=6075 Sandy Springs Circle:geo:-84.3834341,33.9217627
END:VEVENT
BEGIN:VEVENT
DTSTART;VALUE=DATE:20190928
DTEND;VALUE=DATE:20190930
DTSTAMP:20260425T213833
CREATED:20180807T172131Z
LAST-MODIFIED:20190724T182727Z
UID:10002920-1569628800-1569801599@atlantaparent.guidoclients.com
SUMMARY:Sandy Springs Festival
DESCRIPTION:Art\, live music\, cultural performances\, a pet parade\, Chalk Walk Art Competition\, 10K and 5K race\, children’s programming\, classic rides and food. Sept. 28\, 9 a.m.-5 p.m.; Sept. 29\, 11 a.m.-5 p.m.
URL:https://atlantaparent.guidoclients.com/event/sandy-springs-festival/
LOCATION:Heritage Sandy Springs\, 6075 Sandy Springs Circle\, Sandy Springs
GEO:33.9217627;-84.3834341
X-APPLE-STRUCTURED-LOCATION;VALUE=URI;X-ADDRESS=Heritage Sandy Springs 6075 Sandy Springs Circle Sandy Springs;X-APPLE-RADIUS=500;X-TITLE=6075 Sandy Springs Circle:geo:-84.3834341,33.9217627
END:VEVENT
END:VCALENDAR