BEGIN:VCALENDAR
VERSION:2.0
PRODID:-//OLD Atlanta Parent - ECPv6.15.11//NONSGML v1.0//EN
CALSCALE:GREGORIAN
METHOD:PUBLISH
X-WR-CALNAME:OLD Atlanta Parent
X-ORIGINAL-URL:https://atlantaparent.guidoclients.com
X-WR-CALDESC:Events for OLD Atlanta Parent
REFRESH-INTERVAL;VALUE=DURATION:PT1H
X-Robots-Tag:noindex
X-PUBLISHED-TTL:PT1H
BEGIN:VTIMEZONE
TZID:America/New_York
BEGIN:DAYLIGHT
TZOFFSETFROM:-0500
TZOFFSETTO:-0400
TZNAME:EDT
DTSTART:20240310T070000
END:DAYLIGHT
BEGIN:STANDARD
TZOFFSETFROM:-0400
TZOFFSETTO:-0500
TZNAME:EST
DTSTART:20241103T060000
END:STANDARD
BEGIN:DAYLIGHT
TZOFFSETFROM:-0500
TZOFFSETTO:-0400
TZNAME:EDT
DTSTART:20250309T070000
END:DAYLIGHT
BEGIN:STANDARD
TZOFFSETFROM:-0400
TZOFFSETTO:-0500
TZNAME:EST
DTSTART:20251102T060000
END:STANDARD
BEGIN:DAYLIGHT
TZOFFSETFROM:-0500
TZOFFSETTO:-0400
TZNAME:EDT
DTSTART:20260308T070000
END:DAYLIGHT
BEGIN:STANDARD
TZOFFSETFROM:-0400
TZOFFSETTO:-0500
TZNAME:EST
DTSTART:20261101T060000
END:STANDARD
END:VTIMEZONE
BEGIN:VEVENT
DTSTART;TZID=America/New_York:20251213T140000
DTEND;TZID=America/New_York:20251213T160000
DTSTAMP:20260424T172343
CREATED:20251121T162723Z
LAST-MODIFIED:20251121T162723Z
UID:10010270-1765634400-1765641600@atlantaparent.guidoclients.com
SUMMARY:Holly Jolly Play Day
DESCRIPTION:Celebrate winter with a hot cocoa station\, games\, cooking demonstrations and more. Free admission.
URL:https://atlantaparent.guidoclients.com/event/holly-jolly-play-day/
LOCATION:Gwinnett County Public Library Lilburn Branch\, 4817 Church St. NW\, Lilburn
ATTACH;FMTTYPE=image/jpeg:https://atlantaparent.guidoclients.com/wp-content/uploads/2025/11/Holly-Jolly-Playday-scaled.jpg
END:VEVENT
END:VCALENDAR