BEGIN:VCALENDAR
VERSION:2.0
PRODID:-//OLD Atlanta Parent - ECPv6.15.11//NONSGML v1.0//EN
CALSCALE:GREGORIAN
METHOD:PUBLISH
X-WR-CALNAME:OLD Atlanta Parent
X-ORIGINAL-URL:https://atlantaparent.guidoclients.com
X-WR-CALDESC:Events for OLD Atlanta Parent
REFRESH-INTERVAL;VALUE=DURATION:PT1H
X-Robots-Tag:noindex
X-PUBLISHED-TTL:PT1H
BEGIN:VTIMEZONE
TZID:America/New_York
BEGIN:DAYLIGHT
TZOFFSETFROM:-0500
TZOFFSETTO:-0400
TZNAME:EDT
DTSTART:20170312T070000
END:DAYLIGHT
BEGIN:STANDARD
TZOFFSETFROM:-0400
TZOFFSETTO:-0500
TZNAME:EST
DTSTART:20171105T060000
END:STANDARD
BEGIN:DAYLIGHT
TZOFFSETFROM:-0500
TZOFFSETTO:-0400
TZNAME:EDT
DTSTART:20180311T070000
END:DAYLIGHT
BEGIN:STANDARD
TZOFFSETFROM:-0400
TZOFFSETTO:-0500
TZNAME:EST
DTSTART:20181104T060000
END:STANDARD
BEGIN:DAYLIGHT
TZOFFSETFROM:-0500
TZOFFSETTO:-0400
TZNAME:EDT
DTSTART:20190310T070000
END:DAYLIGHT
BEGIN:STANDARD
TZOFFSETFROM:-0400
TZOFFSETTO:-0500
TZNAME:EST
DTSTART:20191103T060000
END:STANDARD
BEGIN:DAYLIGHT
TZOFFSETFROM:-0500
TZOFFSETTO:-0400
TZNAME:EDT
DTSTART:20200308T070000
END:DAYLIGHT
BEGIN:STANDARD
TZOFFSETFROM:-0400
TZOFFSETTO:-0500
TZNAME:EST
DTSTART:20201101T060000
END:STANDARD
BEGIN:DAYLIGHT
TZOFFSETFROM:-0500
TZOFFSETTO:-0400
TZNAME:EDT
DTSTART:20210314T070000
END:DAYLIGHT
BEGIN:STANDARD
TZOFFSETFROM:-0400
TZOFFSETTO:-0500
TZNAME:EST
DTSTART:20211107T060000
END:STANDARD
BEGIN:DAYLIGHT
TZOFFSETFROM:-0500
TZOFFSETTO:-0400
TZNAME:EDT
DTSTART:20220313T070000
END:DAYLIGHT
BEGIN:STANDARD
TZOFFSETFROM:-0400
TZOFFSETTO:-0500
TZNAME:EST
DTSTART:20221106T060000
END:STANDARD
BEGIN:DAYLIGHT
TZOFFSETFROM:-0500
TZOFFSETTO:-0400
TZNAME:EDT
DTSTART:20230312T070000
END:DAYLIGHT
BEGIN:STANDARD
TZOFFSETFROM:-0400
TZOFFSETTO:-0500
TZNAME:EST
DTSTART:20231105T060000
END:STANDARD
BEGIN:DAYLIGHT
TZOFFSETFROM:-0500
TZOFFSETTO:-0400
TZNAME:EDT
DTSTART:20240310T070000
END:DAYLIGHT
BEGIN:STANDARD
TZOFFSETFROM:-0400
TZOFFSETTO:-0500
TZNAME:EST
DTSTART:20241103T060000
END:STANDARD
BEGIN:DAYLIGHT
TZOFFSETFROM:-0500
TZOFFSETTO:-0400
TZNAME:EDT
DTSTART:20250309T070000
END:DAYLIGHT
BEGIN:STANDARD
TZOFFSETFROM:-0400
TZOFFSETTO:-0500
TZNAME:EST
DTSTART:20251102T060000
END:STANDARD
BEGIN:DAYLIGHT
TZOFFSETFROM:-0500
TZOFFSETTO:-0400
TZNAME:EDT
DTSTART:20260308T070000
END:DAYLIGHT
BEGIN:STANDARD
TZOFFSETFROM:-0400
TZOFFSETTO:-0500
TZNAME:EST
DTSTART:20261101T060000
END:STANDARD
BEGIN:DAYLIGHT
TZOFFSETFROM:-0500
TZOFFSETTO:-0400
TZNAME:EDT
DTSTART:20270314T070000
END:DAYLIGHT
BEGIN:STANDARD
TZOFFSETFROM:-0400
TZOFFSETTO:-0500
TZNAME:EST
DTSTART:20271107T060000
END:STANDARD
END:VTIMEZONE
BEGIN:VEVENT
DTSTART;VALUE=DATE:20251124
DTEND;VALUE=DATE:20260107
DTSTAMP:20260423T100506
CREATED:20251019T200743Z
LAST-MODIFIED:20251027T171113Z
UID:10007707-1763942400-1767743999@atlantaparent.guidoclients.com
SUMMARY:Snowland
DESCRIPTION:This holiday celebration is an immersive winter wonderland with pretty snow globes\, crafts\, visits with Santa\, a Frosty Fest Family Dance Party and more. Room prices vary; Snowland package starts at $49.99.
URL:https://atlantaparent.guidoclients.com/event/snowland/
LOCATION:Great Wolf Lodge\, 150 Tom Hall Pkwy.\, LaGrange\, GA\, United States
ATTACH;FMTTYPE=image/jpeg:https://atlantaparent.guidoclients.com/wp-content/uploads/2023/11/09623_1153MA-scaled-e1700600773115.jpg
GEO:32.9941448;-85.0254074
X-APPLE-STRUCTURED-LOCATION;VALUE=URI;X-ADDRESS=Great Wolf Lodge 150 Tom Hall Pkwy. LaGrange GA United States;X-APPLE-RADIUS=500;X-TITLE=150 Tom Hall Pkwy.:geo:-85.0254074,32.9941448
END:VEVENT
BEGIN:VEVENT
DTSTART;VALUE=DATE:20250925
DTEND;VALUE=DATE:20251101
DTSTAMP:20260423T100506
CREATED:20240910T165045Z
LAST-MODIFIED:20250903T193705Z
UID:10004544-1758758400-1761955199@atlantaparent.guidoclients.com
SUMMARY:Howl-O-Ween
DESCRIPTION:Stay the night at this water park to enjoy Halloween themed fun\, like Trick-Or-Treat Trail\, Monster Bash Dance Party\, arts and crafts and more. See website for schedule; activities included with stay.
URL:https://atlantaparent.guidoclients.com/event/howl-o-ween-2/
LOCATION:Great Wolf Lodge\, 150 Tom Hall Pkwy.\, LaGrange\, GA\, United States
ATTACH;FMTTYPE=image/jpeg:https://atlantaparent.guidoclients.com/wp-content/uploads/2020/09/PCM0200-scaled-e1602699960272.jpg
GEO:32.9941448;-85.0254074
X-APPLE-STRUCTURED-LOCATION;VALUE=URI;X-ADDRESS=Great Wolf Lodge 150 Tom Hall Pkwy. LaGrange GA United States;X-APPLE-RADIUS=500;X-TITLE=150 Tom Hall Pkwy.:geo:-85.0254074,32.9941448
END:VEVENT
BEGIN:VEVENT
DTSTART;VALUE=DATE:20200804
DTEND;VALUE=DATE:20200805
DTSTAMP:20260423T100506
CREATED:20200803T192840Z
LAST-MODIFIED:20200803T192840Z
UID:10005355-1596499200-1596585599@atlantaparent.guidoclients.com
SUMMARY:8/4 Day at Great Wolf Lodge
DESCRIPTION:This annual sale from Great Wolf Lodge Georgia drops rates to an $84 starting price for stays booked from Aug. 23-Nov. 19 in honor of the water park’s year-round temperature set at 84-degrees. Use the promo code 84DEGREES when booking.
URL:https://atlantaparent.guidoclients.com/event/8-4-day-at-great-wolf-lodge/
LOCATION:Great Wolf Lodge\, 150 Tom Hall Pkwy.\, LaGrange\, GA\, United States
ATTACH;FMTTYPE=image/jpeg:https://atlantaparent.guidoclients.com/wp-content/uploads/2020/08/GWL_atl-120-1-scaled-e1596482888307.jpg
GEO:32.9941448;-85.0254074
X-APPLE-STRUCTURED-LOCATION;VALUE=URI;X-ADDRESS=Great Wolf Lodge 150 Tom Hall Pkwy. LaGrange GA United States;X-APPLE-RADIUS=500;X-TITLE=150 Tom Hall Pkwy.:geo:-85.0254074,32.9941448
END:VEVENT
BEGIN:VEVENT
DTSTART;VALUE=DATE:20181001
DTEND;VALUE=DATE:20181101
DTSTAMP:20260423T100506
CREATED:20180926T225310Z
LAST-MODIFIED:20180926T225617Z
UID:10003763-1538352000-1541030399@atlantaparent.guidoclients.com
SUMMARY:Howl-O-Ween
DESCRIPTION:Trick-or-treat trail\, life-size not-so-haunted house in the lobby\, costume parades\, monster bash dance party and spooky storytimes.  See for full schedule of events. Rooms start at $199 per night and includes access to the waterpark and events.
URL:https://atlantaparent.guidoclients.com/event/howl-o-ween/
LOCATION:Great Wolf Lodge\, 150 Tom Hall Pkwy.\, LaGrange\, GA\, United States
GEO:32.9941448;-85.0254074
X-APPLE-STRUCTURED-LOCATION;VALUE=URI;X-ADDRESS=Great Wolf Lodge 150 Tom Hall Pkwy. LaGrange GA United States;X-APPLE-RADIUS=500;X-TITLE=150 Tom Hall Pkwy.:geo:-85.0254074,32.9941448
END:VEVENT
END:VCALENDAR