BEGIN:VCALENDAR
VERSION:2.0
PRODID:-//OLD Atlanta Parent - ECPv6.15.11//NONSGML v1.0//EN
CALSCALE:GREGORIAN
METHOD:PUBLISH
X-WR-CALNAME:OLD Atlanta Parent
X-ORIGINAL-URL:https://atlantaparent.guidoclients.com
X-WR-CALDESC:Events for OLD Atlanta Parent
REFRESH-INTERVAL;VALUE=DURATION:PT1H
X-Robots-Tag:noindex
X-PUBLISHED-TTL:PT1H
BEGIN:VTIMEZONE
TZID:America/New_York
BEGIN:DAYLIGHT
TZOFFSETFROM:-0500
TZOFFSETTO:-0400
TZNAME:EDT
DTSTART:20190310T070000
END:DAYLIGHT
BEGIN:STANDARD
TZOFFSETFROM:-0400
TZOFFSETTO:-0500
TZNAME:EST
DTSTART:20191103T060000
END:STANDARD
BEGIN:DAYLIGHT
TZOFFSETFROM:-0500
TZOFFSETTO:-0400
TZNAME:EDT
DTSTART:20200308T070000
END:DAYLIGHT
BEGIN:STANDARD
TZOFFSETFROM:-0400
TZOFFSETTO:-0500
TZNAME:EST
DTSTART:20201101T060000
END:STANDARD
BEGIN:DAYLIGHT
TZOFFSETFROM:-0500
TZOFFSETTO:-0400
TZNAME:EDT
DTSTART:20210314T070000
END:DAYLIGHT
BEGIN:STANDARD
TZOFFSETFROM:-0400
TZOFFSETTO:-0500
TZNAME:EST
DTSTART:20211107T060000
END:STANDARD
END:VTIMEZONE
BEGIN:VTIMEZONE
TZID:UTC
BEGIN:STANDARD
TZOFFSETFROM:+0000
TZOFFSETTO:+0000
TZNAME:UTC
DTSTART:20160101T000000
END:STANDARD
END:VTIMEZONE
BEGIN:VEVENT
DTSTART;TZID=America/New_York:20200120T100000
DTEND;TZID=America/New_York:20200120T150000
DTSTAMP:20260425T220045
CREATED:20200110T183813Z
LAST-MODIFIED:20200110T183813Z
UID:10004893-1579514400-1579532400@atlantaparent.guidoclients.com
SUMMARY:MLK Jr. Holiday Dinner
DESCRIPTION:Celebrate the civil rights movement\, hear the stories of the civil rights foot soldiers\, enjoy food\, listen to live music and more. Georgia World Congress Center\, Thomas Murphy Ballroom. Jan. 20\, 10 a.m.-3 p.m. Free.
URL:https://atlantaparent.guidoclients.com/event/mlk-jr-holiday-dinner/
LOCATION:Georgia World Congress Center\, 285 Andrew Young International Blvd. NW \, Atlanta 
GEO:33.7579513;-84.397414
X-APPLE-STRUCTURED-LOCATION;VALUE=URI;X-ADDRESS=Georgia World Congress Center 285 Andrew Young International Blvd. NW  Atlanta;X-APPLE-RADIUS=500;X-TITLE=285 Andrew Young International Blvd. NW:geo:-84.397414,33.7579513
END:VEVENT
BEGIN:VEVENT
DTSTART;VALUE=DATE:20170107
DTEND;VALUE=DATE:20170108
DTSTAMP:20260425T220045
CREATED:20170105T002527Z
LAST-MODIFIED:20170105T003333Z
UID:10001648-1483747200-1483833599@atlantaparent.guidoclients.com
SUMMARY:World's Greatest Hobby on Tour
DESCRIPTION:Watch model trains galore and learn about model railroading in an entertaining\, lively atmosphere. See 50\,000 square feet of huge operating model railroads\, enjoy free riding trains for kids\, 100 trains to play with and more. Jan. 7 and 8. Sat. 10 a.m.-6 p.m.; Sun. 10 a.m.- 5 p.m. Adults\, $15; ages 15 and younger\, free.
URL:https://atlantaparent.guidoclients.com/event/worlds-greatest-hobby-tour/2017-01-07/
LOCATION:Georgia World Congress Center\, 285 Andrew Young International Blvd. NW \, Atlanta 
GEO:33.7579513;-84.397414
X-APPLE-STRUCTURED-LOCATION;VALUE=URI;X-ADDRESS=Georgia World Congress Center 285 Andrew Young International Blvd. NW  Atlanta;X-APPLE-RADIUS=500;X-TITLE=285 Andrew Young International Blvd. NW:geo:-84.397414,33.7579513
END:VEVENT
END:VCALENDAR