BEGIN:VCALENDAR
VERSION:2.0
PRODID:-//OLD Atlanta Parent - ECPv6.15.11//NONSGML v1.0//EN
CALSCALE:GREGORIAN
METHOD:PUBLISH
X-ORIGINAL-URL:https://atlantaparent.guidoclients.com
X-WR-CALDESC:Events for OLD Atlanta Parent
REFRESH-INTERVAL;VALUE=DURATION:PT1H
X-Robots-Tag:noindex
X-PUBLISHED-TTL:PT1H
BEGIN:VTIMEZONE
TZID:America/New_York
BEGIN:DAYLIGHT
TZOFFSETFROM:-0500
TZOFFSETTO:-0400
TZNAME:EDT
DTSTART:20220313T070000
END:DAYLIGHT
BEGIN:STANDARD
TZOFFSETFROM:-0400
TZOFFSETTO:-0500
TZNAME:EST
DTSTART:20221106T060000
END:STANDARD
BEGIN:DAYLIGHT
TZOFFSETFROM:-0500
TZOFFSETTO:-0400
TZNAME:EDT
DTSTART:20230312T070000
END:DAYLIGHT
BEGIN:STANDARD
TZOFFSETFROM:-0400
TZOFFSETTO:-0500
TZNAME:EST
DTSTART:20231105T060000
END:STANDARD
BEGIN:DAYLIGHT
TZOFFSETFROM:-0500
TZOFFSETTO:-0400
TZNAME:EDT
DTSTART:20240310T070000
END:DAYLIGHT
BEGIN:STANDARD
TZOFFSETFROM:-0400
TZOFFSETTO:-0500
TZNAME:EST
DTSTART:20241103T060000
END:STANDARD
BEGIN:DAYLIGHT
TZOFFSETFROM:-0500
TZOFFSETTO:-0400
TZNAME:EDT
DTSTART:20250309T070000
END:DAYLIGHT
BEGIN:STANDARD
TZOFFSETFROM:-0400
TZOFFSETTO:-0500
TZNAME:EST
DTSTART:20251102T060000
END:STANDARD
BEGIN:DAYLIGHT
TZOFFSETFROM:-0500
TZOFFSETTO:-0400
TZNAME:EDT
DTSTART:20260308T070000
END:DAYLIGHT
BEGIN:STANDARD
TZOFFSETFROM:-0400
TZOFFSETTO:-0500
TZNAME:EST
DTSTART:20261101T060000
END:STANDARD
END:VTIMEZONE
BEGIN:VEVENT
DTSTART;TZID=America/New_York:20250704T150000
DTEND;TZID=America/New_York:20250704T150000
DTSTAMP:20260424T103532
CREATED:20250510T175351Z
LAST-MODIFIED:20250515T194452Z
UID:10002875-1751641200-1751641200@atlantaparent.guidoclients.com
SUMMARY:July 4th Fireworks
DESCRIPTION:Celebrate America’s birthday with this fireworks extravaganza. Free admission.
URL:https://atlantaparent.guidoclients.com/event/fourth-july-independence-day-celebration/
LOCATION:Georgia Mountain Fairgrounds\, 1311 Music Hall Road\, Hiawassee
GEO:34.9679896;-83.7739687
X-APPLE-STRUCTURED-LOCATION;VALUE=URI;X-ADDRESS=Georgia Mountain Fairgrounds 1311 Music Hall Road Hiawassee;X-APPLE-RADIUS=500;X-TITLE=1311 Music Hall Road:geo:-83.7739687,34.9679896
END:VEVENT
BEGIN:VEVENT
DTSTART;VALUE=DATE:20250607
DTEND;VALUE=DATE:20250609
DTSTAMP:20260424T103532
CREATED:20250208T143610Z
LAST-MODIFIED:20250221T143727Z
UID:10006390-1749254400-1749427199@atlantaparent.guidoclients.com
SUMMARY:Georgia Mountain Scottish Festival
DESCRIPTION:Celebrate all things Scottish with bagpipes\, dancers\, athletic competitions\, sheep herding and birds of prey. Activities just for kids include a bouncy castle\, mini golf\, train rides\, face painting and more. $10-$25; ages 7-12\, $5; ages 6 and younger\, free.
URL:https://atlantaparent.guidoclients.com/event/blairsville-scottish-festival-and-highland-games/
LOCATION:Georgia Mountain Fairgrounds\, 1311 Music Hall Road\, Hiawassee
GEO:34.9679896;-83.7739687
X-APPLE-STRUCTURED-LOCATION;VALUE=URI;X-ADDRESS=Georgia Mountain Fairgrounds 1311 Music Hall Road Hiawassee;X-APPLE-RADIUS=500;X-TITLE=1311 Music Hall Road:geo:-83.7739687,34.9679896
END:VEVENT
BEGIN:VEVENT
DTSTART;VALUE=DATE:20250412
DTEND;VALUE=DATE:20250512
DTSTAMP:20260424T103532
CREATED:20250129T143716Z
LAST-MODIFIED:20250217T171046Z
UID:10006198-1744416000-1747007999@atlantaparent.guidoclients.com
SUMMARY:Rhododendron Festival
DESCRIPTION:Spend a day in beautiful North Georgia to explore beautiful native flowers. April 12-May 11. Mon.-Thur. 11 a.m.-3 p.m. and Fri.-Sun. 10 a.m.-4 p.m. $10; ages 12 and younger\, free.
URL:https://atlantaparent.guidoclients.com/event/rhododendron-festival/
LOCATION:Georgia Mountain Fairgrounds\, 1311 Music Hall Road\, Hiawassee
ATTACH;FMTTYPE=image/jpeg:https://atlantaparent.guidoclients.com/wp-content/uploads/2024/07/36L-People-in-gardens-e1739812195708.jpg
GEO:34.9679896;-83.7739687
X-APPLE-STRUCTURED-LOCATION;VALUE=URI;X-ADDRESS=Georgia Mountain Fairgrounds 1311 Music Hall Road Hiawassee;X-APPLE-RADIUS=500;X-TITLE=1311 Music Hall Road:geo:-83.7739687,34.9679896
END:VEVENT
BEGIN:VEVENT
DTSTART;VALUE=DATE:20231123
DTEND;VALUE=DATE:20231224
DTSTAMP:20260424T103532
CREATED:20251001T040041Z
LAST-MODIFIED:20251002T173406Z
UID:10003927-1700697600-1703375999@atlantaparent.guidoclients.com
SUMMARY:Mountain Country Christmas in Lights
DESCRIPTION:This fairground transforms into a spectacular\, magical holiday light show with Christmas music\, arts and crafts\, food\, fun\, entertainment\, photo opportunities and a visit with Santa. Nov. 27-Dec. 23. See website for schedule. $9; ages 12 and younger\, free.
URL:https://atlantaparent.guidoclients.com/event/country-christmas-in-lights/
LOCATION:Georgia Mountain Fairgrounds\, 1311 Music Hall Road\, Hiawassee
GEO:34.9679896;-83.7739687
X-APPLE-STRUCTURED-LOCATION;VALUE=URI;X-ADDRESS=Georgia Mountain Fairgrounds 1311 Music Hall Road Hiawassee;X-APPLE-RADIUS=500;X-TITLE=1311 Music Hall Road:geo:-83.7739687,34.9679896
END:VEVENT
END:VCALENDAR