BEGIN:VCALENDAR
VERSION:2.0
PRODID:-//OLD Atlanta Parent - ECPv6.15.11//NONSGML v1.0//EN
CALSCALE:GREGORIAN
METHOD:PUBLISH
X-ORIGINAL-URL:https://atlantaparent.guidoclients.com
X-WR-CALDESC:Events for OLD Atlanta Parent
REFRESH-INTERVAL;VALUE=DURATION:PT1H
X-Robots-Tag:noindex
X-PUBLISHED-TTL:PT1H
BEGIN:VTIMEZONE
TZID:America/New_York
BEGIN:DAYLIGHT
TZOFFSETFROM:-0500
TZOFFSETTO:-0400
TZNAME:EDT
DTSTART:20160313T070000
END:DAYLIGHT
BEGIN:STANDARD
TZOFFSETFROM:-0400
TZOFFSETTO:-0500
TZNAME:EST
DTSTART:20161106T060000
END:STANDARD
BEGIN:DAYLIGHT
TZOFFSETFROM:-0500
TZOFFSETTO:-0400
TZNAME:EDT
DTSTART:20170312T070000
END:DAYLIGHT
BEGIN:STANDARD
TZOFFSETFROM:-0400
TZOFFSETTO:-0500
TZNAME:EST
DTSTART:20171105T060000
END:STANDARD
BEGIN:DAYLIGHT
TZOFFSETFROM:-0500
TZOFFSETTO:-0400
TZNAME:EDT
DTSTART:20180311T070000
END:DAYLIGHT
BEGIN:STANDARD
TZOFFSETFROM:-0400
TZOFFSETTO:-0500
TZNAME:EST
DTSTART:20181104T060000
END:STANDARD
END:VTIMEZONE
BEGIN:VEVENT
DTSTART;TZID=America/New_York:20171111T090000
DTEND;TZID=America/New_York:20171111T110000
DTSTAMP:20260424T230647
CREATED:20171023T175507Z
LAST-MODIFIED:20171023T175507Z
UID:10002428-1510390800-1510398000@atlantaparent.guidoclients.com
SUMMARY:The Great Inflatable Race
DESCRIPTION:Climb through inflatables of all types from slides to tunnels and bridges to make it to the finish line.  $24.99 and up.
URL:https://atlantaparent.guidoclients.com/event/great-inflatable-race/
LOCATION:Georgia International Horse Park\, 1996 Centennial Olympic Pkwy.\, Conyers
GEO:33.6699662;-83.9391475
X-APPLE-STRUCTURED-LOCATION;VALUE=URI;X-ADDRESS=Georgia International Horse Park 1996 Centennial Olympic Pkwy. Conyers;X-APPLE-RADIUS=500;X-TITLE=1996 Centennial Olympic Pkwy.:geo:-83.9391475,33.6699662
END:VEVENT
END:VCALENDAR