BEGIN:VCALENDAR
VERSION:2.0
PRODID:-//OLD Atlanta Parent - ECPv6.15.11//NONSGML v1.0//EN
CALSCALE:GREGORIAN
METHOD:PUBLISH
X-WR-CALNAME:OLD Atlanta Parent
X-ORIGINAL-URL:https://atlantaparent.guidoclients.com
X-WR-CALDESC:Events for OLD Atlanta Parent
REFRESH-INTERVAL;VALUE=DURATION:PT1H
X-Robots-Tag:noindex
X-PUBLISHED-TTL:PT1H
BEGIN:VTIMEZONE
TZID:America/New_York
BEGIN:DAYLIGHT
TZOFFSETFROM:-0500
TZOFFSETTO:-0400
TZNAME:EDT
DTSTART:20200308T070000
END:DAYLIGHT
BEGIN:STANDARD
TZOFFSETFROM:-0400
TZOFFSETTO:-0500
TZNAME:EST
DTSTART:20201101T060000
END:STANDARD
BEGIN:DAYLIGHT
TZOFFSETFROM:-0500
TZOFFSETTO:-0400
TZNAME:EDT
DTSTART:20210314T070000
END:DAYLIGHT
BEGIN:STANDARD
TZOFFSETFROM:-0400
TZOFFSETTO:-0500
TZNAME:EST
DTSTART:20211107T060000
END:STANDARD
BEGIN:DAYLIGHT
TZOFFSETFROM:-0500
TZOFFSETTO:-0400
TZNAME:EDT
DTSTART:20220313T070000
END:DAYLIGHT
BEGIN:STANDARD
TZOFFSETFROM:-0400
TZOFFSETTO:-0500
TZNAME:EST
DTSTART:20221106T060000
END:STANDARD
BEGIN:DAYLIGHT
TZOFFSETFROM:-0500
TZOFFSETTO:-0400
TZNAME:EDT
DTSTART:20230312T070000
END:DAYLIGHT
BEGIN:STANDARD
TZOFFSETFROM:-0400
TZOFFSETTO:-0500
TZNAME:EST
DTSTART:20231105T060000
END:STANDARD
BEGIN:DAYLIGHT
TZOFFSETFROM:-0500
TZOFFSETTO:-0400
TZNAME:EDT
DTSTART:20240310T070000
END:DAYLIGHT
BEGIN:STANDARD
TZOFFSETFROM:-0400
TZOFFSETTO:-0500
TZNAME:EST
DTSTART:20241103T060000
END:STANDARD
BEGIN:DAYLIGHT
TZOFFSETFROM:-0500
TZOFFSETTO:-0400
TZNAME:EDT
DTSTART:20250309T070000
END:DAYLIGHT
BEGIN:STANDARD
TZOFFSETFROM:-0400
TZOFFSETTO:-0500
TZNAME:EST
DTSTART:20251102T060000
END:STANDARD
BEGIN:DAYLIGHT
TZOFFSETFROM:-0500
TZOFFSETTO:-0400
TZNAME:EDT
DTSTART:20260308T070000
END:DAYLIGHT
BEGIN:STANDARD
TZOFFSETFROM:-0400
TZOFFSETTO:-0500
TZNAME:EST
DTSTART:20261101T060000
END:STANDARD
END:VTIMEZONE
BEGIN:VTIMEZONE
TZID:UTC
BEGIN:STANDARD
TZOFFSETFROM:+0000
TZOFFSETTO:+0000
TZNAME:UTC
DTSTART:20180101T000000
END:STANDARD
END:VTIMEZONE
BEGIN:VEVENT
DTSTART;TZID=America/New_York:20250412T110000
DTEND;TZID=America/New_York:20250412T130000
DTSTAMP:20260422T180257
CREATED:20250204T184144Z
LAST-MODIFIED:20250205T141928Z
UID:10007883-1744455600-1744462800@atlantaparent.guidoclients.com
SUMMARY:Bunny Trot & Egg Hunt
DESCRIPTION:Enjoy a kids’ zone\, vendors\, egg dyeing\, a special visit from the Easter Bunny and more. Reservation required. $7; non-Gwinnett resident\, $27.
URL:https://atlantaparent.guidoclients.com/event/egg-tastic-hunt/
LOCATION:George Pierce Park Community Recreation Center\, 55 Buford Hwy.\, Suwanee
GEO:34.0606638;-84.0616299
X-APPLE-STRUCTURED-LOCATION;VALUE=URI;X-ADDRESS=George Pierce Park Community Recreation Center 55 Buford Hwy. Suwanee;X-APPLE-RADIUS=500;X-TITLE=55 Buford Hwy.:geo:-84.0616299,34.0606638
END:VEVENT
BEGIN:VEVENT
DTSTART;TZID=America/New_York:20250217T100000
DTEND;TZID=America/New_York:20250217T120000
DTSTAMP:20260422T180257
CREATED:20250117T173429Z
LAST-MODIFIED:20250120T162251Z
UID:10006189-1739786400-1739793600@atlantaparent.guidoclients.com
SUMMARY:Love Bug Party
DESCRIPTION:Celebrate with your little one with games and crafts\, and wear pink\, red or white to receive a special Valentine. For ages 2-5. Reservation required. $7; non-Gwinnett resident\, $9.
URL:https://atlantaparent.guidoclients.com/event/my-little-love-bug/
LOCATION:George Pierce Park Community Recreation Center\, 55 Buford Hwy.\, Suwanee
GEO:34.0606638;-84.0616299
X-APPLE-STRUCTURED-LOCATION;VALUE=URI;X-ADDRESS=George Pierce Park Community Recreation Center 55 Buford Hwy. Suwanee;X-APPLE-RADIUS=500;X-TITLE=55 Buford Hwy.:geo:-84.0616299,34.0606638
END:VEVENT
BEGIN:VEVENT
DTSTART;TZID=America/New_York:20250207T190000
DTEND;TZID=America/New_York:20250207T210000
DTSTAMP:20260422T180257
CREATED:20250118T160030Z
LAST-MODIFIED:20250120T162013Z
UID:10004870-1738954800-1738962000@atlantaparent.guidoclients.com
SUMMARY:Family Sweetheart Dance
DESCRIPTION:Swing your valentine around the dance floor and enjoy refreshments. For ages 4 and older. Reservation required. $8; non-Gwinnett resident\, $12.
URL:https://atlantaparent.guidoclients.com/event/cupid-shuffle/
LOCATION:George Pierce Park Community Recreation Center\, 55 Buford Hwy.\, Suwanee
GEO:34.0606638;-84.0616299
X-APPLE-STRUCTURED-LOCATION;VALUE=URI;X-ADDRESS=George Pierce Park Community Recreation Center 55 Buford Hwy. Suwanee;X-APPLE-RADIUS=500;X-TITLE=55 Buford Hwy.:geo:-84.0616299,34.0606638
END:VEVENT
BEGIN:VEVENT
DTSTART;TZID=America/New_York:20241004T093000
DTEND;TZID=America/New_York:20241004T113000
DTSTAMP:20260422T180257
CREATED:20240805T023001Z
LAST-MODIFIED:20240903T192255Z
UID:10004450-1728034200-1728041400@atlantaparent.guidoclients.com
SUMMARY:Scaredy Cat Soiree
DESCRIPTION:Dress up for a not-so-scary celebration with themed crafts\, activities\, characters and treats for ages 2-5. $6; non-Gwinnett resident\, $12.
URL:https://atlantaparent.guidoclients.com/event/scaredy-cat-soiree/
LOCATION:George Pierce Park Community Recreation Center\, 55 Buford Hwy.\, Suwanee
GEO:34.0606638;-84.0616299
X-APPLE-STRUCTURED-LOCATION;VALUE=URI;X-ADDRESS=George Pierce Park Community Recreation Center 55 Buford Hwy. Suwanee;X-APPLE-RADIUS=500;X-TITLE=55 Buford Hwy.:geo:-84.0616299,34.0606638
END:VEVENT
BEGIN:VEVENT
DTSTART;TZID=America/New_York:20240214T100000
DTEND;TZID=America/New_York:20240214T120000
DTSTAMP:20260422T180257
CREATED:20240118T162821Z
LAST-MODIFIED:20240119T160230Z
UID:10006746-1707904800-1707912000@atlantaparent.guidoclients.com
SUMMARY:Little Cupids Carnival
DESCRIPTION:Celebrate Valentine’s Day with your little one with carnival games and crafts. For ages 2-5. $6;\nnon-Gwinnett resident\, $12.
URL:https://atlantaparent.guidoclients.com/event/little-cupids-carnival/
LOCATION:George Pierce Park Community Recreation Center\, 55 Buford Hwy.\, Suwanee
ATTACH;FMTTYPE=image/jpeg:https://atlantaparent.guidoclients.com/wp-content/uploads/2023/01/2023-02-08-Little-Cupids-Carnival-GPP-16-scaled-e1705679446569.jpg
GEO:34.0606638;-84.0616299
X-APPLE-STRUCTURED-LOCATION;VALUE=URI;X-ADDRESS=George Pierce Park Community Recreation Center 55 Buford Hwy. Suwanee;X-APPLE-RADIUS=500;X-TITLE=55 Buford Hwy.:geo:-84.0616299,34.0606638
END:VEVENT
BEGIN:VEVENT
DTSTART;TZID=America/New_York:20231020T190000
DTEND;TZID=America/New_York:20231020T210000
DTSTAMP:20260422T180257
CREATED:20230914T160640Z
LAST-MODIFIED:20230914T160640Z
UID:10007438-1697828400-1697835600@atlantaparent.guidoclients.com
SUMMARY:Halloween Heroes Bash
DESCRIPTION:Superheroes\, pirates and princesses are invited to this Halloween dance with games\, contests and more. For ages 4 and older. $11; non-Gwinnett resident\, $13.
URL:https://atlantaparent.guidoclients.com/event/halloween-heroes-bash/
LOCATION:George Pierce Park Community Recreation Center\, 55 Buford Hwy.\, Suwanee
GEO:34.0606638;-84.0616299
X-APPLE-STRUCTURED-LOCATION;VALUE=URI;X-ADDRESS=George Pierce Park Community Recreation Center 55 Buford Hwy. Suwanee;X-APPLE-RADIUS=500;X-TITLE=55 Buford Hwy.:geo:-84.0616299,34.0606638
END:VEVENT
BEGIN:VEVENT
DTSTART;TZID=America/New_York:20221216T120000
DTEND;TZID=America/New_York:20221216T140000
DTSTAMP:20260422T180257
CREATED:20171106T175005Z
LAST-MODIFIED:20221017T180920Z
UID:10003304-1671192000-1671199200@atlantaparent.guidoclients.com
SUMMARY:Cookies for Santa
DESCRIPTION:Decorate special cookies for Santa’s stop at your house\, and enjoy a story with Mrs. Claus at this event for kids ages 4 and older. $5; non-resident\, $7.
URL:https://atlantaparent.guidoclients.com/event/milk-cookies-santa/
LOCATION:George Pierce Park Community Recreation Center\, 55 Buford Hwy.\, Suwanee
GEO:34.0606638;-84.0616299
X-APPLE-STRUCTURED-LOCATION;VALUE=URI;X-ADDRESS=George Pierce Park Community Recreation Center 55 Buford Hwy. Suwanee;X-APPLE-RADIUS=500;X-TITLE=55 Buford Hwy.:geo:-84.0616299,34.0606638
END:VEVENT
BEGIN:VEVENT
DTSTART;TZID=America/New_York:20220311T130000
DTEND;TZID=America/New_York:20220311T150000
DTSTAMP:20260422T180257
CREATED:20210223T171156Z
LAST-MODIFIED:20220215T173027Z
UID:10005725-1647003600-1647010800@atlantaparent.guidoclients.com
SUMMARY:Leprechaun Hunt
DESCRIPTION:Search for gold\, catch leprechauns\, make crafts\, enjoy treats and more for ages 3-4. $8; non-resident\, $15.
URL:https://atlantaparent.guidoclients.com/event/leprechaun-hunt/
LOCATION:George Pierce Park Community Recreation Center\, 55 Buford Hwy.\, Suwanee
GEO:34.0606638;-84.0616299
X-APPLE-STRUCTURED-LOCATION;VALUE=URI;X-ADDRESS=George Pierce Park Community Recreation Center 55 Buford Hwy. Suwanee;X-APPLE-RADIUS=500;X-TITLE=55 Buford Hwy.:geo:-84.0616299,34.0606638
END:VEVENT
BEGIN:VEVENT
DTSTART;TZID=America/New_York:20210327T183000
DTEND;TZID=America/New_York:20210327T203000
DTSTAMP:20260422T180257
CREATED:20210217T164848Z
LAST-MODIFIED:20210217T164848Z
UID:10005646-1616869800-1616877000@atlantaparent.guidoclients.com
SUMMARY:Illuminated Easter Egg Relay
DESCRIPTION:Participate in games and relays\, enjoy refreshments\, make crafts and more. $6; non-resident\, $11.
URL:https://atlantaparent.guidoclients.com/event/illuminated-easter-egg-relay/
LOCATION:George Pierce Park Community Recreation Center\, 55 Buford Hwy.\, Suwanee
GEO:34.0606638;-84.0616299
X-APPLE-STRUCTURED-LOCATION;VALUE=URI;X-ADDRESS=George Pierce Park Community Recreation Center 55 Buford Hwy. Suwanee;X-APPLE-RADIUS=500;X-TITLE=55 Buford Hwy.:geo:-84.0616299,34.0606638
END:VEVENT
BEGIN:VEVENT
DTSTART;TZID=America/New_York:20210204T130000
DTEND;TZID=America/New_York:20210204T150000
DTSTAMP:20260422T180257
CREATED:20210125T155513Z
LAST-MODIFIED:20210125T155513Z
UID:10005607-1612443600-1612450800@atlantaparent.guidoclients.com
SUMMARY:Valentine's Day Picnic
DESCRIPTION:Visit George Pierce Park to enjoy a picnic in nature and individually wrapped snacks and refreshments. Registration required. $8; non-resident\, $15.
URL:https://atlantaparent.guidoclients.com/event/valentines-day-picnic/
LOCATION:George Pierce Park Community Recreation Center\, 55 Buford Hwy.\, Suwanee
GEO:34.0606638;-84.0616299
X-APPLE-STRUCTURED-LOCATION;VALUE=URI;X-ADDRESS=George Pierce Park Community Recreation Center 55 Buford Hwy. Suwanee;X-APPLE-RADIUS=500;X-TITLE=55 Buford Hwy.:geo:-84.0616299,34.0606638
END:VEVENT
BEGIN:VEVENT
DTSTART;TZID=UTC:20190208T190000
DTEND;TZID=UTC:20190208T210000
DTSTAMP:20260422T180257
CREATED:20190116T050013Z
LAST-MODIFIED:20190122T203423Z
UID:10001840-1549652400-1549659600@atlantaparent.guidoclients.com
SUMMARY:Daddy-Daughter Sweetheart Dance
DESCRIPTION:Valentine dance with light refreshments for dads and their daughters. Ages 4 and older. Pre-registration required.
URL:https://atlantaparent.guidoclients.com/event/daddy-daughter-sweetheart-dance/
LOCATION:George Pierce Park Community Recreation Center\, 55 Buford Hwy.\, Suwanee
GEO:34.0606638;-84.0616299
X-APPLE-STRUCTURED-LOCATION;VALUE=URI;X-ADDRESS=George Pierce Park Community Recreation Center 55 Buford Hwy. Suwanee;X-APPLE-RADIUS=500;X-TITLE=55 Buford Hwy.:geo:-84.0616299,34.0606638
END:VEVENT
END:VCALENDAR