BEGIN:VCALENDAR
VERSION:2.0
PRODID:-//OLD Atlanta Parent - ECPv6.15.11//NONSGML v1.0//EN
CALSCALE:GREGORIAN
METHOD:PUBLISH
X-WR-CALNAME:OLD Atlanta Parent
X-ORIGINAL-URL:https://atlantaparent.guidoclients.com
X-WR-CALDESC:Events for OLD Atlanta Parent
REFRESH-INTERVAL;VALUE=DURATION:PT1H
X-Robots-Tag:noindex
X-PUBLISHED-TTL:PT1H
BEGIN:VTIMEZONE
TZID:UTC
BEGIN:STANDARD
TZOFFSETFROM:+0000
TZOFFSETTO:+0000
TZNAME:UTC
DTSTART:20180101T000000
END:STANDARD
END:VTIMEZONE
BEGIN:VEVENT
DTSTART;TZID=UTC:20191228T110000
DTEND;TZID=UTC:20191228T120000
DTSTAMP:20260422T160236
CREATED:20181123T025352Z
LAST-MODIFIED:20181130T195056Z
UID:10000098-1577530800-1577534400@atlantaparent.guidoclients.com
SUMMARY:Children's Storytime
DESCRIPTION:Storytimes are followed by dance and songs. Each Sat. 11 a.m.
URL:https://atlantaparent.guidoclients.com/event/childrens-storytime/2019-12-28/
LOCATION:FoxTale Book Shoppe\, 105 E. Main St.\, Woodstock
GEO:34.1021044;-84.5183991
X-APPLE-STRUCTURED-LOCATION;VALUE=URI;X-ADDRESS=FoxTale Book Shoppe 105 E. Main St. Woodstock;X-APPLE-RADIUS=500;X-TITLE=105 E. Main St.:geo:-84.5183991,34.1021044
END:VEVENT
END:VCALENDAR