BEGIN:VCALENDAR
VERSION:2.0
PRODID:-//OLD Atlanta Parent - ECPv6.15.11//NONSGML v1.0//EN
CALSCALE:GREGORIAN
METHOD:PUBLISH
X-ORIGINAL-URL:https://atlantaparent.guidoclients.com
X-WR-CALDESC:Events for OLD Atlanta Parent
REFRESH-INTERVAL;VALUE=DURATION:PT1H
X-Robots-Tag:noindex
X-PUBLISHED-TTL:PT1H
BEGIN:VTIMEZONE
TZID:America/New_York
BEGIN:DAYLIGHT
TZOFFSETFROM:-0500
TZOFFSETTO:-0400
TZNAME:EDT
DTSTART:20170312T070000
END:DAYLIGHT
BEGIN:STANDARD
TZOFFSETFROM:-0400
TZOFFSETTO:-0500
TZNAME:EST
DTSTART:20171105T060000
END:STANDARD
BEGIN:DAYLIGHT
TZOFFSETFROM:-0500
TZOFFSETTO:-0400
TZNAME:EDT
DTSTART:20180311T070000
END:DAYLIGHT
BEGIN:STANDARD
TZOFFSETFROM:-0400
TZOFFSETTO:-0500
TZNAME:EST
DTSTART:20181104T060000
END:STANDARD
BEGIN:DAYLIGHT
TZOFFSETFROM:-0500
TZOFFSETTO:-0400
TZNAME:EDT
DTSTART:20190310T070000
END:DAYLIGHT
BEGIN:STANDARD
TZOFFSETFROM:-0400
TZOFFSETTO:-0500
TZNAME:EST
DTSTART:20191103T060000
END:STANDARD
BEGIN:DAYLIGHT
TZOFFSETFROM:-0500
TZOFFSETTO:-0400
TZNAME:EDT
DTSTART:20200308T070000
END:DAYLIGHT
BEGIN:STANDARD
TZOFFSETFROM:-0400
TZOFFSETTO:-0500
TZNAME:EST
DTSTART:20201101T060000
END:STANDARD
BEGIN:DAYLIGHT
TZOFFSETFROM:-0500
TZOFFSETTO:-0400
TZNAME:EDT
DTSTART:20210314T070000
END:DAYLIGHT
BEGIN:STANDARD
TZOFFSETFROM:-0400
TZOFFSETTO:-0500
TZNAME:EST
DTSTART:20211107T060000
END:STANDARD
BEGIN:DAYLIGHT
TZOFFSETFROM:-0500
TZOFFSETTO:-0400
TZNAME:EDT
DTSTART:20220313T070000
END:DAYLIGHT
BEGIN:STANDARD
TZOFFSETFROM:-0400
TZOFFSETTO:-0500
TZNAME:EST
DTSTART:20221106T060000
END:STANDARD
BEGIN:DAYLIGHT
TZOFFSETFROM:-0500
TZOFFSETTO:-0400
TZNAME:EDT
DTSTART:20230312T070000
END:DAYLIGHT
BEGIN:STANDARD
TZOFFSETFROM:-0400
TZOFFSETTO:-0500
TZNAME:EST
DTSTART:20231105T060000
END:STANDARD
BEGIN:DAYLIGHT
TZOFFSETFROM:-0500
TZOFFSETTO:-0400
TZNAME:EDT
DTSTART:20240310T070000
END:DAYLIGHT
BEGIN:STANDARD
TZOFFSETFROM:-0400
TZOFFSETTO:-0500
TZNAME:EST
DTSTART:20241103T060000
END:STANDARD
BEGIN:DAYLIGHT
TZOFFSETFROM:-0500
TZOFFSETTO:-0400
TZNAME:EDT
DTSTART:20250309T070000
END:DAYLIGHT
BEGIN:STANDARD
TZOFFSETFROM:-0400
TZOFFSETTO:-0500
TZNAME:EST
DTSTART:20251102T060000
END:STANDARD
BEGIN:DAYLIGHT
TZOFFSETFROM:-0500
TZOFFSETTO:-0400
TZNAME:EDT
DTSTART:20260308T070000
END:DAYLIGHT
BEGIN:STANDARD
TZOFFSETFROM:-0400
TZOFFSETTO:-0500
TZNAME:EST
DTSTART:20261101T060000
END:STANDARD
END:VTIMEZONE
BEGIN:VEVENT
DTSTART;TZID=America/New_York:20251129T103000
DTEND;TZID=America/New_York:20251129T123000
DTSTAMP:20260422T151357
CREATED:20251029T181512Z
LAST-MODIFIED:20251029T181512Z
UID:10010208-1764412200-1764419400@atlantaparent.guidoclients.com
SUMMARY:Story Time with Chanda A. Bell
DESCRIPTION:Celebrate the holidays with author Chanda A. Bell reading “The Rise of Nicholas the Noble” and “How Old is Santa Claus?”\, and take photos with the Elf on the Shelf mascot. $12.99-$22.
URL:https://atlantaparent.guidoclients.com/event/story-time-with-chanda-a-bell/
LOCATION:FoxTale Book Shoppe\, 105 E. Main Street #138\, Woodstock
GEO:34.1021142;-84.5183956
X-APPLE-STRUCTURED-LOCATION;VALUE=URI;X-ADDRESS=FoxTale Book Shoppe 105 E. Main Street #138 Woodstock;X-APPLE-RADIUS=500;X-TITLE=105 E. Main Street #138:geo:-84.5183956,34.1021142
END:VEVENT
BEGIN:VEVENT
DTSTART;TZID=America/New_York:20190511T110000
DTEND;TZID=America/New_York:20190511T110000
DTSTAMP:20260422T151357
CREATED:20190429T015245Z
LAST-MODIFIED:20190429T015245Z
UID:10004086-1557572400-1557572400@atlantaparent.guidoclients.com
SUMMARY:“Cowhide-and-Seek” with Sheri Dillard Storytime
DESCRIPTION:A fun and humorous picture book about a cow playing hide and seek.
URL:https://atlantaparent.guidoclients.com/event/cowhide-and-seek-with-sheri-dillard-storytime/
LOCATION:FoxTale Book Shoppe\, 105 E. Main Street #138\, Woodstock
GEO:34.1021142;-84.5183956
X-APPLE-STRUCTURED-LOCATION;VALUE=URI;X-ADDRESS=FoxTale Book Shoppe 105 E. Main Street #138 Woodstock;X-APPLE-RADIUS=500;X-TITLE=105 E. Main Street #138:geo:-84.5183956,34.1021142
END:VEVENT
BEGIN:VEVENT
DTSTART;TZID=America/New_York:20190413T110000
DTEND;TZID=America/New_York:20190413T110000
DTSTAMP:20260422T151357
CREATED:20190331T174905Z
LAST-MODIFIED:20190331T174905Z
UID:10004082-1555153200-1555153200@atlantaparent.guidoclients.com
SUMMARY:Kristy Hamby\, “Chicken Lips” Storytime
DESCRIPTION:Who’s ever heard of a cow named Chicken Lips? Join this silly cow on his quest to discover the meaning behind his name and meet some farm friends along the way.
URL:https://atlantaparent.guidoclients.com/event/kristy-hamby-chicken-lips-storytime/
LOCATION:FoxTale Book Shoppe\, 105 E. Main Street #138\, Woodstock
GEO:34.1021142;-84.5183956
X-APPLE-STRUCTURED-LOCATION;VALUE=URI;X-ADDRESS=FoxTale Book Shoppe 105 E. Main Street #138 Woodstock;X-APPLE-RADIUS=500;X-TITLE=105 E. Main Street #138:geo:-84.5183956,34.1021142
END:VEVENT
BEGIN:VEVENT
DTSTART;TZID=America/New_York:20190309T110000
DTEND;TZID=America/New_York:20190309T110000
DTSTAMP:20260422T151357
CREATED:20190228T231752Z
LAST-MODIFIED:20190228T231752Z
UID:10004019-1552129200-1552129200@atlantaparent.guidoclients.com
SUMMARY:Sleeping Beauty Storytime
DESCRIPTION:Sleeping Beauty will read a story\, meet and greet guests as well as pose for pictures. Free to attend. Book purchase appreciated.
URL:https://atlantaparent.guidoclients.com/event/sleeping-beauty-storytime/
LOCATION:FoxTale Book Shoppe\, 105 E. Main Street #138\, Woodstock
GEO:34.1021142;-84.5183956
X-APPLE-STRUCTURED-LOCATION;VALUE=URI;X-ADDRESS=FoxTale Book Shoppe 105 E. Main Street #138 Woodstock;X-APPLE-RADIUS=500;X-TITLE=105 E. Main Street #138:geo:-84.5183956,34.1021142
END:VEVENT
BEGIN:VEVENT
DTSTART;TZID=America/New_York:20190202T110000
DTEND;TZID=America/New_York:20190202T110000
DTSTAMP:20260422T151357
CREATED:20190201T032223Z
LAST-MODIFIED:20190201T032223Z
UID:10003978-1549105200-1549105200@atlantaparent.guidoclients.com
SUMMARY:Llama Llama Red Pajama Storytime
DESCRIPTION:Storyteller Ms. Beth will read Llama Llama Red Pajama. Wear pajamas.
URL:https://atlantaparent.guidoclients.com/event/llama-llama-red-pajama-storytime/
LOCATION:FoxTale Book Shoppe\, 105 E. Main Street #138\, Woodstock
GEO:34.1021142;-84.5183956
X-APPLE-STRUCTURED-LOCATION;VALUE=URI;X-ADDRESS=FoxTale Book Shoppe 105 E. Main Street #138 Woodstock;X-APPLE-RADIUS=500;X-TITLE=105 E. Main Street #138:geo:-84.5183956,34.1021142
END:VEVENT
BEGIN:VEVENT
DTSTART;TZID=America/New_York:20190119T110000
DTEND;TZID=America/New_York:20190119T110000
DTSTAMP:20260422T151357
CREATED:20181227T203348Z
LAST-MODIFIED:20181227T203348Z
UID:10003948-1547895600-1547895600@atlantaparent.guidoclients.com
SUMMARY:Cinderella Storytime
DESCRIPTION:Bippity-Boppity-Boo! We’re so excited to welcome Cinderella to FoxTale Book Shoppe. Cinderella will read a story\, meet guests and  pose for pictures.
URL:https://atlantaparent.guidoclients.com/event/cinderella-storytime/
LOCATION:FoxTale Book Shoppe\, 105 E. Main Street #138\, Woodstock
GEO:34.1021142;-84.5183956
X-APPLE-STRUCTURED-LOCATION;VALUE=URI;X-ADDRESS=FoxTale Book Shoppe 105 E. Main Street #138 Woodstock;X-APPLE-RADIUS=500;X-TITLE=105 E. Main Street #138:geo:-84.5183956,34.1021142
END:VEVENT
BEGIN:VEVENT
DTSTART;TZID=America/New_York:20180519T110000
DTEND;TZID=America/New_York:20180519T110000
DTSTAMP:20260422T151357
CREATED:20180501T164124Z
LAST-MODIFIED:20180501T164124Z
UID:10003541-1526727600-1526727600@atlantaparent.guidoclients.com
SUMMARY:Storytime with Clifford the Big Red Dog
DESCRIPTION:Clifford will greet guests and pose for pictures. Free.
URL:https://atlantaparent.guidoclients.com/event/storytime-with-clifford-the-big-red-dog/
LOCATION:FoxTale Book Shoppe\, 105 E. Main Street #138\, Woodstock
GEO:34.1021142;-84.5183956
X-APPLE-STRUCTURED-LOCATION;VALUE=URI;X-ADDRESS=FoxTale Book Shoppe 105 E. Main Street #138 Woodstock;X-APPLE-RADIUS=500;X-TITLE=105 E. Main Street #138:geo:-84.5183956,34.1021142
END:VEVENT
BEGIN:VEVENT
DTSTART;TZID=America/New_York:20180120T110000
DTEND;TZID=America/New_York:20180120T110000
DTSTAMP:20260422T151357
CREATED:20171221T142929Z
LAST-MODIFIED:20171221T142929Z
UID:10002542-1516446000-1516446000@atlantaparent.guidoclients.com
SUMMARY:Frozen Storytime with Anna and Elsa
DESCRIPTION:The sisters will read a story and then meet and greet their guests as well as pose for pictures.
URL:https://atlantaparent.guidoclients.com/event/frozen-storytime-anna-elsa/
LOCATION:FoxTale Book Shoppe\, 105 E. Main Street #138\, Woodstock
GEO:34.1021142;-84.5183956
X-APPLE-STRUCTURED-LOCATION;VALUE=URI;X-ADDRESS=FoxTale Book Shoppe 105 E. Main Street #138 Woodstock;X-APPLE-RADIUS=500;X-TITLE=105 E. Main Street #138:geo:-84.5183956,34.1021142
END:VEVENT
END:VCALENDAR