BEGIN:VCALENDAR
VERSION:2.0
PRODID:-//OLD Atlanta Parent - ECPv6.15.11//NONSGML v1.0//EN
CALSCALE:GREGORIAN
METHOD:PUBLISH
X-ORIGINAL-URL:https://atlantaparent.guidoclients.com
X-WR-CALDESC:Events for OLD Atlanta Parent
REFRESH-INTERVAL;VALUE=DURATION:PT1H
X-Robots-Tag:noindex
X-PUBLISHED-TTL:PT1H
BEGIN:VTIMEZONE
TZID:America/New_York
BEGIN:DAYLIGHT
TZOFFSETFROM:-0500
TZOFFSETTO:-0400
TZNAME:EDT
DTSTART:20200308T070000
END:DAYLIGHT
BEGIN:STANDARD
TZOFFSETFROM:-0400
TZOFFSETTO:-0500
TZNAME:EST
DTSTART:20201101T060000
END:STANDARD
BEGIN:DAYLIGHT
TZOFFSETFROM:-0500
TZOFFSETTO:-0400
TZNAME:EDT
DTSTART:20210314T070000
END:DAYLIGHT
BEGIN:STANDARD
TZOFFSETFROM:-0400
TZOFFSETTO:-0500
TZNAME:EST
DTSTART:20211107T060000
END:STANDARD
BEGIN:DAYLIGHT
TZOFFSETFROM:-0500
TZOFFSETTO:-0400
TZNAME:EDT
DTSTART:20220313T070000
END:DAYLIGHT
BEGIN:STANDARD
TZOFFSETFROM:-0400
TZOFFSETTO:-0500
TZNAME:EST
DTSTART:20221106T060000
END:STANDARD
BEGIN:DAYLIGHT
TZOFFSETFROM:-0500
TZOFFSETTO:-0400
TZNAME:EDT
DTSTART:20230312T070000
END:DAYLIGHT
BEGIN:STANDARD
TZOFFSETFROM:-0400
TZOFFSETTO:-0500
TZNAME:EST
DTSTART:20231105T060000
END:STANDARD
BEGIN:DAYLIGHT
TZOFFSETFROM:-0500
TZOFFSETTO:-0400
TZNAME:EDT
DTSTART:20240310T070000
END:DAYLIGHT
BEGIN:STANDARD
TZOFFSETFROM:-0400
TZOFFSETTO:-0500
TZNAME:EST
DTSTART:20241103T060000
END:STANDARD
BEGIN:DAYLIGHT
TZOFFSETFROM:-0500
TZOFFSETTO:-0400
TZNAME:EDT
DTSTART:20250309T070000
END:DAYLIGHT
BEGIN:STANDARD
TZOFFSETFROM:-0400
TZOFFSETTO:-0500
TZNAME:EST
DTSTART:20251102T060000
END:STANDARD
BEGIN:DAYLIGHT
TZOFFSETFROM:-0500
TZOFFSETTO:-0400
TZNAME:EDT
DTSTART:20260308T070000
END:DAYLIGHT
BEGIN:STANDARD
TZOFFSETFROM:-0400
TZOFFSETTO:-0500
TZNAME:EST
DTSTART:20261101T060000
END:STANDARD
BEGIN:DAYLIGHT
TZOFFSETFROM:-0500
TZOFFSETTO:-0400
TZNAME:EDT
DTSTART:20270314T070000
END:DAYLIGHT
BEGIN:STANDARD
TZOFFSETFROM:-0400
TZOFFSETTO:-0500
TZNAME:EST
DTSTART:20271107T060000
END:STANDARD
END:VTIMEZONE
BEGIN:VTIMEZONE
TZID:UTC
BEGIN:STANDARD
TZOFFSETFROM:+0000
TZOFFSETTO:+0000
TZNAME:UTC
DTSTART:20220101T000000
END:STANDARD
END:VTIMEZONE
BEGIN:VEVENT
DTSTART;VALUE=DATE:20260115
DTEND;VALUE=DATE:20260119
DTSTAMP:20260421T175649
CREATED:20251208T120345Z
LAST-MODIFIED:20251216T154924Z
UID:10004291-1768435200-1768780799@atlantaparent.guidoclients.com
SUMMARY:Teen Spotlight: High School Musical
DESCRIPTION:Jock Troy and brainiac Gabriella audition for their high school’s musical\, disrupting the status quo.  Jan. 15-16\, 7:30 p.m.; Jan. 17\, 2:30 and 7:30 p.m. and Jan. 18\, 2:30 p.m. $17-$20.
URL:https://atlantaparent.guidoclients.com/event/high-school-musical-jr/
LOCATION:Woodstock Arts\, 8534 Main St.\, Woodstock
GEO:34.1017163;-84.5199758
X-APPLE-STRUCTURED-LOCATION;VALUE=URI;X-ADDRESS=Woodstock Arts 8534 Main St. Woodstock;X-APPLE-RADIUS=500;X-TITLE=8534 Main St.:geo:-84.5199758,34.1017163
END:VEVENT
BEGIN:VEVENT
DTSTART;VALUE=DATE:20251113
DTEND;VALUE=DATE:20251117
DTSTAMP:20260421T175649
CREATED:20251002T152046Z
LAST-MODIFIED:20251006T180549Z
UID:10004149-1762992000-1763337599@atlantaparent.guidoclients.com
SUMMARY:Youth Spotlight: Seussical Jr.
DESCRIPTION:Guided by The Cat in the Hat\, travel to the Jungle of Nool to meet Horton\, who has discovered a speck of dust containing Whoville. Nov. 13-16. See website for showtimes. $17-$20.
URL:https://atlantaparent.guidoclients.com/event/seussical-kids/
LOCATION:Woodstock Arts\, 8534 Main St.\, Woodstock
GEO:34.1017163;-84.5199758
X-APPLE-STRUCTURED-LOCATION;VALUE=URI;X-ADDRESS=Woodstock Arts 8534 Main St. Woodstock;X-APPLE-RADIUS=500;X-TITLE=8534 Main St.:geo:-84.5199758,34.1017163
END:VEVENT
BEGIN:VEVENT
DTSTART;TZID=America/New_York:20251101T120000
DTEND;TZID=America/New_York:20251101T120000
DTSTAMP:20260421T175649
CREATED:20250917T142907Z
LAST-MODIFIED:20250917T162903Z
UID:10007504-1761998400-1761998400@atlantaparent.guidoclients.com
SUMMARY:Día de los Muertos
DESCRIPTION:Celebrate as a community with live music\, local vendors and the creation of a community ofrenda. Free admission.
URL:https://atlantaparent.guidoclients.com/event/dia-de-los-muertos-festival-2/
LOCATION:Woodstock Arts\, 8534 Main St.\, Woodstock
GEO:34.1017163;-84.5199758
X-APPLE-STRUCTURED-LOCATION;VALUE=URI;X-ADDRESS=Woodstock Arts 8534 Main St. Woodstock;X-APPLE-RADIUS=500;X-TITLE=8534 Main St.:geo:-84.5199758,34.1017163
END:VEVENT
BEGIN:VEVENT
DTSTART;VALUE=DATE:20251010
DTEND;VALUE=DATE:20251103
DTSTAMP:20260421T175649
CREATED:20250908T142405Z
LAST-MODIFIED:20250908T153522Z
UID:10008644-1760054400-1762127999@atlantaparent.guidoclients.com
SUMMARY:Dracula: A Comedy of Terrors
DESCRIPTION:Famed vampire hunter Jean Van Helsing and his company chase Dracula from Transylvania to London with fun antics. For ages 13 and older. Oct. 10-Nov. 2. See website for showtimes. $21-$25.
URL:https://atlantaparent.guidoclients.com/event/sweeney-todd-the-demon-barber-of-fleet-street/
LOCATION:Woodstock Arts\, 8534 Main St.\, Woodstock
GEO:34.1017163;-84.5199758
X-APPLE-STRUCTURED-LOCATION;VALUE=URI;X-ADDRESS=Woodstock Arts 8534 Main St. Woodstock;X-APPLE-RADIUS=500;X-TITLE=8534 Main St.:geo:-84.5199758,34.1017163
END:VEVENT
BEGIN:VEVENT
DTSTART;VALUE=DATE:20250709
DTEND;VALUE=DATE:20250724
DTSTAMP:20260421T175649
CREATED:20250620T134749Z
LAST-MODIFIED:20250620T134749Z
UID:10009413-1752019200-1753315199@atlantaparent.guidoclients.com
SUMMARY:Digging Up Dessa
DESCRIPTION:When 19th-century English paleontologist Mary Anning mysteriously shows up\, young Dessa learns from her skills and helps her dig up dinosaur bones. July 9-23. See website for showtimes. $17-$20.
URL:https://atlantaparent.guidoclients.com/event/digging-up-dessa/
LOCATION:Woodstock Arts\, 8534 Main St.\, Woodstock
GEO:34.1017163;-84.5199758
X-APPLE-STRUCTURED-LOCATION;VALUE=URI;X-ADDRESS=Woodstock Arts 8534 Main St. Woodstock;X-APPLE-RADIUS=500;X-TITLE=8534 Main St.:geo:-84.5199758,34.1017163
END:VEVENT
BEGIN:VEVENT
DTSTART;TZID=America/New_York:20250615T150000
DTEND;TZID=America/New_York:20250615T200000
DTSTAMP:20260421T175649
CREATED:20250520T042448Z
LAST-MODIFIED:20250520T175229Z
UID:10008444-1749999600-1750017600@atlantaparent.guidoclients.com
SUMMARY:Father’s Day Band Benefit Concert
DESCRIPTION:Enjoy an afternoon of music and memories with live music\, great food and beverages and fun. This benefit helps music therapy for children with special needs. $15-$200.
URL:https://atlantaparent.guidoclients.com/event/fathers-day-band-benefit-concert/
LOCATION:Woodstock Arts\, 8534 Main St.\, Woodstock
GEO:34.1017163;-84.5199758
X-APPLE-STRUCTURED-LOCATION;VALUE=URI;X-ADDRESS=Woodstock Arts 8534 Main St. Woodstock;X-APPLE-RADIUS=500;X-TITLE=8534 Main St.:geo:-84.5199758,34.1017163
END:VEVENT
BEGIN:VEVENT
DTSTART;VALUE=DATE:20250604
DTEND;VALUE=DATE:20250619
DTSTAMP:20260421T175649
CREATED:20250516T131208Z
LAST-MODIFIED:20250520T165751Z
UID:10005873-1748995200-1750291199@atlantaparent.guidoclients.com
SUMMARY:How I Became a Pirate
DESCRIPTION:Young Jeremy Jacob is digging in the sand when he’s recruited by Captain Braid Beard and his mates to help them find the perfect spot for buried treasure. June 4-18. See website for showtimes. $17-$20.
URL:https://atlantaparent.guidoclients.com/event/how-i-became-a-pirate/
LOCATION:Woodstock Arts\, 8534 Main St.\, Woodstock
GEO:34.1017163;-84.5199758
X-APPLE-STRUCTURED-LOCATION;VALUE=URI;X-ADDRESS=Woodstock Arts 8534 Main St. Woodstock;X-APPLE-RADIUS=500;X-TITLE=8534 Main St.:geo:-84.5199758,34.1017163
END:VEVENT
BEGIN:VEVENT
DTSTART;VALUE=DATE:20250502
DTEND;VALUE=DATE:20250519
DTSTAMP:20260421T175649
CREATED:20250423T160105Z
LAST-MODIFIED:20250423T160105Z
UID:10009324-1746144000-1747612799@atlantaparent.guidoclients.com
SUMMARY:Once On This Island
DESCRIPTION:This musical tells the story of Ti Moune\, a peasant girl\, who rescues a wealthy boy from the other side of the island and falls in love with him. Recommended for ages 10+. May 2-18. See website for showtimes. $20-$25.
URL:https://atlantaparent.guidoclients.com/event/once-on-this-island/
LOCATION:Woodstock Arts\, 8534 Main St.\, Woodstock
GEO:34.1017163;-84.5199758
X-APPLE-STRUCTURED-LOCATION;VALUE=URI;X-ADDRESS=Woodstock Arts 8534 Main St. Woodstock;X-APPLE-RADIUS=500;X-TITLE=8534 Main St.:geo:-84.5199758,34.1017163
END:VEVENT
BEGIN:VEVENT
DTSTART;VALUE=DATE:20250117
DTEND;VALUE=DATE:20250127
DTSTAMP:20260421T175649
CREATED:20241213T144640Z
LAST-MODIFIED:20241213T144640Z
UID:10008924-1737072000-1737935999@atlantaparent.guidoclients.com
SUMMARY:Teen Spotlight: Twelfth Night the Musical
DESCRIPTION:Washed up on the shores of a strange new land\, Viola must disguise herself as a man\, and in the process\, she finds her true self. Jan. 17-26. See website for showtimes. $16-$20.
URL:https://atlantaparent.guidoclients.com/event/teen-spotlight-twelfth-night-the-musical/
LOCATION:Woodstock Arts\, 8534 Main St.\, Woodstock
GEO:34.1017163;-84.5199758
X-APPLE-STRUCTURED-LOCATION;VALUE=URI;X-ADDRESS=Woodstock Arts 8534 Main St. Woodstock;X-APPLE-RADIUS=500;X-TITLE=8534 Main St.:geo:-84.5199758,34.1017163
END:VEVENT
BEGIN:VEVENT
DTSTART;VALUE=DATE:20241108
DTEND;VALUE=DATE:20241118
DTSTAMP:20260421T175649
CREATED:20241021T142147Z
LAST-MODIFIED:20241021T142147Z
UID:10008764-1731024000-1731887999@atlantaparent.guidoclients.com
SUMMARY:Youth Spotlight: The Many Disguises of Robin Hood
DESCRIPTION:Watch this swashbuckling adventure full of disguises\, hijinks\, action\, adventure and fun with a new spin on the classic character of Robin Hood. Nov. 8-17. See website for showtimes. $16-$20.
URL:https://atlantaparent.guidoclients.com/event/youth-spotlight-the-many-disguises-of-robin-hood/
LOCATION:Woodstock Arts\, 8534 Main St.\, Woodstock
GEO:34.1017163;-84.5199758
X-APPLE-STRUCTURED-LOCATION;VALUE=URI;X-ADDRESS=Woodstock Arts 8534 Main St. Woodstock;X-APPLE-RADIUS=500;X-TITLE=8534 Main St.:geo:-84.5199758,34.1017163
END:VEVENT
BEGIN:VEVENT
DTSTART;VALUE=DATE:20240710
DTEND;VALUE=DATE:20240725
DTSTAMP:20260421T175649
CREATED:20240522T175605Z
LAST-MODIFIED:20240522T175605Z
UID:10008451-1720569600-1721865599@atlantaparent.guidoclients.com
SUMMARY:Aesop’s Fables on Stage!
DESCRIPTION:The master storyteller Aesop gives advice through music\, dance and hilarity with some of his most famous fables. July 10-24. See website for showtimes. $18-$23.
URL:https://atlantaparent.guidoclients.com/event/aesops-fables-on-stage/
LOCATION:Woodstock Arts\, 8534 Main St.\, Woodstock
GEO:34.1017163;-84.5199758
X-APPLE-STRUCTURED-LOCATION;VALUE=URI;X-ADDRESS=Woodstock Arts 8534 Main St. Woodstock;X-APPLE-RADIUS=500;X-TITLE=8534 Main St.:geo:-84.5199758,34.1017163
END:VEVENT
BEGIN:VEVENT
DTSTART;VALUE=DATE:20240605
DTEND;VALUE=DATE:20240620
DTSTAMP:20260421T175649
CREATED:20240521T144523Z
LAST-MODIFIED:20240605T155816Z
UID:10008433-1717545600-1718841599@atlantaparent.guidoclients.com
SUMMARY:Don’t Let the Pigeon Drive the Bus!
DESCRIPTION:Adapted from Mo Willem’s beloved picture book\, celebrate the everyday heroes and civil servants that keep communities running. June 5-19. See website for showtimes. $18-$23.
URL:https://atlantaparent.guidoclients.com/event/dont-let-the-pigeon-drive-the-bus/
LOCATION:Woodstock Arts\, 8534 Main St.\, Woodstock
ATTACH;FMTTYPE=image/jpeg:https://atlantaparent.guidoclients.com/wp-content/uploads/2024/05/P1060671-Enhanced-NR-2-e1717603082748.jpg
GEO:34.1017163;-84.5199758
X-APPLE-STRUCTURED-LOCATION;VALUE=URI;X-ADDRESS=Woodstock Arts 8534 Main St. Woodstock;X-APPLE-RADIUS=500;X-TITLE=8534 Main St.:geo:-84.5199758,34.1017163
END:VEVENT
BEGIN:VEVENT
DTSTART;VALUE=DATE:20240119
DTEND;VALUE=DATE:20240129
DTSTAMP:20260421T175649
CREATED:20231212T183819Z
LAST-MODIFIED:20240122T134156Z
UID:10007746-1705622400-1706486399@atlantaparent.guidoclients.com
SUMMARY:The SpongeBob Musical: Youth Spotlight
DESCRIPTION:When the citizens of Bikini Bottom learn a volcano will soon erupt and destroy their home\, SpongeBob and his friends must work together to save their undersea world. Jan. 19-28. See website for showtimes. $18-$23.
URL:https://atlantaparent.guidoclients.com/event/the-spongebob-musical-youth-spotlight/
LOCATION:Woodstock Arts\, 8534 Main St.\, Woodstock
ATTACH;FMTTYPE=image/png:https://atlantaparent.guidoclients.com/wp-content/uploads/2023/12/P1640085-Enhanced-NR-2-e1705326177684.png
GEO:34.1017163;-84.5199758
X-APPLE-STRUCTURED-LOCATION;VALUE=URI;X-ADDRESS=Woodstock Arts 8534 Main St. Woodstock;X-APPLE-RADIUS=500;X-TITLE=8534 Main St.:geo:-84.5199758,34.1017163
END:VEVENT
BEGIN:VEVENT
DTSTART;VALUE=DATE:20231201
DTEND;VALUE=DATE:20231225
DTSTAMP:20260421T175649
CREATED:20251025T040006Z
LAST-MODIFIED:20251027T175438Z
UID:10001008-1701388800-1703462399@atlantaparent.guidoclients.com
SUMMARY:A Christmas Carol
DESCRIPTION:This adaptation of the Broadway musical shows Ebenezer Scrooge has he’s visited by ghosts who try to convince him to change. Dec. 5-24. See website for showtimes. $21-$25.
URL:https://atlantaparent.guidoclients.com/event/a-christmas-carol/
LOCATION:Woodstock Arts\, 8534 Main St.\, Woodstock
ATTACH;FMTTYPE=image/jpeg:https://atlantaparent.guidoclients.com/wp-content/uploads/2020/10/IMG_0329-scaled-e1669049224493.jpg
GEO:34.1017163;-84.5199758
X-APPLE-STRUCTURED-LOCATION;VALUE=URI;X-ADDRESS=Woodstock Arts 8534 Main St. Woodstock;X-APPLE-RADIUS=500;X-TITLE=8534 Main St.:geo:-84.5199758,34.1017163
END:VEVENT
BEGIN:VEVENT
DTSTART;VALUE=DATE:20231103
DTEND;VALUE=DATE:20231120
DTSTAMP:20260421T175649
CREATED:20230603T155055Z
LAST-MODIFIED:20231018T172820Z
UID:10005905-1698969600-1700438399@atlantaparent.guidoclients.com
SUMMARY:Into the Woods
DESCRIPTION:Fairytale characters Cinderella\, Jack\, Rapunzel\, Little Red Riding Hood and more meet in this musical adventure. Nov. 3-19. See website for showtimes. $18-$23.
URL:https://atlantaparent.guidoclients.com/event/into-the-woods/
LOCATION:Woodstock Arts\, 8534 Main St.\, Woodstock
GEO:34.1017163;-84.5199758
X-APPLE-STRUCTURED-LOCATION;VALUE=URI;X-ADDRESS=Woodstock Arts 8534 Main St. Woodstock;X-APPLE-RADIUS=500;X-TITLE=8534 Main St.:geo:-84.5199758,34.1017163
END:VEVENT
BEGIN:VEVENT
DTSTART;VALUE=DATE:20230712
DTEND;VALUE=DATE:20230731
DTSTAMP:20260421T175649
CREATED:20190619T180054Z
LAST-MODIFIED:20230522T141102Z
UID:10004217-1689120000-1690761599@atlantaparent.guidoclients.com
SUMMARY:Matilda
DESCRIPTION:Young Matilda has an astonishing wit\, intelligence and psychokinetic powers that she uses to save herself from her cruel parents and the mean headmistress\, Miss Trunchbull. July 12-30. See website for showtimes. $15-$20.
URL:https://atlantaparent.guidoclients.com/event/matilda/
LOCATION:Woodstock Arts\, 8534 Main St.\, Woodstock
GEO:34.1017163;-84.5199758
X-APPLE-STRUCTURED-LOCATION;VALUE=URI;X-ADDRESS=Woodstock Arts 8534 Main St. Woodstock;X-APPLE-RADIUS=500;X-TITLE=8534 Main St.:geo:-84.5199758,34.1017163
END:VEVENT
BEGIN:VEVENT
DTSTART;VALUE=DATE:20230513
DTEND;VALUE=DATE:20230515
DTSTAMP:20260421T175649
CREATED:20230329T124618Z
LAST-MODIFIED:20230426T164151Z
UID:10006807-1683936000-1684108799@atlantaparent.guidoclients.com
SUMMARY:Art on the Green: Spring 2023
DESCRIPTION:Local artists display their wares\, including paintings\, mixed\, media\, photography and more. May 13\, 10 a.m.-6 p.m. and May 14\, 11 a.m.-5 p.m. Free admission.
URL:https://atlantaparent.guidoclients.com/event/art-on-the-green-spring-2023/
LOCATION:Woodstock Arts\, 8534 Main St.\, Woodstock
ATTACH;FMTTYPE=image/png:https://atlantaparent.guidoclients.com/wp-content/uploads/2023/03/P1320029-e1682527301599.png
GEO:34.1017163;-84.5199758
X-APPLE-STRUCTURED-LOCATION;VALUE=URI;X-ADDRESS=Woodstock Arts 8534 Main St. Woodstock;X-APPLE-RADIUS=500;X-TITLE=8534 Main St.:geo:-84.5199758,34.1017163
END:VEVENT
BEGIN:VEVENT
DTSTART;VALUE=DATE:20230120
DTEND;VALUE=DATE:20230130
DTSTAMP:20260421T175649
CREATED:20190515T182222Z
LAST-MODIFIED:20221207T191526Z
UID:10004169-1674172800-1675036799@atlantaparent.guidoclients.com
SUMMARY:The Lightning Thief
DESCRIPTION:  \nBased on the best-selling book series by Rick Riordan\, watch the adventures of Percy Jackson as he discovers he’s the half-blood son of a Greek god. Jan. 20-29. See website for showtimes. $18-$23.
URL:https://atlantaparent.guidoclients.com/event/the-lightning-thief-the-percy-jackson-musical/
LOCATION:Woodstock Arts\, 8534 Main St.\, Woodstock
GEO:34.1017163;-84.5199758
X-APPLE-STRUCTURED-LOCATION;VALUE=URI;X-ADDRESS=Woodstock Arts 8534 Main St. Woodstock;X-APPLE-RADIUS=500;X-TITLE=8534 Main St.:geo:-84.5199758,34.1017163
END:VEVENT
BEGIN:VEVENT
DTSTART;VALUE=DATE:20230106
DTEND;VALUE=DATE:20230116
DTSTAMP:20260421T175649
CREATED:20221207T191842Z
LAST-MODIFIED:20221207T191842Z
UID:10006707-1672963200-1673827199@atlantaparent.guidoclients.com
SUMMARY:Every Brilliant Thing
DESCRIPTION:At six years old\, you’re told your mother finds it hard to be happy\, so to help her\, you make a list of every brilliant thing about the world. Recommended for ages 10+. Jan. 6-15. See website for showtimes. $18-$23.
URL:https://atlantaparent.guidoclients.com/event/every-brilliant-thing/
LOCATION:Woodstock Arts\, 8534 Main St.\, Woodstock
GEO:34.1017163;-84.5199758
X-APPLE-STRUCTURED-LOCATION;VALUE=URI;X-ADDRESS=Woodstock Arts 8534 Main St. Woodstock;X-APPLE-RADIUS=500;X-TITLE=8534 Main St.:geo:-84.5199758,34.1017163
END:VEVENT
BEGIN:VEVENT
DTSTART;VALUE=DATE:20221111
DTEND;VALUE=DATE:20221121
DTSTAMP:20260421T175649
CREATED:20221013T190634Z
LAST-MODIFIED:20221013T190634Z
UID:10006648-1668124800-1668988799@atlantaparent.guidoclients.com
SUMMARY:Charlotte’s Web
DESCRIPTION:Determined to save young pig Wilbur from the butcher\, the extraordinary spider Charlotte weaves compliments in her web. Nov. 11-20. See website for showtimes. $18-$23.
URL:https://atlantaparent.guidoclients.com/event/charlottes-web-2/
LOCATION:Woodstock Arts\, 8534 Main St.\, Woodstock
GEO:34.1017163;-84.5199758
X-APPLE-STRUCTURED-LOCATION;VALUE=URI;X-ADDRESS=Woodstock Arts 8534 Main St. Woodstock;X-APPLE-RADIUS=500;X-TITLE=8534 Main St.:geo:-84.5199758,34.1017163
END:VEVENT
BEGIN:VEVENT
DTSTART;VALUE=DATE:20221028
DTEND;VALUE=DATE:20221113
DTSTAMP:20260421T175649
CREATED:20230913T153548Z
LAST-MODIFIED:20230914T153325Z
UID:10006576-1666915200-1668297599@atlantaparent.guidoclients.com
SUMMARY:Clue: Teen Spotlight
DESCRIPTION:This hilarious farce-meets murder mystery story is inspired by the classic Hasbro board game. Recommended for ages 10 and older. Oct. 13-22. See website for showtimes. $18-$23.
URL:https://atlantaparent.guidoclients.com/event/clue-on-stage/
LOCATION:Woodstock Arts\, 8534 Main St.\, Woodstock
GEO:34.1017163;-84.5199758
X-APPLE-STRUCTURED-LOCATION;VALUE=URI;X-ADDRESS=Woodstock Arts 8534 Main St. Woodstock;X-APPLE-RADIUS=500;X-TITLE=8534 Main St.:geo:-84.5199758,34.1017163
END:VEVENT
BEGIN:VEVENT
DTSTART;VALUE=DATE:20221014
DTEND;VALUE=DATE:20221031
DTSTAMP:20260421T175649
CREATED:20220912T182511Z
LAST-MODIFIED:20220912T182511Z
UID:10006545-1665705600-1667174399@atlantaparent.guidoclients.com
SUMMARY:The Rocky Horror Show
DESCRIPTION:A suburban couple get stranded with a group of misfit cinephiles and a creepy castle. Oct. 14-30. See website for showtimes. $18-$23.
URL:https://atlantaparent.guidoclients.com/event/the-rocky-horror-show/
LOCATION:Woodstock Arts\, 8534 Main St.\, Woodstock
GEO:34.1017163;-84.5199758
X-APPLE-STRUCTURED-LOCATION;VALUE=URI;X-ADDRESS=Woodstock Arts 8534 Main St. Woodstock;X-APPLE-RADIUS=500;X-TITLE=8534 Main St.:geo:-84.5199758,34.1017163
END:VEVENT
BEGIN:VEVENT
DTSTART;VALUE=DATE:20220930
DTEND;VALUE=DATE:20221003
DTSTAMP:20260421T175649
CREATED:20220815T180947Z
LAST-MODIFIED:20220815T180947Z
UID:10006493-1664496000-1664755199@atlantaparent.guidoclients.com
SUMMARY:Sunday in the Park with George
DESCRIPTION:Painter Georges Seurat and his future descendant are struggling artistically when their paths magically cross in this musical. Sept. 30-Oct. 1\, 7:30 p.m. and Oct. 2\, 2:30 p.m. $18-$23. \n 
URL:https://atlantaparent.guidoclients.com/event/sunday-in-the-park-with-george/
LOCATION:Woodstock Arts\, 8534 Main St.\, Woodstock
GEO:34.1017163;-84.5199758
X-APPLE-STRUCTURED-LOCATION;VALUE=URI;X-ADDRESS=Woodstock Arts 8534 Main St. Woodstock;X-APPLE-RADIUS=500;X-TITLE=8534 Main St.:geo:-84.5199758,34.1017163
END:VEVENT
BEGIN:VEVENT
DTSTART;VALUE=DATE:20220713
DTEND;VALUE=DATE:20220728
DTSTAMP:20260421T175649
CREATED:20220614T141638Z
LAST-MODIFIED:20220614T141638Z
UID:10006414-1657670400-1658966399@atlantaparent.guidoclients.com
SUMMARY:James and the Giant Peach
DESCRIPTION:Based on the children’s story from Roald Dahl\, James discovers a magic potion which results in a gigantic peach and an exciting journey. July 13-27. See website for showtimes. $13.50-$18.
URL:https://atlantaparent.guidoclients.com/event/james-and-the-giant-peach-2/
LOCATION:Woodstock Arts\, 8534 Main St.\, Woodstock
GEO:34.1017163;-84.5199758
X-APPLE-STRUCTURED-LOCATION;VALUE=URI;X-ADDRESS=Woodstock Arts 8534 Main St. Woodstock;X-APPLE-RADIUS=500;X-TITLE=8534 Main St.:geo:-84.5199758,34.1017163
END:VEVENT
BEGIN:VEVENT
DTSTART;VALUE=DATE:20220608
DTEND;VALUE=DATE:20220623
DTSTAMP:20260421T175649
CREATED:20220502T144343Z
LAST-MODIFIED:20220502T144343Z
UID:10006371-1654646400-1655942399@atlantaparent.guidoclients.com
SUMMARY:Orphie and the Book of Heroes
DESCRIPTION:This musical adventure shows a twist on Greek mythology as spunky Orphie sets sail on a quest which takes her from Mt. Olympus to the underworld\, meeting hero Heracles and comical Hades along the way. June 8-22. See website for showtimes. $13.50-$18.
URL:https://atlantaparent.guidoclients.com/event/orphie-and-the-book-of-heroes/
LOCATION:Woodstock Arts\, 8534 Main St.\, Woodstock
GEO:34.1017163;-84.5199758
X-APPLE-STRUCTURED-LOCATION;VALUE=URI;X-ADDRESS=Woodstock Arts 8534 Main St. Woodstock;X-APPLE-RADIUS=500;X-TITLE=8534 Main St.:geo:-84.5199758,34.1017163
END:VEVENT
BEGIN:VEVENT
DTSTART;TZID=America/New_York:20211030T193000
DTEND;TZID=America/New_York:20211030T193000
DTSTAMP:20260421T175649
CREATED:20210311T191014Z
LAST-MODIFIED:20210603T132749Z
UID:10005107-1635622200-1635622200@atlantaparent.guidoclients.com
SUMMARY:Lantern Series
DESCRIPTION:This series consists of different genres\, backgrounds and ideologies to enjoy a night of music. 7:30 p.m. $13-$24.\nJune 5 – Swedish Jam Factory\nJune 26 – The Foxies\nJuly 17 – Scott Mulvahill\nJuly 31 – JigJam\nAug. 7 – Keith Anderson\nAug. 28 – Marc Broussard\nSept. 25 – The Black Market Trust\nOct. 16 – We Banjo 3\nOct. 30 – Argonaut & Wasp
URL:https://atlantaparent.guidoclients.com/event/lantern-series/2021-10-30/
LOCATION:Woodstock Arts\, 8534 Main St.\, Woodstock
GEO:34.1017163;-84.5199758
X-APPLE-STRUCTURED-LOCATION;VALUE=URI;X-ADDRESS=Woodstock Arts 8534 Main St. Woodstock;X-APPLE-RADIUS=500;X-TITLE=8534 Main St.:geo:-84.5199758,34.1017163
END:VEVENT
BEGIN:VEVENT
DTSTART;VALUE=DATE:20211015
DTEND;VALUE=DATE:20211018
DTSTAMP:20260421T175649
CREATED:20210908T190734Z
LAST-MODIFIED:20210908T190734Z
UID:10005968-1634256000-1634515199@atlantaparent.guidoclients.com
SUMMARY:Descendants
DESCRIPTION:Based on the Disney Channel Original Movies\, this musical follows the children of Maleficent\, the Evil Queen\, Cruella De Vil and Jafar who are welcomed to Auradon Prep to attend school with the children of their parents’ sworn enemies. Oct. 8-9\, 15-16\, 7:30 p.m. and Oct. 10 and 17\, 2:30 p.m. $13.50-$18.
URL:https://atlantaparent.guidoclients.com/event/descendants/2021-10-15/
LOCATION:Woodstock Arts\, 8534 Main St.\, Woodstock
GEO:34.1017163;-84.5199758
X-APPLE-STRUCTURED-LOCATION;VALUE=URI;X-ADDRESS=Woodstock Arts 8534 Main St. Woodstock;X-APPLE-RADIUS=500;X-TITLE=8534 Main St.:geo:-84.5199758,34.1017163
END:VEVENT
BEGIN:VEVENT
DTSTART;VALUE=DATE:20210813
DTEND;VALUE=DATE:20210830
DTSTAMP:20260421T175650
CREATED:20210730T180249Z
LAST-MODIFIED:20210730T180249Z
UID:10005912-1628812800-1630281599@atlantaparent.guidoclients.com
SUMMARY:Legally Blonde
DESCRIPTION:In this musical\, Elle Woods enrolls at Harvard Law School to win back her ex-boyfriend\, but she defies expectations when she’s capable of using her knowledge in a murder trial. Recommended for ages 13+. Aug. 13-14\, 20-21\, 27-28\, 7:30 p.m. and Aug. 15\, 22 and 29\, 2:30 p.m. $15.75-$20.
URL:https://atlantaparent.guidoclients.com/event/legally-blonde/
LOCATION:Woodstock Arts\, 8534 Main St.\, Woodstock
GEO:34.1017163;-84.5199758
X-APPLE-STRUCTURED-LOCATION;VALUE=URI;X-ADDRESS=Woodstock Arts 8534 Main St. Woodstock;X-APPLE-RADIUS=500;X-TITLE=8534 Main St.:geo:-84.5199758,34.1017163
END:VEVENT
BEGIN:VEVENT
DTSTART;TZID=America/New_York:20210710T193000
DTEND;TZID=America/New_York:20210710T193000
DTSTAMP:20260421T175650
CREATED:20210202T154107Z
LAST-MODIFIED:20210202T190431Z
UID:10005665-1625945400-1625945400@atlantaparent.guidoclients.com
SUMMARY:The Lasting Laugh
DESCRIPTION:This stand-up comedy series brings in two different Atlanta-based comedians hosted by Jessica It’s All Good. Also available as a digital livestream. Recommended for ages 12+. $10. \n\nFeb. 13\, 7:30 p.m.; streaming from Feb. 13-27.\nMarch 20\, 7:30 p.m.; streaming from March 20-April 3\nApril 10\, 7:30 p.m.; streaming from April 10-24\nMay 8\, 7:30 p.m.; streaming from May 8-22\nJune 19\, 7:30 p.m.; streaming from June 19-July 3\nJuly 10\, 7:30 p.m.; streaming July 10-24
URL:https://atlantaparent.guidoclients.com/event/the-lasting-laugh/2021-07-10/
LOCATION:Woodstock Arts\, 8534 Main St.\, Woodstock
ATTACH;FMTTYPE=image/jpeg:https://atlantaparent.guidoclients.com/wp-content/uploads/2021/02/Were-All-Chocolate-Event-Archival-Calven-Mitchell.jpg
GEO:34.1017163;-84.5199758
X-APPLE-STRUCTURED-LOCATION;VALUE=URI;X-ADDRESS=Woodstock Arts 8534 Main St. Woodstock;X-APPLE-RADIUS=500;X-TITLE=8534 Main St.:geo:-84.5199758,34.1017163
END:VEVENT
BEGIN:VEVENT
DTSTART;VALUE=DATE:20210311
DTEND;VALUE=DATE:20210315
DTSTAMP:20260421T175650
CREATED:20210216T184141Z
LAST-MODIFIED:20210216T184141Z
UID:10005590-1615420800-1615766399@atlantaparent.guidoclients.com
SUMMARY:Freaky Friday
DESCRIPTION:An uber-organized mother and her spontaneous teenage daughter magically swap bodies\, and they only have one day to figure out how to switch back. March 11-14. Thur.-Sat. 7:30 p.m. and Sat.-Sun. 2:30 p.m. $13.50-$16.
URL:https://atlantaparent.guidoclients.com/event/freaky-friday-2/
LOCATION:Woodstock Arts\, 8534 Main St.\, Woodstock
GEO:34.1017163;-84.5199758
X-APPLE-STRUCTURED-LOCATION;VALUE=URI;X-ADDRESS=Woodstock Arts 8534 Main St. Woodstock;X-APPLE-RADIUS=500;X-TITLE=8534 Main St.:geo:-84.5199758,34.1017163
END:VEVENT
END:VCALENDAR