BEGIN:VCALENDAR
VERSION:2.0
PRODID:-//OLD Atlanta Parent - ECPv6.15.11//NONSGML v1.0//EN
CALSCALE:GREGORIAN
METHOD:PUBLISH
X-ORIGINAL-URL:https://atlantaparent.guidoclients.com
X-WR-CALDESC:Events for OLD Atlanta Parent
REFRESH-INTERVAL;VALUE=DURATION:PT1H
X-Robots-Tag:noindex
X-PUBLISHED-TTL:PT1H
BEGIN:VTIMEZONE
TZID:America/New_York
BEGIN:DAYLIGHT
TZOFFSETFROM:-0500
TZOFFSETTO:-0400
TZNAME:EDT
DTSTART:20180311T070000
END:DAYLIGHT
BEGIN:STANDARD
TZOFFSETFROM:-0400
TZOFFSETTO:-0500
TZNAME:EST
DTSTART:20181104T060000
END:STANDARD
BEGIN:DAYLIGHT
TZOFFSETFROM:-0500
TZOFFSETTO:-0400
TZNAME:EDT
DTSTART:20190310T070000
END:DAYLIGHT
BEGIN:STANDARD
TZOFFSETFROM:-0400
TZOFFSETTO:-0500
TZNAME:EST
DTSTART:20191103T060000
END:STANDARD
BEGIN:DAYLIGHT
TZOFFSETFROM:-0500
TZOFFSETTO:-0400
TZNAME:EDT
DTSTART:20200308T070000
END:DAYLIGHT
BEGIN:STANDARD
TZOFFSETFROM:-0400
TZOFFSETTO:-0500
TZNAME:EST
DTSTART:20201101T060000
END:STANDARD
BEGIN:DAYLIGHT
TZOFFSETFROM:-0500
TZOFFSETTO:-0400
TZNAME:EDT
DTSTART:20210314T070000
END:DAYLIGHT
BEGIN:STANDARD
TZOFFSETFROM:-0400
TZOFFSETTO:-0500
TZNAME:EST
DTSTART:20211107T060000
END:STANDARD
BEGIN:DAYLIGHT
TZOFFSETFROM:-0500
TZOFFSETTO:-0400
TZNAME:EDT
DTSTART:20220313T070000
END:DAYLIGHT
BEGIN:STANDARD
TZOFFSETFROM:-0400
TZOFFSETTO:-0500
TZNAME:EST
DTSTART:20221106T060000
END:STANDARD
BEGIN:DAYLIGHT
TZOFFSETFROM:-0500
TZOFFSETTO:-0400
TZNAME:EDT
DTSTART:20230312T070000
END:DAYLIGHT
BEGIN:STANDARD
TZOFFSETFROM:-0400
TZOFFSETTO:-0500
TZNAME:EST
DTSTART:20231105T060000
END:STANDARD
BEGIN:DAYLIGHT
TZOFFSETFROM:-0500
TZOFFSETTO:-0400
TZNAME:EDT
DTSTART:20240310T070000
END:DAYLIGHT
BEGIN:STANDARD
TZOFFSETFROM:-0400
TZOFFSETTO:-0500
TZNAME:EST
DTSTART:20241103T060000
END:STANDARD
END:VTIMEZONE
BEGIN:VEVENT
DTSTART;TZID=America/New_York:20231111T090000
DTEND;TZID=America/New_York:20231111T150000
DTSTAMP:20260422T085359
CREATED:20231011T203855Z
LAST-MODIFIED:20231012T160319Z
UID:10006032-1699693200-1699714800@atlantaparent.guidoclients.com
SUMMARY:Holiday Festival
DESCRIPTION:This juried show features arts and crafts from artisans\, as well as a kid’s zone\, photos with Santa\, food trucks and more.
URL:https://atlantaparent.guidoclients.com/event/holiday-festival-2/
LOCATION:Dunwoody United Methodist Church\, 1548 Mt. Vernon Road\, Dunwoody
GEO:33.9455843;-84.3364917
X-APPLE-STRUCTURED-LOCATION;VALUE=URI;X-ADDRESS=Dunwoody United Methodist Church 1548 Mt. Vernon Road Dunwoody;X-APPLE-RADIUS=500;X-TITLE=1548 Mt. Vernon Road:geo:-84.3364917,33.9455843
END:VEVENT
BEGIN:VEVENT
DTSTART;TZID=America/New_York:20191102T080000
DTEND;TZID=America/New_York:20191102T150000
DTSTAMP:20260422T085359
CREATED:20191017T040016Z
LAST-MODIFIED:20191017T181652Z
UID:10002443-1572681600-1572706800@atlantaparent.guidoclients.com
SUMMARY:Holiday Festival
DESCRIPTION:More than 120 art and craft vendors\, gourmet food\, children’s activities and photos with Santa. Free admission; activities extra.
URL:https://atlantaparent.guidoclients.com/event/holiday-festival/
LOCATION:Dunwoody United Methodist Church\, 1548 Mt. Vernon Road\, Dunwoody
GEO:33.9455843;-84.3364917
X-APPLE-STRUCTURED-LOCATION;VALUE=URI;X-ADDRESS=Dunwoody United Methodist Church 1548 Mt. Vernon Road Dunwoody;X-APPLE-RADIUS=500;X-TITLE=1548 Mt. Vernon Road:geo:-84.3364917,33.9455843
END:VEVENT
END:VCALENDAR