BEGIN:VCALENDAR
VERSION:2.0
PRODID:-//OLD Atlanta Parent - ECPv6.15.11//NONSGML v1.0//EN
CALSCALE:GREGORIAN
METHOD:PUBLISH
X-WR-CALNAME:OLD Atlanta Parent
X-ORIGINAL-URL:https://atlantaparent.guidoclients.com
X-WR-CALDESC:Events for OLD Atlanta Parent
REFRESH-INTERVAL;VALUE=DURATION:PT1H
X-Robots-Tag:noindex
X-PUBLISHED-TTL:PT1H
BEGIN:VTIMEZONE
TZID:America/New_York
BEGIN:DAYLIGHT
TZOFFSETFROM:-0500
TZOFFSETTO:-0400
TZNAME:EDT
DTSTART:20180311T070000
END:DAYLIGHT
BEGIN:STANDARD
TZOFFSETFROM:-0400
TZOFFSETTO:-0500
TZNAME:EST
DTSTART:20181104T060000
END:STANDARD
BEGIN:DAYLIGHT
TZOFFSETFROM:-0500
TZOFFSETTO:-0400
TZNAME:EDT
DTSTART:20190310T070000
END:DAYLIGHT
BEGIN:STANDARD
TZOFFSETFROM:-0400
TZOFFSETTO:-0500
TZNAME:EST
DTSTART:20191103T060000
END:STANDARD
BEGIN:DAYLIGHT
TZOFFSETFROM:-0500
TZOFFSETTO:-0400
TZNAME:EDT
DTSTART:20200308T070000
END:DAYLIGHT
BEGIN:STANDARD
TZOFFSETFROM:-0400
TZOFFSETTO:-0500
TZNAME:EST
DTSTART:20201101T060000
END:STANDARD
BEGIN:DAYLIGHT
TZOFFSETFROM:-0500
TZOFFSETTO:-0400
TZNAME:EDT
DTSTART:20210314T070000
END:DAYLIGHT
BEGIN:STANDARD
TZOFFSETFROM:-0400
TZOFFSETTO:-0500
TZNAME:EST
DTSTART:20211107T060000
END:STANDARD
BEGIN:DAYLIGHT
TZOFFSETFROM:-0500
TZOFFSETTO:-0400
TZNAME:EDT
DTSTART:20220313T070000
END:DAYLIGHT
BEGIN:STANDARD
TZOFFSETFROM:-0400
TZOFFSETTO:-0500
TZNAME:EST
DTSTART:20221106T060000
END:STANDARD
BEGIN:DAYLIGHT
TZOFFSETFROM:-0500
TZOFFSETTO:-0400
TZNAME:EDT
DTSTART:20230312T070000
END:DAYLIGHT
BEGIN:STANDARD
TZOFFSETFROM:-0400
TZOFFSETTO:-0500
TZNAME:EST
DTSTART:20231105T060000
END:STANDARD
BEGIN:DAYLIGHT
TZOFFSETFROM:-0500
TZOFFSETTO:-0400
TZNAME:EDT
DTSTART:20240310T070000
END:DAYLIGHT
BEGIN:STANDARD
TZOFFSETFROM:-0400
TZOFFSETTO:-0500
TZNAME:EST
DTSTART:20241103T060000
END:STANDARD
BEGIN:DAYLIGHT
TZOFFSETFROM:-0500
TZOFFSETTO:-0400
TZNAME:EDT
DTSTART:20250309T070000
END:DAYLIGHT
BEGIN:STANDARD
TZOFFSETFROM:-0400
TZOFFSETTO:-0500
TZNAME:EST
DTSTART:20251102T060000
END:STANDARD
BEGIN:DAYLIGHT
TZOFFSETFROM:-0500
TZOFFSETTO:-0400
TZNAME:EDT
DTSTART:20260308T070000
END:DAYLIGHT
BEGIN:STANDARD
TZOFFSETFROM:-0400
TZOFFSETTO:-0500
TZNAME:EST
DTSTART:20261101T060000
END:STANDARD
END:VTIMEZONE
BEGIN:VEVENT
DTSTART;TZID=America/New_York:20251206T160000
DTEND;TZID=America/New_York:20251206T200000
DTSTAMP:20260422T225614
CREATED:20241015T190936Z
LAST-MODIFIED:20251021T212957Z
UID:10004623-1765036800-1765051200@atlantaparent.guidoclients.com
SUMMARY:Peachtree City Hometown Holiday
DESCRIPTION:Peachtree City welcomes in the holiday season with crafts\, food\, a gift market\, Santa\, a tree lighting and more. Free admission.
URL:https://atlantaparent.guidoclients.com/event/peachtree-city-hometown-holiday/
LOCATION:Drake Field\, 155 Willowbend Rd.\, Peachtree City
ATTACH;FMTTYPE=image/jpeg:https://atlantaparent.guidoclients.com/wp-content/uploads/2020/10/IMG_1876-scaled-e1669051176494.jpg
END:VEVENT
BEGIN:VEVENT
DTSTART;TZID=America/New_York:20251024T170000
DTEND;TZID=America/New_York:20251024T210000
DTSTAMP:20260422T225614
CREATED:20250903T194459Z
LAST-MODIFIED:20250908T150011Z
UID:10008606-1761325200-1761339600@atlantaparent.guidoclients.com
SUMMARY:Peachtree City Fall Festival & Movie Night
DESCRIPTION:Celebrate the fall season with games\, activities\, food and more. Free admission.
URL:https://atlantaparent.guidoclients.com/event/peachtree-city-fall-festival-movie-night-2/
LOCATION:Drake Field\, 155 Willowbend Rd.\, Peachtree City
END:VEVENT
BEGIN:VEVENT
DTSTART;TZID=America/New_York:20250927T080000
DTEND;TZID=America/New_York:20250927T160000
DTSTAMP:20260422T225614
CREATED:20250820T125913Z
LAST-MODIFIED:20250822T171029Z
UID:10009530-1758960000-1758988800@atlantaparent.guidoclients.com
SUMMARY:Peachtree City Dragon Boat & International Festival
DESCRIPTION:Watch fast-paced 200m races on Lake Peachtree\, and enjoy live entertainment\, food trucks\, artisan vendors and more. Free admission.
URL:https://atlantaparent.guidoclients.com/event/peachtree-city-dragon-boat-international-festival/
LOCATION:Drake Field\, 155 Willowbend Rd.\, Peachtree City
END:VEVENT
BEGIN:VEVENT
DTSTART;TZID=America/New_York:20250627T170000
DTEND;TZID=America/New_York:20250627T220000
DTSTAMP:20260422T225614
CREATED:20250408T152300Z
LAST-MODIFIED:20250625T185628Z
UID:10006447-1751043600-1751061600@atlantaparent.guidoclients.com
SUMMARY:Night Market 
DESCRIPTION:Shop vendors for arts\, food and desserts\, and listen to live entertainment. Free admission.
URL:https://atlantaparent.guidoclients.com/event/night-market/
LOCATION:Drake Field\, 155 Willowbend Rd.\, Peachtree City
END:VEVENT
BEGIN:VEVENT
DTSTART;TZID=America/New_York:20250517T120000
DTEND;TZID=America/New_York:20250517T150000
DTSTAMP:20260422T225614
CREATED:20250423T175212Z
LAST-MODIFIED:20250423T175212Z
UID:10009329-1747483200-1747494000@atlantaparent.guidoclients.com
SUMMARY:Kids to Parks Day
DESCRIPTION:Celebrate with fun\, games\, food\, informational talks from experts and more. Free admission.
URL:https://atlantaparent.guidoclients.com/event/kids-to-parks-day-3/
LOCATION:Drake Field\, 155 Willowbend Rd.\, Peachtree City
END:VEVENT
BEGIN:VEVENT
DTSTART;TZID=America/New_York:20241005T150000
DTEND;TZID=America/New_York:20241005T210000
DTSTAMP:20260422T225614
CREATED:20240801T161251Z
LAST-MODIFIED:20240821T141058Z
UID:10006504-1728140400-1728162000@atlantaparent.guidoclients.com
SUMMARY:Hispanic Heritage Festival of Peachtree City
DESCRIPTION:This festival showcases Hispanic culture\, music and dance with live entertainment\, food trucks and more.
URL:https://atlantaparent.guidoclients.com/event/hispanic-heritage-festival-of-peachtree-city/
LOCATION:Drake Field\, 155 Willowbend Rd.\, Peachtree City
END:VEVENT
BEGIN:VEVENT
DTSTART;TZID=America/New_York:20220826T190000
DTEND;TZID=America/New_York:20220826T220000
DTSTAMP:20260422T225614
CREATED:20210507T143336Z
LAST-MODIFIED:20220511T183738Z
UID:10005780-1661540400-1661551200@atlantaparent.guidoclients.com
SUMMARY:Sunset Sounds
DESCRIPTION:Music begins at 7 p.m.
URL:https://atlantaparent.guidoclients.com/event/sunset-sounds/2022-08-26/
LOCATION:Drake Field\, 155 Willowbend Rd.\, Peachtree City
END:VEVENT
BEGIN:VEVENT
DTSTART;VALUE=DATE:20191017
DTEND;VALUE=DATE:20191019
DTSTAMP:20260422T225614
CREATED:20200712T133126Z
LAST-MODIFIED:20200831T192618Z
UID:10004415-1571270400-1571443199@atlantaparent.guidoclients.com
SUMMARY:Magnolia Fine Arts Festival
DESCRIPTION:Celebrate arts that benefit Fayette school art programs with a juried fine arts market\, student art exhibit\, food\, kids’ corner and more. Oct. 17-18. Free admission.
URL:https://atlantaparent.guidoclients.com/event/magnolia-fine-arts-festival/
LOCATION:Drake Field\, 155 Willowbend Rd.\, Peachtree City
END:VEVENT
END:VCALENDAR