BEGIN:VCALENDAR
VERSION:2.0
PRODID:-//OLD Atlanta Parent - ECPv6.15.11//NONSGML v1.0//EN
CALSCALE:GREGORIAN
METHOD:PUBLISH
X-WR-CALNAME:OLD Atlanta Parent
X-ORIGINAL-URL:https://atlantaparent.guidoclients.com
X-WR-CALDESC:Events for OLD Atlanta Parent
REFRESH-INTERVAL;VALUE=DURATION:PT1H
X-Robots-Tag:noindex
X-PUBLISHED-TTL:PT1H
BEGIN:VTIMEZONE
TZID:America/New_York
BEGIN:DAYLIGHT
TZOFFSETFROM:-0500
TZOFFSETTO:-0400
TZNAME:EDT
DTSTART:20190310T070000
END:DAYLIGHT
BEGIN:STANDARD
TZOFFSETFROM:-0400
TZOFFSETTO:-0500
TZNAME:EST
DTSTART:20191103T060000
END:STANDARD
BEGIN:DAYLIGHT
TZOFFSETFROM:-0500
TZOFFSETTO:-0400
TZNAME:EDT
DTSTART:20200308T070000
END:DAYLIGHT
BEGIN:STANDARD
TZOFFSETFROM:-0400
TZOFFSETTO:-0500
TZNAME:EST
DTSTART:20201101T060000
END:STANDARD
BEGIN:DAYLIGHT
TZOFFSETFROM:-0500
TZOFFSETTO:-0400
TZNAME:EDT
DTSTART:20210314T070000
END:DAYLIGHT
BEGIN:STANDARD
TZOFFSETFROM:-0400
TZOFFSETTO:-0500
TZNAME:EST
DTSTART:20211107T060000
END:STANDARD
END:VTIMEZONE
BEGIN:VEVENT
DTSTART;TZID=America/New_York:20200411T100000
DTEND;TZID=America/New_York:20200411T140000
DTSTAMP:20260423T042228
CREATED:20200305T185802Z
LAST-MODIFIED:20200324T174408Z
UID:10005010-1586599200-1586613600@atlantaparent.guidoclients.com
SUMMARY:Duluth Rotary Car Show
DESCRIPTION:Due to cancellations to prevent the spread of coronavirus\, please verify event before you go. \nSee exotic cars\, antique classics\, foreign sports\, hot rods and more\, along with music\, a raffle and food.
URL:https://atlantaparent.guidoclients.com/event/duluth-rotary-car-show/
LOCATION:Downtown Duluth\, Main St.\, Duluth
GEO:46.7339512;-92.1762692
X-APPLE-STRUCTURED-LOCATION;VALUE=URI;X-ADDRESS=Downtown Duluth Main St. Duluth;X-APPLE-RADIUS=500;X-TITLE=Main St.:geo:-92.1762692,46.7339512
END:VEVENT
END:VCALENDAR